Workbook

Sheet Proyectos
A1: SEGUIMIENTO DE PROYECTOS CLUSTER DEFENSA v1.4 | J1: Tras marcar un proyecto como Desestimado: Ctrl+Alt+L (Datos > Volver a aplicar)
A2: Nº | B2: Tipo | C2: Proyecto | D2: Cliente | E2: Fecha Max. | F2: Importe máximo de licitación (€) | G2: Importe ofertado (€) | H2: Estado | I2: Info adicional | J2: SGCOL | K2: FechaDia | L2: Slot | M2: Clave | N2: DesestNº
A3: 64 | B3: Abierto | C3: EXP MNTB26-089 - Lote 2 “Monitores | D3: THYSSEN | E3: 46230.417 | F3: 10000 | G3: 4350 | H3: Ganada | I3: URL Contratación | J3: 26002794 | K3: =IF($E3="","",INT($E3)) -> 46230 | L3: =IF($K3="","",COUNTIF($K$3:$K3,$K3)) -> 1 | M3: =IF($K3="","",$K3*100+$L3) -> 4623001 | N3: =IF($H3="Desestimado",COUNTIF($H$3:$H3,"Desestimado"),"")
A4: 65 | B4: Menor | C4: EXP EXP 2026/00511 | TRIBUNAL CONSTITUCIONAL | COMUN INALAMBRICAS | 07/08/2026 | D4: T. CONSTITUCIONAL | E4: 46241.999 | F4: 13500 | G4: 9760 | H4: Perdida | I4: Perdido… por 127€ se lo lleva ACUNTIA | J4: 26003349 | K4: =IF($E4="","",INT($E4)) -> 46241 | L4: =IF($K4="","",COUNTIF($K$3:$K4,$K4)) -> 1 | M4: =IF($K4="","",$K4*100+$L4) -> 4624101 | N4: =IF($H4="Desestimado",COUNTIF($H$3:$H4,"Desestimado"),"")
A5: 0 | B5: SDA24/22 | C5: EXP 2026/ETSAE0904/00000537E | JCISAT | Adq equipos comunicaciones | D5: JCISAT | E5: 46269.521 | F5: 471.074,37 € | H5: Desestimado | K5: =IF($E5="","",INT($E5)) -> 46269 | L5: =IF($K5="","",COUNTIF($K$3:$K5,$K5)) -> 1 | M5: =IF($K5="","",$K5*100+$L5) -> 4626901 | N5: =IF($H5="Desestimado",COUNTIF($H$3:$H5,"Desestimado"),"") -> 1
A6: 1 | B6: SDA25/22 | C6: EXP 202600000163 | MINECO | Sum. Lic. Software | | D6: MINECO | E6: 46269.999 | F6: 337724.05 | G6: 337343.45 | H6: Presentado | J6: 26003814 | K6: =IF($E6="","",INT($E6)) -> 46269 | L6: =IF($K6="","",COUNTIF($K$3:$K6,$K6)) -> 2 | M6: =IF($K6="","",$K6*100+$L6) -> 4626902 | N6: =IF($H6="Desestimado",COUNTIF($H$3:$H6,"Desestimado"),"")
A7: 2 | B7: SDA24/22 | C7: EXP 2026/SP02002001/00001401E | MDE | Sum equip y licencias CIFAS | D7: CIFAS | E7: 46272.542 | F7: 1190082.6 | H7: Desestimado | K7: =IF($E7="","",INT($E7)) -> 46272 | L7: =IF($K7="","",COUNTIF($K$3:$K7,$K7)) -> 1 | M7: =IF($K7="","",$K7*100+$L7) -> 4627201 | N7: =IF($H7="Desestimado",COUNTIF($H$3:$H7,"Desestimado"),"") -> 2
A8: 3 | B8: SDA24/22 | C8: EXP 2026/SP03032007/00000458E | SG TIC | Sum Disp Opticos y Prot de Tráfico | D8: CESTIC | E8: 46272.999 | F8: 193642.62 | H8: Desestimado | K8: =IF($E8="","",INT($E8)) -> 46272 | L8: =IF($K8="","",COUNTIF($K$3:$K8,$K8)) -> 2 | M8: =IF($K8="","",$K8*100+$L8) -> 4627202 | N8: =IF($H8="Desestimado",COUNTIF($H$3:$H8,"Desestimado"),"") -> 3
A9: 4 | B9: SDA24/22 | C9: EXP 2026/SP03032007/00000460E | SG TIC | Renovación anillo fibra MDE | D9: CESTIC-DINFRATEL | E9: 46272.999 | F9: 76.046,10 € | H9: Desestimado | K9: =IF($E9="","",INT($E9)) -> 46272 | L9: =IF($K9="","",COUNTIF($K$3:$K9,$K9)) -> 3 | M9: =IF($K9="","",$K9*100+$L9) -> 4627203 | N9: =IF($H9="Desestimado",COUNTIF($H$3:$H9,"Desestimado"),"") -> 4
A10: 5 | B10: SDA25/22 | C10: EXP 2026/SP03032007/00000483E | SDGCONTIC - MINDEF | SW Sist. Videoconferencia | D10: CESTIC-SDGCONTIC | E10: 46272.999 | F10: 93211 | G10: 93000 | H10: Presentado | J10: 26003749 | K10: =IF($E10="","",INT($E10)) -> 46272 | L10: =IF($K10="","",COUNTIF($K$3:$K10,$K10)) -> 4 | M10: =IF($K10="","",$K10*100+$L10) -> 4627204 | N10: =IF($H10="Desestimado",COUNTIF($H$3:$H10,"Desestimado"),"")
A11: 6 | B11: SDA24/22 | C11: EXP 2026/SP03032007/00000451E | MDE | Ampliación cabina almacenamiento | D11: CESTIC | E11: 46272.999 | F11: 360000 | H11: Desestimado | K11: =IF($E11="","",INT($E11)) -> 46272 | L11: =IF($K11="","",COUNTIF($K$3:$K11,$K11)) -> 5 | M11: =IF($K11="","",$K11*100+$L11) -> 4627205 | N11: =IF($H11="Desestimado",COUNTIF($H$3:$H11,"Desestimado"),"") -> 5
A12: 7 | B12: SDA24/22 | C12: EXP 2026/SP02002001/00001395E | MDE | Sum equip almacenamiento y transmisión video | D12: CIFAS | E12: 46274.542 | F12: 5286313.2 | H12: Desestimado | K12: =IF($E12="","",INT($E12)) -> 46274 | L12: =IF($K12="","",COUNTIF($K$3:$K12,$K12)) -> 1 | M12: =IF($K12="","",$K12*100+$L12) -> 4627401 | N12: =IF($H12="Desestimado",COUNTIF($H$3:$H12,"Desestimado"),"") -> 6
A13: 8 | B13: SDA24/22 | C13: EXP 2026/SP02002001/00001477E | EMAD | Electrónica de Red | D13: EMAD - MCCE | E13: 46275.542 | F13: 1735319.1 | H13: Desestimado | K13: =IF($E13="","",INT($E13)) -> 46275 | L13: =IF($K13="","",COUNTIF($K$3:$K13,$K13)) -> 1 | M13: =IF($K13="","",$K13*100+$L13) -> 4627501 | N13: =IF($H13="Desestimado",COUNTIF($H$3:$H13,"Desestimado"),"") -> 7
A14: 9 | B14: SDA24/22 | C14: EXP 2026/SP02002001/00001518E | EMAD | Electrónica de Red | D14: EMAD - MCCE | E14: 46275.542 | F14: 1237823.1 | H14: Desestimado | K14: =IF($E14="","",INT($E14)) -> 46275 | L14: =IF($K14="","",COUNTIF($K$3:$K14,$K14)) -> 2 | M14: =IF($K14="","",$K14*100+$L14) -> 4627502 | N14: =IF($H14="Desestimado",COUNTIF($H$3:$H14,"Desestimado"),"") -> 8
A15: 10 | B15: SDA25/22 | C15: EXP 2026/SP02002001/00001530E | EMAD - MINDEF | SW Productividad y colaboración | D15: EMAD | E15: 46275.542 | F15: 164565.79 | H15: Desestimado | K15: =IF($E15="","",INT($E15)) -> 46275 | L15: =IF($K15="","",COUNTIF($K$3:$K15,$K15)) -> 3 | M15: =IF($K15="","",$K15*100+$L15) -> 4627503 | N15: =IF($H15="Desestimado",COUNTIF($H$3:$H15,"Desestimado"),"") -> 9
A16: 11 | B16: SDA24/22 | C16: EXP 2607926F | DGTDAJ | Equipamiento Videoconferencia | D16: JUSTICIA | E16: 46275.999 | F16: 294637.5 | H16: Desestimado | K16: =IF($E16="","",INT($E16)) -> 46275 | L16: =IF($K16="","",COUNTIF($K$3:$K16,$K16)) -> 4 | M16: =IF($K16="","",$K16*100+$L16) -> 4627504 | N16: =IF($H16="Desestimado",COUNTIF($H$3:$H16,"Desestimado"),"") -> 10
A17: 12 | B17: SDA25/22 | C17: EXP 2607728B, 2607728G | DGTDAJ | Solución Videoconferencia | D17: JUSTICIA | E17: 46275.999 | F17: 2005603.9 | H17: Desestimado | K17: =IF($E17="","",INT($E17)) -> 46275 | L17: =IF($K17="","",COUNTIF($K$3:$K17,$K17)) -> 5 | M17: =IF($K17="","",$K17*100+$L17) -> 4627505 | N17: =IF($H17="Desestimado",COUNTIF($H$3:$H17,"Desestimado"),"") -> 11
A18: 13 | B18: SDA24/22 | C18: EXP 2608456H | DGTDAJ | Ampliación discos almacenamiento | D18: JUSTICIA | E18: 46275.999 | F18: 586776.86 | H18: Desestimado | K18: =IF($E18="","",INT($E18)) -> 46275 | L18: =IF($K18="","",COUNTIF($K$3:$K18,$K18)) -> 6 | M18: =IF($K18="","",$K18*100+$L18) -> 4627506 | N18: =IF($H18="Desestimado",COUNTIF($H$3:$H18,"Desestimado"),"") -> 12
A19: 14 | B19: SDA25/22 | C19: EXP 2026/SP03032007/00000399E | SDGCONTIC | Lic. TITUS | D19: SDGCONTIC | E19: 46275.999 | F19: 240000 | H19: Desestimado | K19: =IF($E19="","",INT($E19)) -> 46275 | L19: =IF($K19="","",COUNTIF($K$3:$K19,$K19)) -> 7 | M19: =IF($K19="","",$K19*100+$L19) -> 4627507 | N19: =IF($H19="Desestimado",COUNTIF($H$3:$H19,"Desestimado"),"") -> 13
A20: 15 | B20: SDA24/22 | C20: EXP 2603736C | DGTDAJ | Renovacion Exadata | D20: JUSTICIA | E20: 46275.999 | F20: 8103777.4 | H20: Desestimado | K20: =IF($E20="","",INT($E20)) -> 46275 | L20: =IF($K20="","",COUNTIF($K$3:$K20,$K20)) -> 8 | M20: =IF($K20="","",$K20*100+$L20) -> 4627508 | N20: =IF($H20="Desestimado",COUNTIF($H$3:$H20,"Desestimado"),"") -> 14
A21: 16 | B21: SDA24/22 | C21: 2026/AR40U/00002787 M14078 | MDE | Renov. Electrónica de Red | 13/09/2026 | D21: ARMADA | E21: 46278.999 | F21: 276217.4 | H21: Desestimado | K21: =IF($E21="","",INT($E21)) -> 46278 | L21: =IF($K21="","",COUNTIF($K$3:$K21,$K21)) -> 1 | M21: =IF($K21="","",$K21*100+$L21) -> 4627801 | N21: =IF($H21="Desestimado",COUNTIF($H$3:$H21,"Desestimado"),"") -> 15
A22: 17 | B22: SDA24/22 | C22: 2026/AR40U/00002787 M14078 | MDE | Renov. Electrónica de Red | D22: JAL ARMADA | E22: 46278.999 | F22: 276217.4 | H22: Desestimado | K22: =IF($E22="","",INT($E22)) -> 46278 | L22: =IF($K22="","",COUNTIF($K$3:$K22,$K22)) -> 2 | M22: =IF($K22="","",$K22*100+$L22) -> 4627802 | N22: =IF($H22="Desestimado",COUNTIF($H$3:$H22,"Desestimado"),"") -> 16
... A27: 22 | B27: SDA25/22 | C27: EXP MPR20260170 | MPR | Lic. Autodesk | D27: M. PRESIDENCIA | E27: 46279.999 | F27: 61183.85 | H27: Desestimado | K27: =IF($E27="","",INT($E27)) -> 46279 | L27: =IF($K27="","",COUNTIF($K$3:$K27,$K27)) -> 5 | M27: =IF($K27="","",$K27*100+$L27) -> 4627905 | N27: =IF($H27="Desestimado",COUNTIF($H$3:$H27,"Desestimado"),"") -> 21
A28: 23 | B28: Abierto | C28: Exp. 20260000175I - MITECO - 14-sep-2026 | D28: MITECO | E28: 46279.999 | F28: 40663.99 | G28: 20260.22 | H28: Presentado | I28: URL Contratacion | J28: 26003796 | K28: =IF($E28="","",INT($E28)) -> 46279 | L28: =IF($K28="","",COUNTIF($K$3:$K28,$K28)) -> 6 | M28: =IF($K28="","",$K28*100+$L28) -> 4627906 | N28: =IF($H28="Desestimado",COUNTIF($H$3:$H28,"Desestimado"),"")
A29: 24 | B29: SDA24/22 | C29: EXP 582026014191 | INTA | Cableado y Sist. Red | D29: INTA | E29: 46280.458 | F29: 453800 | H29: Desestimado | K29: =IF($E29="","",INT($E29)) -> 46280 | L29: =IF($K29="","",COUNTIF($K$3:$K29,$K29)) -> 1 | M29: =IF($K29="","",$K29*100+$L29) -> 4628001 | N29: =IF($H29="Desestimado",COUNTIF($H$3:$H29,"Desestimado"),"") -> 22
A30: 25 | B30: SDA25/22 | C30: EXP 2026/SP02002001/00001580E Adquisicion de licencias software de ciberseguridad | D30: EMAD - MCCE | E30: 46280.542 | F30: 21188.9 | H30: Desestimado | K30: =IF($E30="","",INT($E30)) -> 46280 | L30: =IF($K30="","",COUNTIF($K$3:$K30,$K30)) -> 2 | M30: =IF($K30="","",$K30*100+$L30) -> 4628002 | N30: =IF($H30="Desestimado",COUNTIF($H$3:$H30,"Desestimado"),"") -> 23
A31: 26 | B31: SDA24/22 | C31: EXP 582026063991 | INTA | Servidores Ampl. Almacenamiento | D31: INTA | E31: 46281.458 | F31: 6379637.8 | H31: Desestimado | K31: =IF($E31="","",INT($E31)) -> 46281 | L31: =IF($K31="","",COUNTIF($K$3:$K31,$K31)) -> 1 | M31: =IF($K31="","",$K31*100+$L31) -> 4628101 | N31: =IF($H31="Desestimado",COUNTIF($H$3:$H31,"Desestimado"),"") -> 24
A32: 27 | B32: SDA24/22 | C32: EXP 00PG20260113 | MPR | Renov. Plataforma Backup | D32: PRESIDENCIA | E32: 46282.999 | F32: 358729.61 | H32: Desestimado | K32: =IF($E32="","",INT($E32)) -> 46282 | L32: =IF($K32="","",COUNTIF($K$3:$K32,$K32)) -> 1 | M32: =IF($K32="","",$K32*100+$L32) -> 4628201 | N32: =IF($H32="Desestimado",COUNTIF($H$3:$H32,"Desestimado"),"") -> 25
A33: 28 | B33: SDA25/22 | C33: EXP 2607828B, 2607828G | DGTDAJ | Renv. monitorización red | D33: JUSTICIA | E33: 46282.999 | F33: 496115.3 | H33: Desestimado | K33: =IF($E33="","",INT($E33)) -> 46282 | L33: =IF($K33="","",COUNTIF($K$3:$K33,$K33)) -> 2 | M33: =IF($K33="","",$K33*100+$L33) -> 4628202 | N33: =IF($H33="Desestimado",COUNTIF($H$3:$H33,"Desestimado"),"") -> 26
A34: 29 | B34: Abierto | C34: EXP 2026/AR43U/00002195E - Suministro de terminales móviles con fundas y acoples | D34: ARMADA* | E34: 46283.375 | F34: 33057.85 | G34: 26192.26 | H34: Presentado | I34: URL Contratación | J34: 26003928 | K34: =IF($E34="","",INT($E34)) -> 46283 | L34: =IF($K34="","",COUNTIF($K$3:$K34,$K34)) -> 1 | M34: =IF($K34="","",$K34*100+$L34) -> 4628301 | N34: =IF($H34="Desestimado",COUNTIF($H$3:$H34,"Desestimado"),"")
A35: 30 | B35: SDA25/22 | C35: EXP 0MPR20260171 | MPR | Network/Security Devices Subscription Renewal | D35: M. PRESIDENCIA | E35: 46283.999 | F35: 49000 | H35: Desestimado | K35: =IF($E35="","",INT($E35)) -> 46283 | L35: =IF($K35="","",COUNTIF($K$3:$K35,$K35)) -> 2 | M35: =IF($K35="","",$K35*100+$L35) -> 4628302 | N35: =IF($H35="Desestimado",COUNTIF($H$3:$H35,"Desestimado"),"") -> 27
A36: 31 | B36: SDA24/22 | C36: EXP. 2026/ETSAE0906/00002579 | JAEMALE | Equipos Comunicaciones | D36: JAEMALE | E36: 46285.917 | F36: 54635.76 | H36: Desestimado | K36: =IF($E36="","",INT($E36)) -> 46285 | L36: =IF($K36="","",COUNTIF($K$3:$K36,$K36)) -> 1 | M36: =IF($K36="","",$K36*100+$L36) -> 4628501 | N36: =IF($H36="Desestimado",COUNTIF($H$3:$H36,"Desestimado"),"") -> 28
A37: 32 | B37: Abierto | C37: Exp 56/2026 - ENISA - Contratación de servicios de ciberseguridad y SOC de la Empresa Nacional de Innovación, S.M.E., S.A. | D37: ENISA | E37: 46286.333 | F37: 246000 | H37: Desestimado | I37: URL Contratación | K37: =IF($E37="","",INT($E37)) -> 46286 | L37: =IF($K37="","",COUNTIF($K$3:$K37,$K37)) -> 1 | M37: =IF($K37="","",$K37*100+$L37) -> 4628601 | N37: =IF($H37="Desestimado",COUNTIF($H$3:$H37,"Desestimado"),"") -> 29
A38: 33 | B38: SDA25/22 | C38: EXP 2603638B | DGTDAJ | Renv. VMWARE | D38: JUSTICIA | E38: 46286.999 | F38: 11995504 | H38: Desestimado | K38: =IF($E38="","",INT($E38)) -> 46286 | L38: =IF($K38="","",COUNTIF($K$3:$K38,$K38)) -> 2 | M38: =IF($K38="","",$K38*100+$L38) -> 4628602 | N38: =IF($H38="Desestimado",COUNTIF($H$3:$H38,"Desestimado"),"") -> 30
A39: 34 | B39: SDA25/22 | C39: EXP 2026/SP03032007/00000580E | SDGCONTIC - MINDEF | WMS ChartServer Navy | D39: SDGCONTIC | E39: 46286.999 | F39: 38000 | H39: Desestimado | K39: =IF($E39="","",INT($E39)) -> 46286 | L39: =IF($K39="","",COUNTIF($K$3:$K39,$K39)) -> 3 | M39: =IF($K39="","",$K39*100+$L39) -> 4628603 | N39: =IF($H39="Desestimado",COUNTIF($H$3:$H39,"Desestimado"),"") -> 31
A40: 35 | B40: SDA25/22 | C40: EXP 2026/SP03032007/00000572E | SDGCONTIC - MINDEF | isEazy S.L. | D40: SDGCONTIC | E40: 46286.999 | F40: 187227.04 | H40: Desestimado | K40: =IF($E40="","",INT($E40)) -> 46286 | L40: =IF($K40="","",COUNTIF($K$3:$K40,$K40)) -> 4 | M40: =IF($K40="","",$K40*100+$L40) -> 4628604 | N40: =IF($H40="Desestimado",COUNTIF($H$3:$H40,"Desestimado"),"") -> 32
A41: 36 | B41: Abierto | C41: EXP. 2026/ETSAE0904/00000631E - JCISAT - Adquisición de licencias COMMVAULT copias de seguridad | D41: SAECO-JCISAT* | E41: 46287.417 | F41: 14960 | G41: 14660 | H41: Presentado | I41: URL Contratación | J41: 26003907 | K41: =IF($E41="","",INT($E41)) -> 46287 | L41: =IF($K41="","",COUNTIF($K$3:$K41,$K41)) -> 1 | M41: =IF($K41="","",$K41*100+$L41) -> 4628701 | N41: =IF($H41="Desestimado",COUNTIF($H$3:$H41,"Desestimado"),"")
A42: 37 | B42: SDA24/22 | C42: EXP 2026/ETSAE0038/00003779E | MDE | Sist. Videoconferencia | D42: ESPOL - MDE TIERRA | E42: 46287.583 | F42: 293399.43 | H42: Desestimado | K42: =IF($E42="","",INT($E42)) -> 46287 | L42: =IF($K42="","",COUNTIF($K$3:$K42,$K42)) -> 2 | M42: =IF($K42="","",$K42*100+$L42) -> 4628702 | N42: =IF($H42="Desestimado",COUNTIF($H$3:$H42,"Desestimado"),"") -> 33
A43: 38 | B43: SDA24/22 | C43: EXP 2026/SP03038000/00002646E | UME | Ampl. Sist. Hiperconvergencia | D43: UME | E43: 46287.999 | F43: 2302970.9 | G43: 1993412.8 | H43: Presentado | J43: 26001569 | K43: =IF($E43="","",INT($E43)) -> 46287 | L43: =IF($K43="","",COUNTIF($K$3:$K43,$K43)) -> 3 | M43: =IF($K43="","",$K43*100+$L43) -> 4628703 | N43: =IF($H43="Desestimado",COUNTIF($H$3:$H43,"Desestimado"),"")
A44: 39 | B44: SDA24/22 | C44: SDA24 2026/ETSAE0906/00003610E | JAEMALE | Servidores Portátiles | 29/09/2026 | D44: JAEMALE | E44: 46289.396 | F44: 5749340.4 | H44: Desestimado | K44: =IF($E44="","",INT($E44)) -> 46289 | L44: =IF($K44="","",COUNTIF($K$3:$K44,$K44)) -> 1 | M44: =IF($K44="","",$K44*100+$L44) -> 4628901 | N44: =IF($H44="Desestimado",COUNTIF($H$3:$H44,"Desestimado"),"") -> 34
A45: 40 | B45: SDA24/22 | C45: EXP 0MPR20260163 | MPR | Balanceadores Suscr. Software | D45: M. PRESIDENCIA | E45: 46289.417 | F45: 200000 | H45: Desestimado | K45: =IF($E45="","",INT($E45)) -> 46289 | L45: =IF($K45="","",COUNTIF($K$3:$K45,$K45)) -> 2 | M45: =IF($K45="","",$K45*100+$L45) -> 4628902 | N45: =IF($H45="Desestimado",COUNTIF($H$3:$H45,"Desestimado"),"") -> 35
A46: 73 | B46: Negociado | C46: EXP 2025/JCMDEF/00000105 - Adjudicado para Lote: 7. L7 Servicios e infraestructuras de Videoconferencia Segura | D46: MIN. DEF. | E46: 46289.473 | F46: 12448216 | G46: 10287781 | H46: Ganada | I46: URL Contratación | J46: 26000106 | K46: =IF($E46="","",INT($E46)) -> 46289 | L46: =IF($K46="","",COUNTIF($K$3:$K46,$K46)) -> 3 | M46: =IF($K46="","",$K46*100+$L46) -> 4628903 | N46: =IF($H46="Desestimado",COUNTIF($H$3:$H46,"Desestimado"),"")
A47: 41 | B47: SDA24/22 | C47: EXP 2026/SP02002001/00001638E | EMAD | Equipos Electr. Red | 24/09/2026 | D47: EMAD | E47: 46289.542 | F47: 446758.01 | H47: Desestimado | K47: =IF($E47="","",INT($E47)) -> 46289 | L47: =IF($K47="","",COUNTIF($K$3:$K47,$K47)) -> 4 | M47: =IF($K47="","",$K47*100+$L47) -> 4628904 | N47: =IF($H47="Desestimado",COUNTIF($H$3:$H47,"Desestimado"),"") -> 36
A48: 42 | B48: AM/08 | C48: EXP CSU/2026/092 Suministro de control de accesos en sede sita Calle Luis Cabrera 9 | D48: M. PRESIDENCIA | E48: 46289.999 | F48: 22000 | H48: Desestimado | K48: =IF($E48="","",INT($E48)) -> 46289 | L48: =IF($K48="","",COUNTIF($K$3:$K48,$K48)) -> 5 | M48: =IF($K48="","",$K48*100+$L48) -> 4628905 | N48: =IF($H48="Desestimado",COUNTIF($H$3:$H48,"Desestimado"),"") -> 37
A49: 54 | B49: SDA24/22 | C49: EXP 2026/IS092/00000525E | ISFAS Adq. Licencias HPE | D49: ISFAS | E49: 46290.417 | F49: 41500 | H49: Desestimado | K49: =IF($E49="","",INT($E49)) -> 46290 | L49: =IF($K49="","",COUNTIF($K$3:$K49,$K49)) -> 1 | M49: =IF($K49="","",$K49*100+$L49) -> 4629001 | N49: =IF($H49="Desestimado",COUNTIF($H$3:$H49,"Desestimado"),"") -> 38
A50: 43 | B50: SDA24/22 | C50: EXP 2026/AR40U/00003069 M14078 DIGEC MDE | Equipos Seg. Perimetral | D50: ARMADA | E50: 46290.999 | F50: 40292.5 | H50: Desestimado | K50: =IF($E50="","",INT($E50)) -> 46290 | L50: =IF($K50="","",COUNTIF($K$3:$K50,$K50)) -> 2 | M50: =IF($K50="","",$K50*100+$L50) -> 4629002 | N50: =IF($H50="Desestimado",COUNTIF($H$3:$H50,"Desestimado"),"") -> 39
A51: 44 | B51: SDA25/22 | C51: EXP 2026/SP03032007/00000518E | SDGCONTIC - MINDEF | SW ArcGIS | D51: SDGCONTIC | E51: 46291.999 | F51: 11001022 | H51: Desestimado | K51: =IF($E51="","",INT($E51)) -> 46291 | L51: =IF($K51="","",COUNTIF($K$3:$K51,$K51)) -> 1 | M51: =IF($K51="","",$K51*100+$L51) -> 4629101 | N51: =IF($H51="Desestimado",COUNTIF($H$3:$H51,"Desestimado"),"") -> 40
A52: 45 | B52: SDA24/22 | C52: EXP 2026/SP03032007/00000577E | MDE | Adq. Equipamiento Red | D52: SDGCONTIC | E52: 46292.999 | F52: 3301529 | H52: En elaboración | K52: =IF($E52="","",INT($E52)) -> 46292 | L52: =IF($K52="","",COUNTIF($K$3:$K52,$K52)) -> 1 | M52: =IF($K52="","",$K52*100+$L52) -> 4629201 | N52: =IF($H52="Desestimado",COUNTIF($H$3:$H52,"Desestimado"),"")
A53: 46 | B53: SDA25/22 | C53: EXP 2026/SP03032007/00000459E - Citrix Universal Hybrid | D53: SDGCONTIC | E53: 46292.999 | F53: 2918484 | H53: Desestimado | K53: =IF($E53="","",INT($E53)) -> 46292 | L53: =IF($K53="","",COUNTIF($K$3:$K53,$K53)) -> 2 | M53: =IF($K53="","",$K53*100+$L53) -> 4629202 | N53: =IF($H53="Desestimado",COUNTIF($H$3:$H53,"Desestimado"),"") -> 41
A54: 47 | B54: SDA25/22 | C54: EXP 260285 | CNMC | SW FORENSE | D54: CNMC | E54: 46293.604 | F54: 200000 | H54: Desestimado | K54: =IF($E54="","",INT($E54)) -> 46293 | L54: =IF($K54="","",COUNTIF($K$3:$K54,$K54)) -> 1 | M54: =IF($K54="","",$K54*100+$L54) -> 4629301 | N54: =IF($H54="Desestimado",COUNTIF($H$3:$H54,"Desestimado"),"") -> 42
A55: 48 | B55: SDA24/22 | C55: EXP 2026/SP02002001/00001648E | EMAD | Equipos Infraestructura y Almac. (Dell) | D55: EMAD | E55: 46293.604 | F55: 532937.98 | H55: Desestimado | K55: =IF($E55="","",INT($E55)) -> 46293 | L55: =IF($K55="","",COUNTIF($K$3:$K55,$K55)) -> 2 | M55: =IF($K55="","",$K55*100+$L55) -> 4629302 | N55: =IF($H55="Desestimado",COUNTIF($H$3:$H55,"Desestimado"),"") -> 43
A56: 65 | B56: SDA25/22 | C56: EXP SU13826003708 | UCLM | SW Vimeo | D56: UCLM | E56: 46293.999 | F56: 11419.59 | H56: Desestimado | K56: =IF($E56="","",INT($E56)) -> 46293 | L56: =IF($K56="","",COUNTIF($K$3:$K56,$K56)) -> 3 | M56: =IF($K56="","",$K56*100+$L56) -> 4629303 | N56: =IF($H56="Desestimado",COUNTIF($H$3:$H56,"Desestimado"),"") -> 44
A57: 49 | B57: SDA24/22 | C57: EXP 2026/SP03032007/00000452E Act. Capacidades Entorno Exchange | D57: CESTIC | E57: 46293.999 | F57: 2154497.3 | H57: Desestimado | K57: =IF($E57="","",INT($E57)) -> 46293 | L57: =IF($K57="","",COUNTIF($K$3:$K57,$K57)) -> 4 | M57: =IF($K57="","",$K57*100+$L57) -> 4629304 | N57: =IF($H57="Desestimado",COUNTIF($H$3:$H57,"Desestimado"),"") -> 45
A58: 50 | B58: SDA24/22 | C58: EXP 2026/EA15/00002289 | SEA15 MDE | Adq. Equipamiento Red | D58: SEA 15 | E58: 46293.999 | F58: 530440 | H58: Desestimado | K58: =IF($E58="","",INT($E58)) -> 46293 | L58: =IF($K58="","",COUNTIF($K$3:$K58,$K58)) -> 5 | M58: =IF($K58="","",$K58*100+$L58) -> 4629305 | N58: =IF($H58="Desestimado",COUNTIF($H$3:$H58,"Desestimado"),"") -> 46
... A64: 57 | B64: SDA25/24 | C64: EXP 2026/ETSAE0906/00003210 | JAEMALE | Adq. Servidores | D64: JAEMALE | E64: 46294.917 | F64: 880000 | H64: Desestimado | K64: =IF($E64="","",INT($E64)) -> 46294 | L64: =IF($K64="","",COUNTIF($K$3:$K64,$K64)) -> 3 | M64: =IF($K64="","",$K64*100+$L64) -> 4629403 | N64: =IF($H64="Desestimado",COUNTIF($H$3:$H64,"Desestimado"),"") -> 51
A65: 58 | B65: Abierto | C65: EXP 2026/SP02002001/00001513E - Nodo NATO SECRET WAN (NS WAN) del (CoE-CIED) | D65: CIED-COE | E65: 46295.5 | F65: 1570247.9 | H65: Desestimado | I65: URL Contratación | K65: =IF($E65="","",INT($E65)) -> 46295 | L65: =IF($K65="","",COUNTIF($K$3:$K65,$K65)) -> 1 | M65: =IF($K65="","",$K65*100+$L65) -> 4629501 | N65: =IF($H65="Desestimado",COUNTIF($H$3:$H65,"Desestimado"),"") -> 52
A66: 64 | B66: AM/08 | C66: EXP 2026/EA26/00002165E | SEA-62 ZARAGOZA | SAIS | D66: SEA 62 | E66: 46297.999 | F66: 53684.53 | H66: Desestimado | K66: =IF($E66="","",INT($E66)) -> 46297 | L66: =IF($K66="","",COUNTIF($K$3:$K66,$K66)) -> 1 | M66: =IF($K66="","",$K66*100+$L66) -> 4629701 | N66: =IF($H66="Desestimado",COUNTIF($H$3:$H66,"Desestimado"),"") -> 53
A67: 68 | B67: SDA25/22 | C67: EXP 00PG20260139 - Plataforma EDR - Actualización del sistema de protección para ENDPOINTS (Crowdstrike) | D67: M. PRESIDENCIA | E67: 46299 | F67: 864921.33 | H67: Desestimado | K67: =IF($E67="","",INT($E67)) -> 46298 | L67: =IF($K67="","",COUNTIF($K$3:$K67,$K67)) -> 1 | M67: =IF($K67="","",$K67*100+$L67) -> 4629801 | N67: =IF($H67="Desestimado",COUNTIF($H$3:$H67,"Desestimado"),"") -> 54
A68: 67 | B68: SDA25/22 | C68: EXP SU13826003709 - UCLM - Licenciamiento Adobe | D68: UCLM | E68: 46300 | F68: 215184.72 | H68: Desestimado | K68: =IF($E68="","",INT($E68)) -> 46299 | L68: =IF($K68="","",COUNTIF($K$3:$K68,$K68)) -> 1 | M68: =IF($K68="","",$K68*100+$L68) -> 4629901 | N68: =IF($H68="Desestimado",COUNTIF($H$3:$H68,"Desestimado"),"") -> 55
A69: 70 | B69: SDA25/22 | C69: EXP SU13826003412 | UCLM | Filemaker Cloud | D69: UCLM | E69: 46300 | F69: 4105 | H69: Desestimado | K69: =IF($E69="","",INT($E69)) -> 46299 | L69: =IF($K69="","",COUNTIF($K$3:$K69,$K69)) -> 2 | M69: =IF($K69="","",$K69*100+$L69) -> 4629902 | N69: =IF($H69="Desestimado",COUNTIF($H$3:$H69,"Desestimado"),"") -> 56
A70: 72 | B70: SDA24/22 | C70: EXP 2026/ETSAE0904/00000508E | JCISAT | Renov. Lic. Check Point | D70: JCISAT | E70: 46300.385 | F70: 149416.65 | H70: Pendiente | K70: =IF($E70="","",INT($E70)) -> 46300 | L70: =IF($K70="","",COUNTIF($K$3:$K70,$K70)) -> 1 | M70: =IF($K70="","",$K70*100+$L70) -> 4630001 | N70: =IF($H70="Desestimado",COUNTIF($H$3:$H70,"Desestimado"),"")
A71: 71 | B71: AM/08 | C71: EXP 2026_056_SPD_TEC | SEPIDES | CCTV y Sistema anti-intrusion (Valencia - antigua fabrica de motores IZAR) | D71: SEPIDES | E71: 46301.417 | F71: 260000 | H71: Pendiente | K71: =IF($E71="","",INT($E71)) -> 46301 | L71: =IF($K71="","",COUNTIF($K$3:$K71,$K71)) -> 1 | M71: =IF($K71="","",$K71*100+$L71) -> 4630101 | N71: =IF($H71="Desestimado",COUNTIF($H$3:$H71,"Desestimado"),"")
A72: 59 | B72: SDA25/26 | C72: EXP 582026066591 | INTA - Licenciamiento O365, Claude, Chatgpt, Adobe, Presto, Canvas, NX, etc… | D72: INTA | E72: 46304.458 | F72: 2136760 | H72: Desestimado | K72: =IF($E72="","",INT($E72)) -> 46304 | L72: =IF($K72="","",COUNTIF($K$3:$K72,$K72)) -> 1 | M72: =IF($K72="","",$K72*100+$L72) -> 4630401 | N72: =IF($H72="Desestimado",COUNTIF($H$3:$H72,"Desestimado"),"") -> 57
A73: 69 | B73: SDA25/22 | C73: EXP 582026066691 | INTA | Airflows CPI - BlackLine Smart Close (Addons para SAP) | D73: INTA | E73: 46308.458 | F73: 505660 | H73: Desestimado | K73: =IF($E73="","",INT($E73)) -> 46308 | L73: =IF($K73="","",COUNTIF($K$3:$K73,$K73)) -> 1 | M73: =IF($K73="","",$K73*100+$L73) -> 4630801 | N73: =IF($H73="Desestimado",COUNTIF($H$3:$H73,"Desestimado"),"") -> 58
A74: 60 | B74: Abierto | C74: EXP 2026/ETSAE0906/00004024E - LOTE 2: Accesorios de transmisiones | D74: JAEMALE | E74: 46308.5 | F74: 289256.2 | H74: Desestimado | I74: URL Contratación | K74: =IF($E74="","",INT($E74)) -> 46308 | L74: =IF($K74="","",COUNTIF($K$3:$K74,$K74)) -> 2 | M74: =IF($K74="","",$K74*100+$L74) -> 4630802 | N74: =IF($H74="Desestimado",COUNTIF($H$3:$H74,"Desestimado"),"") -> 59
A75: 61 | B75: Abierto | C75: EXP 2026/ETSAE0906/00004024E - LOTE 1: Cableado transmisiones | D75: JAEMALE | E75: 46308.5 | F75: 123966.94 | H75: Desestimado | I75: URL Contratación | K75: =IF($E75="","",INT($E75)) -> 46308 | L75: =IF($K75="","",COUNTIF($K$3:$K75,$K75)) -> 3 | M75: =IF($K75="","",$K75*100+$L75) -> 4630803 | N75: =IF($H75="Desestimado",COUNTIF($H$3:$H75,"Desestimado"),"") -> 60
A76: 62 | B76: Abierto | C76: EXP 2026/26 - Suministro para la renovación y mantenimiento del cortafuegos de aplicación web del Senado. | D76: SENADO | E76: 46308.583 | F76: 350000 | H76: Desestimado | I76: URL Contratación | K76: =IF($E76="","",INT($E76)) -> 46308 | L76: =IF($K76="","",COUNTIF($K$3:$K76,$K76)) -> 4 | M76: =IF($K76="","",$K76*100+$L76) -> 4630804 | N76: =IF($H76="Desestimado",COUNTIF($H$3:$H76,"Desestimado"),"") -> 61
A77: 63 | B77: Abierto | C77: EXP 2026/EA22/00000972E - Suministro e instalación de material CIS para la ampliación y mejora de la infraestructura de red troncal en fibra óptica de la BAT | D77: SEA 22 | E77: 46311.999 | F77: 667382.73 | H77: Pendiente | I77: URL Contratación | K77: =IF($E77="","",INT($E77)) -> 46311 | L77: =IF($K77="","",COUNTIF($K$3:$K77,$K77)) -> 1 | M77: =IF($K77="","",$K77*100+$L77) -> 4631101 | N77: =IF($H77="Desestimado",COUNTIF($H$3:$H77,"Desestimado"),"")
A78: 66 | B78: Abierto | C78: EXP 2026/ETSAE0904/00000482E - Contratación de licencias de software de la plataforma CLOUD-MINERVA | D78: JCISAT | E78: 46314.417 | F78: 328925.62 | H78: Pendiente | I78: URL Contratación | K78: =IF($E78="","",INT($E78)) -> 46314 | L78: =IF($K78="","",COUNTIF($K$3:$K78,$K78)) -> 1 | M78: =IF($K78="","",$K78*100+$L78) -> 4631401 | N78: =IF($H78="Desestimado",COUNTIF($H$3:$H78,"Desestimado"),"")
K79: =IF($E79="","",INT($E79)) | L79: =IF($K79="","",COUNTIF($K$3:$K79,$K79)) | M79: =IF($K79="","",$K79*100+$L79) | N79: =IF($H79="Desestimado",COUNTIF($H$3:$H79,"Desestimado"),"")
K80: =IF($E80="","",INT($E80)) | L80: =IF($K80="","",COUNTIF($K$3:$K80,$K80)) | M80: =IF($K80="","",$K80*100+$L80) | N80: =IF($H80="Desestimado",COUNTIF($H$3:$H80,"Desestimado"),"")
K81: =IF($E81="","",INT($E81)) | L81: =IF($K81="","",COUNTIF($K$3:$K81,$K81)) | M81: =IF($K81="","",$K81*100+$L81) | N81: =IF($H81="Desestimado",COUNTIF($H$3:$H81,"Desestimado"),"")
K82: =IF($E82="","",INT($E82)) | L82: =IF($K82="","",COUNTIF($K$3:$K82,$K82)) | M82: =IF($K82="","",$K82*100+$L82) | N82: =IF($H82="Desestimado",COUNTIF($H$3:$H82,"Desestimado"),"")
K83: =IF($E83="","",INT($E83)) | L83: =IF($K83="","",COUNTIF($K$3:$K83,$K83)) | M83: =IF($K83="","",$K83*100+$L83) | N83: =IF($H83="Desestimado",COUNTIF($H$3:$H83,"Desestimado"),"")
K84: =IF($E84="","",INT($E84)) | L84: =IF($K84="","",COUNTIF($K$3:$K84,$K84)) | M84: =IF($K84="","",$K84*100+$L84) | N84: =IF($H84="Desestimado",COUNTIF($H$3:$H84,"Desestimado"),"")
K85: =IF($E85="","",INT($E85)) | L85: =IF($K85="","",COUNTIF($K$3:$K85,$K85)) | M85: =IF($K85="","",$K85*100+$L85) | N85: =IF($H85="Desestimado",COUNTIF($H$3:$H85,"Desestimado"),"")
K86: =IF($E86="","",INT($E86)) | L86: =IF($K86="","",COUNTIF($K$3:$K86,$K86)) | M86: =IF($K86="","",$K86*100+$L86) | N86: =IF($H86="Desestimado",COUNTIF($H$3:$H86,"Desestimado"),"")
K87: =IF($E87="","",INT($E87)) | L87: =IF($K87="","",COUNTIF($K$3:$K87,$K87)) | M87: =IF($K87="","",$K87*100+$L87) | N87: =IF($H87="Desestimado",COUNTIF($H$3:$H87,"Desestimado"),"")
K88: =IF($E88="","",INT($E88)) | L88: =IF($K88="","",COUNTIF($K$3:$K88,$K88)) | M88: =IF($K88="","",$K88*100+$L88) | N88: =IF($H88="Desestimado",COUNTIF($H$3:$H88,"Desestimado"),"")
K89: =IF($E89="","",INT($E89)) | L89: =IF($K89="","",COUNTIF($K$3:$K89,$K89)) | M89: =IF($K89="","",$K89*100+$L89) | N89: =IF($H89="Desestimado",COUNTIF($H$3:$H89,"Desestimado"),"")
K90: =IF($E90="","",INT($E90)) | L90: =IF($K90="","",COUNTIF($K$3:$K90,$K90)) | M90: =IF($K90="","",$K90*100+$L90) | N90: =IF($H90="Desestimado",COUNTIF($H$3:$H90,"Desestimado"),"")
... K299: =IF($E299="","",INT($E299)) | L299: =IF($K299="","",COUNTIF($K$3:$K299,$K299)) | M299: =IF($K299="","",$K299*100+$L299) | N299: =IF($H299="Desestimado",COUNTIF($H$3:$H299,"Desestimado"),"")

Sheet Desestimados
A1: PROYECTOS DESESTIMADOS (AUTOMÁTICO) | L1: Se rellena sola con los proyectos de 'Proyectos' cuyo Estado sea Desestimado. No escribir aquí: editar en 'Proyectos'.
A2: Nº | B2: Tipo | C2: Proyecto | D2: Cliente | E2: Fecha Max. | F2: Importe máximo de licitación (€) | G2: Importe ofertado (€) | H2: Estado | I2: Info adicional | J2: SGCOL
A3: =IFERROR(IF(INDEX(Proyectos!A$3:A$299,MATCH(ROWS($A$3:$A3),Proyectos!$N$3:$N$299,0))="","",INDEX(Proyectos!A$3:A$299,MATCH(ROWS($A$3:$A3),Proyectos!$N$3:$N$299,0))),"") -> 0 | B3: =IFERROR(IF(INDEX(Proyectos!B$3:B$299,MATCH(ROWS($A$3:$A3),Proyectos!$N$3:$N$299,0))="","",INDEX(Proyectos!B$3:B$299,MATCH(ROWS($A$3:$A3),Proyectos!$N$3:$N$299,0))),"") -> SDA24/22 | C3: =IFERROR(IF(INDEX(Proyectos!C$3:C$299,MATCH(ROWS($A$3:$A3),Proyectos!$N$3:$N$299,0))="","",INDEX(Proyectos!C$3:C$299,MATCH(ROWS($A$3:$A3),Proyectos!$N$3:$N$299,0))),"") -> EXP 2026/ETSAE0904/00000537E | JCISAT | Adq equipos comunicaciones | D3: =IFERROR(IF(INDEX(Proyectos!D$3:D$299,MATCH(ROWS($A$3:$A3),Proyectos!$N$3:$N$299,0))="","",INDEX(Proyectos!D$3:D$299,MATCH(ROWS($A$3:$A3),Proyectos!$N$3:$N$299,0))),"") -> JCISAT | E3: =IFERROR(IF(INDEX(Proyectos!E$3:E$299,MATCH(ROWS($A$3:$A3),Proyectos!$N$3:$N$299,0))="","",INDEX(Proyectos!E$3:E$299,MATCH(ROWS($A$3:$A3),Proyectos!$N$3:$N$299,0))),"") -> 46269.521 | F3: =IFERROR(IF(INDEX(Proyectos!F$3:F$299,MATCH(ROWS($A$3:$A3),Proyectos!$N$3:$N$299,0))="","",INDEX(Proyectos!F$3:F$299,MATCH(ROWS($A$3:$A3),Proyectos!$N$3:$N$299,0))),"") -> 471.074,37 € | G3: =IFERROR(IF(INDEX(Proyectos!G$3:G$299,MATCH(ROWS($A$3:$A3),Proyectos!$N$3:$N$299,0))="","",INDEX(Proyectos!G$3:G$299,MATCH(ROWS($A$3:$A3),Proyectos!$N$3:$N$299,0))),"") | H3: =IFERROR(IF(INDEX(Proyectos!H$3:H$299,MATCH(ROWS($A$3:$A3),Proyectos!$N$3:$N$299,0))="","",INDEX(Proyectos!H$3:H$299,MATCH(ROWS($A$3:$A3),Proyectos!$N$3:$N$299,0))),"") -> Desestimado | ... J3: =IFERROR(IF(INDEX(Proyectos!J$3:J$299,MATCH(ROWS($A$3:$A3),Proyectos!$N$3:$N$299,0))="","",INDEX(Proyectos!J$3:J$299,MATCH(ROWS($A$3:$A3),Proyectos!$N$3:$N$299,0))),"")
A4: =IFERROR(IF(INDEX(Proyectos!A$3:A$299,MATCH(ROWS($A$3:$A4),Proyectos!$N$3:$N$299,0))="","",INDEX(Proyectos!A$3:A$299,MATCH(ROWS($A$3:$A4),Proyectos!$N$3:$N$299,0))),"") -> 2 | B4: =IFERROR(IF(INDEX(Proyectos!B$3:B$299,MATCH(ROWS($A$3:$A4),Proyectos!$N$3:$N$299,0))="","",INDEX(Proyectos!B$3:B$299,MATCH(ROWS($A$3:$A4),Proyectos!$N$3:$N$299,0))),"") -> SDA24/22 | C4: =IFERROR(IF(INDEX(Proyectos!C$3:C$299,MATCH(ROWS($A$3:$A4),Proyectos!$N$3:$N$299,0))="","",INDEX(Proyectos!C$3:C$299,MATCH(ROWS($A$3:$A4),Proyectos!$N$3:$N$299,0))),"") -> EXP 2026/SP02002001/00001401E | MDE | Sum equip y licencias CIFAS | D4: =IFERROR(IF(INDEX(Proyectos!D$3:D$299,MATCH(ROWS($A$3:$A4),Proyectos!$N$3:$N$299,0))="","",INDEX(Proyectos!D$3:D$299,MATCH(ROWS($A$3:$A4),Proyectos!$N$3:$N$299,0))),"") -> CIFAS | E4: =IFERROR(IF(INDEX(Proyectos!E$3:E$299,MATCH(ROWS($A$3:$A4),Proyectos!$N$3:$N$299,0))="","",INDEX(Proyectos!E$3:E$299,MATCH(ROWS($A$3:$A4),Proyectos!$N$3:$N$299,0))),"") -> 46272.542 | F4: =IFERROR(IF(INDEX(Proyectos!F$3:F$299,MATCH(ROWS($A$3:$A4),Proyectos!$N$3:$N$299,0))="","",INDEX(Proyectos!F$3:F$299,MATCH(ROWS($A$3:$A4),Proyectos!$N$3:$N$299,0))),"") -> 1190082.6 | G4: =IFERROR(IF(INDEX(Proyectos!G$3:G$299,MATCH(ROWS($A$3:$A4),Proyectos!$N$3:$N$299,0))="","",INDEX(Proyectos!G$3:G$299,MATCH(ROWS($A$3:$A4),Proyectos!$N$3:$N$299,0))),"") | H4: =IFERROR(IF(INDEX(Proyectos!H$3:H$299,MATCH(ROWS($A$3:$A4),Proyectos!$N$3:$N$299,0))="","",INDEX(Proyectos!H$3:H$299,MATCH(ROWS($A$3:$A4),Proyectos!$N$3:$N$299,0))),"") -> Desestimado | ... J4: =IFERROR(IF(INDEX(Proyectos!J$3:J$299,MATCH(ROWS($A$3:$A4),Proyectos!$N$3:$N$299,0))="","",INDEX(Proyectos!J$3:J$299,MATCH(ROWS($A$3:$A4),Proyectos!$N$3:$N$299,0))),"")
A5: =IFERROR(IF(INDEX(Proyectos!A$3:A$299,MATCH(ROWS($A$3:$A5),Proyectos!$N$3:$N$299,0))="","",INDEX(Proyectos!A$3:A$299,MATCH(ROWS($A$3:$A5),Proyectos!$N$3:$N$299,0))),"") -> 3 | B5: =IFERROR(IF(INDEX(Proyectos!B$3:B$299,MATCH(ROWS($A$3:$A5),Proyectos!$N$3:$N$299,0))="","",INDEX(Proyectos!B$3:B$299,MATCH(ROWS($A$3:$A5),Proyectos!$N$3:$N$299,0))),"") -> SDA24/22 | C5: =IFERROR(IF(INDEX(Proyectos!C$3:C$299,MATCH(ROWS($A$3:$A5),Proyectos!$N$3:$N$299,0))="","",INDEX(Proyectos!C$3:C$299,MATCH(ROWS($A$3:$A5),Proyectos!$N$3:$N$299,0))),"") -> EXP 2026/SP03032007/00000458E | SG TIC | Sum Disp Opticos y Prot de Tráfico | D5: =IFERROR(IF(INDEX(Proyectos!D$3:D$299,MATCH(ROWS($A$3:$A5),Proyectos!$N$3:$N$299,0))="","",INDEX(Proyectos!D$3:D$299,MATCH(ROWS($A$3:$A5),Proyectos!$N$3:$N$299,0))),"") -> CESTIC | E5: =IFERROR(IF(INDEX(Proyectos!E$3:E$299,MATCH(ROWS($A$3:$A5),Proyectos!$N$3:$N$299,0))="","",INDEX(Proyectos!E$3:E$299,MATCH(ROWS($A$3:$A5),Proyectos!$N$3:$N$299,0))),"") -> 46272.999 | F5: =IFERROR(IF(INDEX(Proyectos!F$3:F$299,MATCH(ROWS($A$3:$A5),Proyectos!$N$3:$N$299,0))="","",INDEX(Proyectos!F$3:F$299,MATCH(ROWS($A$3:$A5),Proyectos!$N$3:$N$299,0))),"") -> 193642.62 | G5: =IFERROR(IF(INDEX(Proyectos!G$3:G$299,MATCH(ROWS($A$3:$A5),Proyectos!$N$3:$N$299,0))="","",INDEX(Proyectos!G$3:G$299,MATCH(ROWS($A$3:$A5),Proyectos!$N$3:$N$299,0))),"") | H5: =IFERROR(IF(INDEX(Proyectos!H$3:H$299,MATCH(ROWS($A$3:$A5),Proyectos!$N$3:$N$299,0))="","",INDEX(Proyectos!H$3:H$299,MATCH(ROWS($A$3:$A5),Proyectos!$N$3:$N$299,0))),"") -> Desestimado | ... J5: =IFERROR(IF(INDEX(Proyectos!J$3:J$299,MATCH(ROWS($A$3:$A5),Proyectos!$N$3:$N$299,0))="","",INDEX(Proyectos!J$3:J$299,MATCH(ROWS($A$3:$A5),Proyectos!$N$3:$N$299,0))),"")
A6: =IFERROR(IF(INDEX(Proyectos!A$3:A$299,MATCH(ROWS($A$3:$A6),Proyectos!$N$3:$N$299,0))="","",INDEX(Proyectos!A$3:A$299,MATCH(ROWS($A$3:$A6),Proyectos!$N$3:$N$299,0))),"") -> 4 | B6: =IFERROR(IF(INDEX(Proyectos!B$3:B$299,MATCH(ROWS($A$3:$A6),Proyectos!$N$3:$N$299,0))="","",INDEX(Proyectos!B$3:B$299,MATCH(ROWS($A$3:$A6),Proyectos!$N$3:$N$299,0))),"") -> SDA24/22 | C6: =IFERROR(IF(INDEX(Proyectos!C$3:C$299,MATCH(ROWS($A$3:$A6),Proyectos!$N$3:$N$299,0))="","",INDEX(Proyectos!C$3:C$299,MATCH(ROWS($A$3:$A6),Proyectos!$N$3:$N$299,0))),"") -> EXP 2026/SP03032007/00000460E | SG TIC | Renovación anillo fibra MDE | D6: =IFERROR(IF(INDEX(Proyectos!D$3:D$299,MATCH(ROWS($A$3:$A6),Proyectos!$N$3:$N$299,0))="","",INDEX(Proyectos!D$3:D$299,MATCH(ROWS($A$3:$A6),Proyectos!$N$3:$N$299,0))),"") -> CESTIC-DINFRATEL | E6: =IFERROR(IF(INDEX(Proyectos!E$3:E$299,MATCH(ROWS($A$3:$A6),Proyectos!$N$3:$N$299,0))="","",INDEX(Proyectos!E$3:E$299,MATCH(ROWS($A$3:$A6),Proyectos!$N$3:$N$299,0))),"") -> 46272.999 | F6: =IFERROR(IF(INDEX(Proyectos!F$3:F$299,MATCH(ROWS($A$3:$A6),Proyectos!$N$3:$N$299,0))="","",INDEX(Proyectos!F$3:F$299,MATCH(ROWS($A$3:$A6),Proyectos!$N$3:$N$299,0))),"") -> 76.046,10 € | G6: =IFERROR(IF(INDEX(Proyectos!G$3:G$299,MATCH(ROWS($A$3:$A6),Proyectos!$N$3:$N$299,0))="","",INDEX(Proyectos!G$3:G$299,MATCH(ROWS($A$3:$A6),Proyectos!$N$3:$N$299,0))),"") | H6: =IFERROR(IF(INDEX(Proyectos!H$3:H$299,MATCH(ROWS($A$3:$A6),Proyectos!$N$3:$N$299,0))="","",INDEX(Proyectos!H$3:H$299,MATCH(ROWS($A$3:$A6),Proyectos!$N$3:$N$299,0))),"") -> Desestimado | ... J6: =IFERROR(IF(INDEX(Proyectos!J$3:J$299,MATCH(ROWS($A$3:$A6),Proyectos!$N$3:$N$299,0))="","",INDEX(Proyectos!J$3:J$299,MATCH(ROWS($A$3:$A6),Proyectos!$N$3:$N$299,0))),"")
A7: =IFERROR(IF(INDEX(Proyectos!A$3:A$299,MATCH(ROWS($A$3:$A7),Proyectos!$N$3:$N$299,0))="","",INDEX(Proyectos!A$3:A$299,MATCH(ROWS($A$3:$A7),Proyectos!$N$3:$N$299,0))),"") -> 6 | B7: =IFERROR(IF(INDEX(Proyectos!B$3:B$299,MATCH(ROWS($A$3:$A7),Proyectos!$N$3:$N$299,0))="","",INDEX(Proyectos!B$3:B$299,MATCH(ROWS($A$3:$A7),Proyectos!$N$3:$N$299,0))),"") -> SDA24/22 | C7: =IFERROR(IF(INDEX(Proyectos!C$3:C$299,MATCH(ROWS($A$3:$A7),Proyectos!$N$3:$N$299,0))="","",INDEX(Proyectos!C$3:C$299,MATCH(ROWS($A$3:$A7),Proyectos!$N$3:$N$299,0))),"") -> EXP 2026/SP03032007/00000451E | MDE | Ampliación cabina almacenamiento | D7: =IFERROR(IF(INDEX(Proyectos!D$3:D$299,MATCH(ROWS($A$3:$A7),Proyectos!$N$3:$N$299,0))="","",INDEX(Proyectos!D$3:D$299,MATCH(ROWS($A$3:$A7),Proyectos!$N$3:$N$299,0))),"") -> CESTIC | E7: =IFERROR(IF(INDEX(Proyectos!E$3:E$299,MATCH(ROWS($A$3:$A7),Proyectos!$N$3:$N$299,0))="","",INDEX(Proyectos!E$3:E$299,MATCH(ROWS($A$3:$A7),Proyectos!$N$3:$N$299,0))),"") -> 46272.999 | F7: =IFERROR(IF(INDEX(Proyectos!F$3:F$299,MATCH(ROWS($A$3:$A7),Proyectos!$N$3:$N$299,0))="","",INDEX(Proyectos!F$3:F$299,MATCH(ROWS($A$3:$A7),Proyectos!$N$3:$N$299,0))),"") -> 360000 | G7: =IFERROR(IF(INDEX(Proyectos!G$3:G$299,MATCH(ROWS($A$3:$A7),Proyectos!$N$3:$N$299,0))="","",INDEX(Proyectos!G$3:G$299,MATCH(ROWS($A$3:$A7),Proyectos!$N$3:$N$299,0))),"") | H7: =IFERROR(IF(INDEX(Proyectos!H$3:H$299,MATCH(ROWS($A$3:$A7),Proyectos!$N$3:$N$299,0))="","",INDEX(Proyectos!H$3:H$299,MATCH(ROWS($A$3:$A7),Proyectos!$N$3:$N$299,0))),"") -> Desestimado | ... J7: =IFERROR(IF(INDEX(Proyectos!J$3:J$299,MATCH(ROWS($A$3:$A7),Proyectos!$N$3:$N$299,0))="","",INDEX(Proyectos!J$3:J$299,MATCH(ROWS($A$3:$A7),Proyectos!$N$3:$N$299,0))),"")
A8: =IFERROR(IF(INDEX(Proyectos!A$3:A$299,MATCH(ROWS($A$3:$A8),Proyectos!$N$3:$N$299,0))="","",INDEX(Proyectos!A$3:A$299,MATCH(ROWS($A$3:$A8),Proyectos!$N$3:$N$299,0))),"") -> 7 | B8: =IFERROR(IF(INDEX(Proyectos!B$3:B$299,MATCH(ROWS($A$3:$A8),Proyectos!$N$3:$N$299,0))="","",INDEX(Proyectos!B$3:B$299,MATCH(ROWS($A$3:$A8),Proyectos!$N$3:$N$299,0))),"") -> SDA24/22 | C8: =IFERROR(IF(INDEX(Proyectos!C$3:C$299,MATCH(ROWS($A$3:$A8),Proyectos!$N$3:$N$299,0))="","",INDEX(Proyectos!C$3:C$299,MATCH(ROWS($A$3:$A8),Proyectos!$N$3:$N$299,0))),"") -> EXP 2026/SP02002001/00001395E | MDE | Sum equip almacenamiento y transmisión video | D8: =IFERROR(IF(INDEX(Proyectos!D$3:D$299,MATCH(ROWS($A$3:$A8),Proyectos!$N$3:$N$299,0))="","",INDEX(Proyectos!D$3:D$299,MATCH(ROWS($A$3:$A8),Proyectos!$N$3:$N$299,0))),"") -> CIFAS | E8: =IFERROR(IF(INDEX(Proyectos!E$3:E$299,MATCH(ROWS($A$3:$A8),Proyectos!$N$3:$N$299,0))="","",INDEX(Proyectos!E$3:E$299,MATCH(ROWS($A$3:$A8),Proyectos!$N$3:$N$299,0))),"") -> 46274.542 | F8: =IFERROR(IF(INDEX(Proyectos!F$3:F$299,MATCH(ROWS($A$3:$A8),Proyectos!$N$3:$N$299,0))="","",INDEX(Proyectos!F$3:F$299,MATCH(ROWS($A$3:$A8),Proyectos!$N$3:$N$299,0))),"") -> 5286313.2 | G8: =IFERROR(IF(INDEX(Proyectos!G$3:G$299,MATCH(ROWS($A$3:$A8),Proyectos!$N$3:$N$299,0))="","",INDEX(Proyectos!G$3:G$299,MATCH(ROWS($A$3:$A8),Proyectos!$N$3:$N$299,0))),"") | H8: =IFERROR(IF(INDEX(Proyectos!H$3:H$299,MATCH(ROWS($A$3:$A8),Proyectos!$N$3:$N$299,0))="","",INDEX(Proyectos!H$3:H$299,MATCH(ROWS($A$3:$A8),Proyectos!$N$3:$N$299,0))),"") -> Desestimado | ... J8: =IFERROR(IF(INDEX(Proyectos!J$3:J$299,MATCH(ROWS($A$3:$A8),Proyectos!$N$3:$N$299,0))="","",INDEX(Proyectos!J$3:J$299,MATCH(ROWS($A$3:$A8),Proyectos!$N$3:$N$299,0))),"")
A9: =IFERROR(IF(INDEX(Proyectos!A$3:A$299,MATCH(ROWS($A$3:$A9),Proyectos!$N$3:$N$299,0))="","",INDEX(Proyectos!A$3:A$299,MATCH(ROWS($A$3:$A9),Proyectos!$N$3:$N$299,0))),"") -> 8 | B9: =IFERROR(IF(INDEX(Proyectos!B$3:B$299,MATCH(ROWS($A$3:$A9),Proyectos!$N$3:$N$299,0))="","",INDEX(Proyectos!B$3:B$299,MATCH(ROWS($A$3:$A9),Proyectos!$N$3:$N$299,0))),"") -> SDA24/22 | C9: =IFERROR(IF(INDEX(Proyectos!C$3:C$299,MATCH(ROWS($A$3:$A9),Proyectos!$N$3:$N$299,0))="","",INDEX(Proyectos!C$3:C$299,MATCH(ROWS($A$3:$A9),Proyectos!$N$3:$N$299,0))),"") -> EXP 2026/SP02002001/00001477E | EMAD | Electrónica de Red | D9: =IFERROR(IF(INDEX(Proyectos!D$3:D$299,MATCH(ROWS($A$3:$A9),Proyectos!$N$3:$N$299,0))="","",INDEX(Proyectos!D$3:D$299,MATCH(ROWS($A$3:$A9),Proyectos!$N$3:$N$299,0))),"") -> EMAD - MCCE | E9: =IFERROR(IF(INDEX(Proyectos!E$3:E$299,MATCH(ROWS($A$3:$A9),Proyectos!$N$3:$N$299,0))="","",INDEX(Proyectos!E$3:E$299,MATCH(ROWS($A$3:$A9),Proyectos!$N$3:$N$299,0))),"") -> 46275.542 | F9: =IFERROR(IF(INDEX(Proyectos!F$3:F$299,MATCH(ROWS($A$3:$A9),Proyectos!$N$3:$N$299,0))="","",INDEX(Proyectos!F$3:F$299,MATCH(ROWS($A$3:$A9),Proyectos!$N$3:$N$299,0))),"") -> 1735319.1 | G9: =IFERROR(IF(INDEX(Proyectos!G$3:G$299,MATCH(ROWS($A$3:$A9),Proyectos!$N$3:$N$299,0))="","",INDEX(Proyectos!G$3:G$299,MATCH(ROWS($A$3:$A9),Proyectos!$N$3:$N$299,0))),"") | H9: =IFERROR(IF(INDEX(Proyectos!H$3:H$299,MATCH(ROWS($A$3:$A9),Proyectos!$N$3:$N$299,0))="","",INDEX(Proyectos!H$3:H$299,MATCH(ROWS($A$3:$A9),Proyectos!$N$3:$N$299,0))),"") -> Desestimado | ... J9: =IFERROR(IF(INDEX(Proyectos!J$3:J$299,MATCH(ROWS($A$3:$A9),Proyectos!$N$3:$N$299,0))="","",INDEX(Proyectos!J$3:J$299,MATCH(ROWS($A$3:$A9),Proyectos!$N$3:$N$299,0))),"")
A10: =IFERROR(IF(INDEX(Proyectos!A$3:A$299,MATCH(ROWS($A$3:$A10),Proyectos!$N$3:$N$299,0))="","",INDEX(Proyectos!A$3:A$299,MATCH(ROWS($A$3:$A10),Proyectos!$N$3:$N$299,0))),"") -> 9 | B10: =IFERROR(IF(INDEX(Proyectos!B$3:B$299,MATCH(ROWS($A$3:$A10),Proyectos!$N$3:$N$299,0))="","",INDEX(Proyectos!B$3:B$299,MATCH(ROWS($A$3:$A10),Proyectos!$N$3:$N$299,0))),"") -> SDA24/22 | C10: =IFERROR(IF(INDEX(Proyectos!C$3:C$299,MATCH(ROWS($A$3:$A10),Proyectos!$N$3:$N$299,0))="","",INDEX(Proyectos!C$3:C$299,MATCH(ROWS($A$3:$A10),Proyectos!$N$3:$N$299,0))),"") -> EXP 2026/SP02002001/00001518E | EMAD | Electrónica de Red | D10: =IFERROR(IF(INDEX(Proyectos!D$3:D$299,MATCH(ROWS($A$3:$A10),Proyectos!$N$3:$N$299,0))="","",INDEX(Proyectos!D$3:D$299,MATCH(ROWS($A$3:$A10),Proyectos!$N$3:$N$299,0))),"") -> EMAD - MCCE | E10: =IFERROR(IF(INDEX(Proyectos!E$3:E$299,MATCH(ROWS($A$3:$A10),Proyectos!$N$3:$N$299,0))="","",INDEX(Proyectos!E$3:E$299,MATCH(ROWS($A$3:$A10),Proyectos!$N$3:$N$299,0))),"") -> 46275.542 | F10: =IFERROR(IF(INDEX(Proyectos!F$3:F$299,MATCH(ROWS($A$3:$A10),Proyectos!$N$3:$N$299,0))="","",INDEX(Proyectos!F$3:F$299,MATCH(ROWS($A$3:$A10),Proyectos!$N$3:$N$299,0))),"") -> 1237823.1 | G10: =IFERROR(IF(INDEX(Proyectos!G$3:G$299,MATCH(ROWS($A$3:$A10),Proyectos!$N$3:$N$299,0))="","",INDEX(Proyectos!G$3:G$299,MATCH(ROWS($A$3:$A10),Proyectos!$N$3:$N$299,0))),"") | H10: =IFERROR(IF(INDEX(Proyectos!H$3:H$299,MATCH(ROWS($A$3:$A10),Proyectos!$N$3:$N$299,0))="","",INDEX(Proyectos!H$3:H$299,MATCH(ROWS($A$3:$A10),Proyectos!$N$3:$N$299,0))),"") -> Desestimado | ... J10: =IFERROR(IF(INDEX(Proyectos!J$3:J$299,MATCH(ROWS($A$3:$A10),Proyectos!$N$3:$N$299,0))="","",INDEX(Proyectos!J$3:J$299,MATCH(ROWS($A$3:$A10),Proyectos!$N$3:$N$299,0))),"")
A11: =IFERROR(IF(INDEX(Proyectos!A$3:A$299,MATCH(ROWS($A$3:$A11),Proyectos!$N$3:$N$299,0))="","",INDEX(Proyectos!A$3:A$299,MATCH(ROWS($A$3:$A11),Proyectos!$N$3:$N$299,0))),"") -> 10 | B11: =IFERROR(IF(INDEX(Proyectos!B$3:B$299,MATCH(ROWS($A$3:$A11),Proyectos!$N$3:$N$299,0))="","",INDEX(Proyectos!B$3:B$299,MATCH(ROWS($A$3:$A11),Proyectos!$N$3:$N$299,0))),"") -> SDA25/22 | C11: =IFERROR(IF(INDEX(Proyectos!C$3:C$299,MATCH(ROWS($A$3:$A11),Proyectos!$N$3:$N$299,0))="","",INDEX(Proyectos!C$3:C$299,MATCH(ROWS($A$3:$A11),Proyectos!$N$3:$N$299,0))),"") -> EXP 2026/SP02002001/00001530E | EMAD - MINDEF | SW Productividad y colaboración | D11: =IFERROR(IF(INDEX(Proyectos!D$3:D$299,MATCH(ROWS($A$3:$A11),Proyectos!$N$3:$N$299,0))="","",INDEX(Proyectos!D$3:D$299,MATCH(ROWS($A$3:$A11),Proyectos!$N$3:$N$299,0))),"") -> EMAD | E11: =IFERROR(IF(INDEX(Proyectos!E$3:E$299,MATCH(ROWS($A$3:$A11),Proyectos!$N$3:$N$299,0))="","",INDEX(Proyectos!E$3:E$299,MATCH(ROWS($A$3:$A11),Proyectos!$N$3:$N$299,0))),"") -> 46275.542 | F11: =IFERROR(IF(INDEX(Proyectos!F$3:F$299,MATCH(ROWS($A$3:$A11),Proyectos!$N$3:$N$299,0))="","",INDEX(Proyectos!F$3:F$299,MATCH(ROWS($A$3:$A11),Proyectos!$N$3:$N$299,0))),"") -> 164565.79 | G11: =IFERROR(IF(INDEX(Proyectos!G$3:G$299,MATCH(ROWS($A$3:$A11),Proyectos!$N$3:$N$299,0))="","",INDEX(Proyectos!G$3:G$299,MATCH(ROWS($A$3:$A11),Proyectos!$N$3:$N$299,0))),"") | H11: =IFERROR(IF(INDEX(Proyectos!H$3:H$299,MATCH(ROWS($A$3:$A11),Proyectos!$N$3:$N$299,0))="","",INDEX(Proyectos!H$3:H$299,MATCH(ROWS($A$3:$A11),Proyectos!$N$3:$N$299,0))),"") -> Desestimado | ... J11: =IFERROR(IF(INDEX(Proyectos!J$3:J$299,MATCH(ROWS($A$3:$A11),Proyectos!$N$3:$N$299,0))="","",INDEX(Proyectos!J$3:J$299,MATCH(ROWS($A$3:$A11),Proyectos!$N$3:$N$299,0))),"")
A12: =IFERROR(IF(INDEX(Proyectos!A$3:A$299,MATCH(ROWS($A$3:$A12),Proyectos!$N$3:$N$299,0))="","",INDEX(Proyectos!A$3:A$299,MATCH(ROWS($A$3:$A12),Proyectos!$N$3:$N$299,0))),"") -> 11 | B12: =IFERROR(IF(INDEX(Proyectos!B$3:B$299,MATCH(ROWS($A$3:$A12),Proyectos!$N$3:$N$299,0))="","",INDEX(Proyectos!B$3:B$299,MATCH(ROWS($A$3:$A12),Proyectos!$N$3:$N$299,0))),"") -> SDA24/22 | C12: =IFERROR(IF(INDEX(Proyectos!C$3:C$299,MATCH(ROWS($A$3:$A12),Proyectos!$N$3:$N$299,0))="","",INDEX(Proyectos!C$3:C$299,MATCH(ROWS($A$3:$A12),Proyectos!$N$3:$N$299,0))),"") -> EXP 2607926F | DGTDAJ | Equipamiento Videoconferencia | D12: =IFERROR(IF(INDEX(Proyectos!D$3:D$299,MATCH(ROWS($A$3:$A12),Proyectos!$N$3:$N$299,0))="","",INDEX(Proyectos!D$3:D$299,MATCH(ROWS($A$3:$A12),Proyectos!$N$3:$N$299,0))),"") -> JUSTICIA | E12: =IFERROR(IF(INDEX(Proyectos!E$3:E$299,MATCH(ROWS($A$3:$A12),Proyectos!$N$3:$N$299,0))="","",INDEX(Proyectos!E$3:E$299,MATCH(ROWS($A$3:$A12),Proyectos!$N$3:$N$299,0))),"") -> 46275.999 | F12: =IFERROR(IF(INDEX(Proyectos!F$3:F$299,MATCH(ROWS($A$3:$A12),Proyectos!$N$3:$N$299,0))="","",INDEX(Proyectos!F$3:F$299,MATCH(ROWS($A$3:$A12),Proyectos!$N$3:$N$299,0))),"") -> 294637.5 | G12: =IFERROR(IF(INDEX(Proyectos!G$3:G$299,MATCH(ROWS($A$3:$A12),Proyectos!$N$3:$N$299,0))="","",INDEX(Proyectos!G$3:G$299,MATCH(ROWS($A$3:$A12),Proyectos!$N$3:$N$299,0))),"") | H12: =IFERROR(IF(INDEX(Proyectos!H$3:H$299,MATCH(ROWS($A$3:$A12),Proyectos!$N$3:$N$299,0))="","",INDEX(Proyectos!H$3:H$299,MATCH(ROWS($A$3:$A12),Proyectos!$N$3:$N$299,0))),"") -> Desestimado | ... J12: =IFERROR(IF(INDEX(Proyectos!J$3:J$299,MATCH(ROWS($A$3:$A12),Proyectos!$N$3:$N$299,0))="","",INDEX(Proyectos!J$3:J$299,MATCH(ROWS($A$3:$A12),Proyectos!$N$3:$N$299,0))),"")
A13: =IFERROR(IF(INDEX(Proyectos!A$3:A$299,MATCH(ROWS($A$3:$A13),Proyectos!$N$3:$N$299,0))="","",INDEX(Proyectos!A$3:A$299,MATCH(ROWS($A$3:$A13),Proyectos!$N$3:$N$299,0))),"") -> 12 | B13: =IFERROR(IF(INDEX(Proyectos!B$3:B$299,MATCH(ROWS($A$3:$A13),Proyectos!$N$3:$N$299,0))="","",INDEX(Proyectos!B$3:B$299,MATCH(ROWS($A$3:$A13),Proyectos!$N$3:$N$299,0))),"") -> SDA25/22 | C13: =IFERROR(IF(INDEX(Proyectos!C$3:C$299,MATCH(ROWS($A$3:$A13),Proyectos!$N$3:$N$299,0))="","",INDEX(Proyectos!C$3:C$299,MATCH(ROWS($A$3:$A13),Proyectos!$N$3:$N$299,0))),"") -> EXP 2607728B, 2607728G | DGTDAJ | Solución Videoconferencia | D13: =IFERROR(IF(INDEX(Proyectos!D$3:D$299,MATCH(ROWS($A$3:$A13),Proyectos!$N$3:$N$299,0))="","",INDEX(Proyectos!D$3:D$299,MATCH(ROWS($A$3:$A13),Proyectos!$N$3:$N$299,0))),"") -> JUSTICIA | E13: =IFERROR(IF(INDEX(Proyectos!E$3:E$299,MATCH(ROWS($A$3:$A13),Proyectos!$N$3:$N$299,0))="","",INDEX(Proyectos!E$3:E$299,MATCH(ROWS($A$3:$A13),Proyectos!$N$3:$N$299,0))),"") -> 46275.999 | F13: =IFERROR(IF(INDEX(Proyectos!F$3:F$299,MATCH(ROWS($A$3:$A13),Proyectos!$N$3:$N$299,0))="","",INDEX(Proyectos!F$3:F$299,MATCH(ROWS($A$3:$A13),Proyectos!$N$3:$N$299,0))),"") -> 2005603.9 | G13: =IFERROR(IF(INDEX(Proyectos!G$3:G$299,MATCH(ROWS($A$3:$A13),Proyectos!$N$3:$N$299,0))="","",INDEX(Proyectos!G$3:G$299,MATCH(ROWS($A$3:$A13),Proyectos!$N$3:$N$299,0))),"") | H13: =IFERROR(IF(INDEX(Proyectos!H$3:H$299,MATCH(ROWS($A$3:$A13),Proyectos!$N$3:$N$299,0))="","",INDEX(Proyectos!H$3:H$299,MATCH(ROWS($A$3:$A13),Proyectos!$N$3:$N$299,0))),"") -> Desestimado | ... J13: =IFERROR(IF(INDEX(Proyectos!J$3:J$299,MATCH(ROWS($A$3:$A13),Proyectos!$N$3:$N$299,0))="","",INDEX(Proyectos!J$3:J$299,MATCH(ROWS($A$3:$A13),Proyectos!$N$3:$N$299,0))),"")
A14: =IFERROR(IF(INDEX(Proyectos!A$3:A$299,MATCH(ROWS($A$3:$A14),Proyectos!$N$3:$N$299,0))="","",INDEX(Proyectos!A$3:A$299,MATCH(ROWS($A$3:$A14),Proyectos!$N$3:$N$299,0))),"") -> 13 | B14: =IFERROR(IF(INDEX(Proyectos!B$3:B$299,MATCH(ROWS($A$3:$A14),Proyectos!$N$3:$N$299,0))="","",INDEX(Proyectos!B$3:B$299,MATCH(ROWS($A$3:$A14),Proyectos!$N$3:$N$299,0))),"") -> SDA24/22 | C14: =IFERROR(IF(INDEX(Proyectos!C$3:C$299,MATCH(ROWS($A$3:$A14),Proyectos!$N$3:$N$299,0))="","",INDEX(Proyectos!C$3:C$299,MATCH(ROWS($A$3:$A14),Proyectos!$N$3:$N$299,0))),"") -> EXP 2608456H | DGTDAJ | Ampliación discos almacenamiento | D14: =IFERROR(IF(INDEX(Proyectos!D$3:D$299,MATCH(ROWS($A$3:$A14),Proyectos!$N$3:$N$299,0))="","",INDEX(Proyectos!D$3:D$299,MATCH(ROWS($A$3:$A14),Proyectos!$N$3:$N$299,0))),"") -> JUSTICIA | E14: =IFERROR(IF(INDEX(Proyectos!E$3:E$299,MATCH(ROWS($A$3:$A14),Proyectos!$N$3:$N$299,0))="","",INDEX(Proyectos!E$3:E$299,MATCH(ROWS($A$3:$A14),Proyectos!$N$3:$N$299,0))),"") -> 46275.999 | F14: =IFERROR(IF(INDEX(Proyectos!F$3:F$299,MATCH(ROWS($A$3:$A14),Proyectos!$N$3:$N$299,0))="","",INDEX(Proyectos!F$3:F$299,MATCH(ROWS($A$3:$A14),Proyectos!$N$3:$N$299,0))),"") -> 586776.86 | G14: =IFERROR(IF(INDEX(Proyectos!G$3:G$299,MATCH(ROWS($A$3:$A14),Proyectos!$N$3:$N$299,0))="","",INDEX(Proyectos!G$3:G$299,MATCH(ROWS($A$3:$A14),Proyectos!$N$3:$N$299,0))),"") | H14: =IFERROR(IF(INDEX(Proyectos!H$3:H$299,MATCH(ROWS($A$3:$A14),Proyectos!$N$3:$N$299,0))="","",INDEX(Proyectos!H$3:H$299,MATCH(ROWS($A$3:$A14),Proyectos!$N$3:$N$299,0))),"") -> Desestimado | ... J14: =IFERROR(IF(INDEX(Proyectos!J$3:J$299,MATCH(ROWS($A$3:$A14),Proyectos!$N$3:$N$299,0))="","",INDEX(Proyectos!J$3:J$299,MATCH(ROWS($A$3:$A14),Proyectos!$N$3:$N$299,0))),"")
... A299: =IFERROR(IF(INDEX(Proyectos!A$3:A$299,MATCH(ROWS($A$3:$A299),Proyectos!$N$3:$N$299,0))="","",INDEX(Proyectos!A$3:A$299,MATCH(ROWS($A$3:$A299),Proyectos!$N$3:$N$299,0))),"") | B299: =IFERROR(IF(INDEX(Proyectos!B$3:B$299,MATCH(ROWS($A$3:$A299),Proyectos!$N$3:$N$299,0))="","",INDEX(Proyectos!B$3:B$299,MATCH(ROWS($A$3:$A299),Proyectos!$N$3:$N$299,0))),"") | C299: =IFERROR(IF(INDEX(Proyectos!C$3:C$299,MATCH(ROWS($A$3:$A299),Proyectos!$N$3:$N$299,0))="","",INDEX(Proyectos!C$3:C$299,MATCH(ROWS($A$3:$A299),Proyectos!$N$3:$N$299,0))),"") | D299: =IFERROR(IF(INDEX(Proyectos!D$3:D$299,MATCH(ROWS($A$3:$A299),Proyectos!$N$3:$N$299,0))="","",INDEX(Proyectos!D$3:D$299,MATCH(ROWS($A$3:$A299),Proyectos!$N$3:$N$299,0))),"") | E299: =IFERROR(IF(INDEX(Proyectos!E$3:E$299,MATCH(ROWS($A$3:$A299),Proyectos!$N$3:$N$299,0))="","",INDEX(Proyectos!E$3:E$299,MATCH(ROWS($A$3:$A299),Proyectos!$N$3:$N$299,0))),"") | F299: =IFERROR(IF(INDEX(Proyectos!F$3:F$299,MATCH(ROWS($A$3:$A299),Proyectos!$N$3:$N$299,0))="","",INDEX(Proyectos!F$3:F$299,MATCH(ROWS($A$3:$A299),Proyectos!$N$3:$N$299,0))),"") | G299: =IFERROR(IF(INDEX(Proyectos!G$3:G$299,MATCH(ROWS($A$3:$A299),Proyectos!$N$3:$N$299,0))="","",INDEX(Proyectos!G$3:G$299,MATCH(ROWS($A$3:$A299),Proyectos!$N$3:$N$299,0))),"") | H299: =IFERROR(IF(INDEX(Proyectos!H$3:H$299,MATCH(ROWS($A$3:$A299),Proyectos!$N$3:$N$299,0))="","",INDEX(Proyectos!H$3:H$299,MATCH(ROWS($A$3:$A299),Proyectos!$N$3:$N$299,0))),"") | ... J299: =IFERROR(IF(INDEX(Proyectos!J$3:J$299,MATCH(ROWS($A$3:$A299),Proyectos!$N$3:$N$299,0))="","",INDEX(Proyectos!J$3:J$299,MATCH(ROWS($A$3:$A299),Proyectos!$N$3:$N$299,0))),"")

Sheet Calendario
A1: CALENDARIO DE PROYECTOS CLUSTER DEFENSA (AUTOMÁTICO)
A2: Se actualiza solo: en cuanto añadas o edites un proyecto en 'Proyectos', aparecerá aquí en su Fecha Máx. Admite hasta 8 proyectos con la misma Fecha Máx.
A4: Leyenda de estados:
A5: En elaboración | B5: Presentado | C5: Pendiente | D5: Ganada | E5: Perdida | F5: Desestimado
A7: JULIO 2026
A8: LUN | B8: MAR | C8: MIÉ | D8: JUE | E8: VIE | F8: SÁB | G8: DOM
C9: 46204 | D9: 46205 | E9: 46206 | F9: 46207 | G9: 46208
C10: =IFERROR("#"&INDEX(Proyectos!$A$3:$A$299,MATCH(C9*100+1,Proyectos!$M$3:$M$299,0))&" · "&INDEX(Proyectos!$D$3:$D$299,MATCH(C9*100+1,Proyectos!$M$3:$M$299,0)),"") | D10: =IFERROR("#"&INDEX(Proyectos!$A$3:$A$299,MATCH(D9*100+1,Proyectos!$M$3:$M$299,0))&" · "&INDEX(Proyectos!$D$3:$D$299,MATCH(D9*100+1,Proyectos!$M$3:$M$299,0)),"") | E10: =IFERROR("#"&INDEX(Proyectos!$A$3:$A$299,MATCH(E9*100+1,Proyectos!$M$3:$M$299,0))&" · "&INDEX(Proyectos!$D$3:$D$299,MATCH(E9*100+1,Proyectos!$M$3:$M$299,0)),"") | F10: =IFERROR("#"&INDEX(Proyectos!$A$3:$A$299,MATCH(F9*100+1,Proyectos!$M$3:$M$299,0))&" · "&INDEX(Proyectos!$D$3:$D$299,MATCH(F9*100+1,Proyectos!$M$3:$M$299,0)),"") | G10: =IFERROR("#"&INDEX(Proyectos!$A$3:$A$299,MATCH(G9*100+1,Proyectos!$M$3:$M$299,0))&" · "&INDEX(Proyectos!$D$3:$D$299,MATCH(G9*100+1,Proyectos!$M$3:$M$299,0)),"") | K10: =IFERROR(INDEX(Proyectos!$H$3:$H$299,MATCH(C9*100+1,Proyectos!$M$3:$M$299,0)),"") | L10: =IFERROR(INDEX(Proyectos!$H$3:$H$299,MATCH(D9*100+1,Proyectos!$M$3:$M$299,0)),"") | M10: =IFERROR(INDEX(Proyectos!$H$3:$H$299,MATCH(E9*100+1,Proyectos!$M$3:$M$299,0)),"") | N10: =IFERROR(INDEX(Proyectos!$H$3:$H$299,MATCH(F9*100+1,Proyectos!$M$3:$M$299,0)),"") | O10: =IFERROR(INDEX(Proyectos!$H$3:$H$299,MATCH(G9*100+1,Proyectos!$M$3:$M$299,0)),"")
C11: =IFERROR("#"&INDEX(Proyectos!$A$3:$A$299,MATCH(C9*100+2,Proyectos!$M$3:$M$299,0))&" · "&INDEX(Proyectos!$D$3:$D$299,MATCH(C9*100+2,Proyectos!$M$3:$M$299,0)),"") | D11: =IFERROR("#"&INDEX(Proyectos!$A$3:$A$299,MATCH(D9*100+2,Proyectos!$M$3:$M$299,0))&" · "&INDEX(Proyectos!$D$3:$D$299,MATCH(D9*100+2,Proyectos!$M$3:$M$299,0)),"") | E11: =IFERROR("#"&INDEX(Proyectos!$A$3:$A$299,MATCH(E9*100+2,Proyectos!$M$3:$M$299,0))&" · "&INDEX(Proyectos!$D$3:$D$299,MATCH(E9*100+2,Proyectos!$M$3:$M$299,0)),"") | F11: =IFERROR("#"&INDEX(Proyectos!$A$3:$A$299,MATCH(F9*100+2,Proyectos!$M$3:$M$299,0))&" · "&INDEX(Proyectos!$D$3:$D$299,MATCH(F9*100+2,Proyectos!$M$3:$M$299,0)),"") | G11: =IFERROR("#"&INDEX(Proyectos!$A$3:$A$299,MATCH(G9*100+2,Proyectos!$M$3:$M$299,0))&" · "&INDEX(Proyectos!$D$3:$D$299,MATCH(G9*100+2,Proyectos!$M$3:$M$299,0)),"") | K11: =IFERROR(INDEX(Proyectos!$H$3:$H$299,MATCH(C9*100+2,Proyectos!$M$3:$M$299,0)),"") | L11: =IFERROR(INDEX(Proyectos!$H$3:$H$299,MATCH(D9*100+2,Proyectos!$M$3:$M$299,0)),"") | M11: =IFERROR(INDEX(Proyectos!$H$3:$H$299,MATCH(E9*100+2,Proyectos!$M$3:$M$299,0)),"") | N11: =IFERROR(INDEX(Proyectos!$H$3:$H$299,MATCH(F9*100+2,Proyectos!$M$3:$M$299,0)),"") | O11: =IFERROR(INDEX(Proyectos!$H$3:$H$299,MATCH(G9*100+2,Proyectos!$M$3:$M$299,0)),"")
C12: =IFERROR("#"&INDEX(Proyectos!$A$3:$A$299,MATCH(C9*100+3,Proyectos!$M$3:$M$299,0))&" · "&INDEX(Proyectos!$D$3:$D$299,MATCH(C9*100+3,Proyectos!$M$3:$M$299,0)),"") | D12: =IFERROR("#"&INDEX(Proyectos!$A$3:$A$299,MATCH(D9*100+3,Proyectos!$M$3:$M$299,0))&" · "&INDEX(Proyectos!$D$3:$D$299,MATCH(D9*100+3,Proyectos!$M$3:$M$299,0)),"") | E12: =IFERROR("#"&INDEX(Proyectos!$A$3:$A$299,MATCH(E9*100+3,Proyectos!$M$3:$M$299,0))&" · "&INDEX(Proyectos!$D$3:$D$299,MATCH(E9*100+3,Proyectos!$M$3:$M$299,0)),"") | F12: =IFERROR("#"&INDEX(Proyectos!$A$3:$A$299,MATCH(F9*100+3,Proyectos!$M$3:$M$299,0))&" · "&INDEX(Proyectos!$D$3:$D$299,MATCH(F9*100+3,Proyectos!$M$3:$M$299,0)),"") | G12: =IFERROR("#"&INDEX(Proyectos!$A$3:$A$299,MATCH(G9*100+3,Proyectos!$M$3:$M$299,0))&" · "&INDEX(Proyectos!$D$3:$D$299,MATCH(G9*100+3,Proyectos!$M$3:$M$299,0)),"") | K12: =IFERROR(INDEX(Proyectos!$H$3:$H$299,MATCH(C9*100+3,Proyectos!$M$3:$M$299,0)),"") | L12: =IFERROR(INDEX(Proyectos!$H$3:$H$299,MATCH(D9*100+3,Proyectos!$M$3:$M$299,0)),"") | M12: =IFERROR(INDEX(Proyectos!$H$3:$H$299,MATCH(E9*100+3,Proyectos!$M$3:$M$299,0)),"") | N12: =IFERROR(INDEX(Proyectos!$H$3:$H$299,MATCH(F9*100+3,Proyectos!$M$3:$M$299,0)),"") | O12: =IFERROR(INDEX(Proyectos!$H$3:$H$299,MATCH(G9*100+3,Proyectos!$M$3:$M$299,0)),"")
C13: =IFERROR("#"&INDEX(Proyectos!$A$3:$A$299,MATCH(C9*100+4,Proyectos!$M$3:$M$299,0))&" · "&INDEX(Proyectos!$D$3:$D$299,MATCH(C9*100+4,Proyectos!$M$3:$M$299,0)),"") | D13: =IFERROR("#"&INDEX(Proyectos!$A$3:$A$299,MATCH(D9*100+4,Proyectos!$M$3:$M$299,0))&" · "&INDEX(Proyectos!$D$3:$D$299,MATCH(D9*100+4,Proyectos!$M$3:$M$299,0)),"") | E13: =IFERROR("#"&INDEX(Proyectos!$A$3:$A$299,MATCH(E9*100+4,Proyectos!$M$3:$M$299,0))&" · "&INDEX(Proyectos!$D$3:$D$299,MATCH(E9*100+4,Proyectos!$M$3:$M$299,0)),"") | F13: =IFERROR("#"&INDEX(Proyectos!$A$3:$A$299,MATCH(F9*100+4,Proyectos!$M$3:$M$299,0))&" · "&INDEX(Proyectos!$D$3:$D$299,MATCH(F9*100+4,Proyectos!$M$3:$M$299,0)),"") | G13: =IFERROR("#"&INDEX(Proyectos!$A$3:$A$299,MATCH(G9*100+4,Proyectos!$M$3:$M$299,0))&" · "&INDEX(Proyectos!$D$3:$D$299,MATCH(G9*100+4,Proyectos!$M$3:$M$299,0)),"") | K13: =IFERROR(INDEX(Proyectos!$H$3:$H$299,MATCH(C9*100+4,Proyectos!$M$3:$M$299,0)),"") | L13: =IFERROR(INDEX(Proyectos!$H$3:$H$299,MATCH(D9*100+4,Proyectos!$M$3:$M$299,0)),"") | M13: =IFERROR(INDEX(Proyectos!$H$3:$H$299,MATCH(E9*100+4,Proyectos!$M$3:$M$299,0)),"") | N13: =IFERROR(INDEX(Proyectos!$H$3:$H$299,MATCH(F9*100+4,Proyectos!$M$3:$M$299,0)),"") | O13: =IFERROR(INDEX(Proyectos!$H$3:$H$299,MATCH(G9*100+4,Proyectos!$M$3:$M$299,0)),"")
C14: =IFERROR("#"&INDEX(Proyectos!$A$3:$A$299,MATCH(C9*100+5,Proyectos!$M$3:$M$299,0))&" · "&INDEX(Proyectos!$D$3:$D$299,MATCH(C9*100+5,Proyectos!$M$3:$M$299,0)),"") | D14: =IFERROR("#"&INDEX(Proyectos!$A$3:$A$299,MATCH(D9*100+5,Proyectos!$M$3:$M$299,0))&" · "&INDEX(Proyectos!$D$3:$D$299,MATCH(D9*100+5,Proyectos!$M$3:$M$299,0)),"") | E14: =IFERROR("#"&INDEX(Proyectos!$A$3:$A$299,MATCH(E9*100+5,Proyectos!$M$3:$M$299,0))&" · "&INDEX(Proyectos!$D$3:$D$299,MATCH(E9*100+5,Proyectos!$M$3:$M$299,0)),"") | F14: =IFERROR("#"&INDEX(Proyectos!$A$3:$A$299,MATCH(F9*100+5,Proyectos!$M$3:$M$299,0))&" · "&INDEX(Proyectos!$D$3:$D$299,MATCH(F9*100+5,Proyectos!$M$3:$M$299,0)),"") | G14: =IFERROR("#"&INDEX(Proyectos!$A$3:$A$299,MATCH(G9*100+5,Proyectos!$M$3:$M$299,0))&" · "&INDEX(Proyectos!$D$3:$D$299,MATCH(G9*100+5,Proyectos!$M$3:$M$299,0)),"") | K14: =IFERROR(INDEX(Proyectos!$H$3:$H$299,MATCH(C9*100+5,Proyectos!$M$3:$M$299,0)),"") | L14: =IFERROR(INDEX(Proyectos!$H$3:$H$299,MATCH(D9*100+5,Proyectos!$M$3:$M$299,0)),"") | M14: =IFERROR(INDEX(Proyectos!$H$3:$H$299,MATCH(E9*100+5,Proyectos!$M$3:$M$299,0)),"") | N14: =IFERROR(INDEX(Proyectos!$H$3:$H$299,MATCH(F9*100+5,Proyectos!$M$3:$M$299,0)),"") | O14: =IFERROR(INDEX(Proyectos!$H$3:$H$299,MATCH(G9*100+5,Proyectos!$M$3:$M$299,0)),"")
C15: =IFERROR("#"&INDEX(Proyectos!$A$3:$A$299,MATCH(C9*100+6,Proyectos!$M$3:$M$299,0))&" · "&INDEX(Proyectos!$D$3:$D$299,MATCH(C9*100+6,Proyectos!$M$3:$M$299,0)),"") | D15: =IFERROR("#"&INDEX(Proyectos!$A$3:$A$299,MATCH(D9*100+6,Proyectos!$M$3:$M$299,0))&" · "&INDEX(Proyectos!$D$3:$D$299,MATCH(D9*100+6,Proyectos!$M$3:$M$299,0)),"") | E15: =IFERROR("#"&INDEX(Proyectos!$A$3:$A$299,MATCH(E9*100+6,Proyectos!$M$3:$M$299,0))&" · "&INDEX(Proyectos!$D$3:$D$299,MATCH(E9*100+6,Proyectos!$M$3:$M$299,0)),"") | F15: =IFERROR("#"&INDEX(Proyectos!$A$3:$A$299,MATCH(F9*100+6,Proyectos!$M$3:$M$299,0))&" · "&INDEX(Proyectos!$D$3:$D$299,MATCH(F9*100+6,Proyectos!$M$3:$M$299,0)),"") | G15: =IFERROR("#"&INDEX(Proyectos!$A$3:$A$299,MATCH(G9*100+6,Proyectos!$M$3:$M$299,0))&" · "&INDEX(Proyectos!$D$3:$D$299,MATCH(G9*100+6,Proyectos!$M$3:$M$299,0)),"") | K15: =IFERROR(INDEX(Proyectos!$H$3:$H$299,MATCH(C9*100+6,Proyectos!$M$3:$M$299,0)),"") | L15: =IFERROR(INDEX(Proyectos!$H$3:$H$299,MATCH(D9*100+6,Proyectos!$M$3:$M$299,0)),"") | M15: =IFERROR(INDEX(Proyectos!$H$3:$H$299,MATCH(E9*100+6,Proyectos!$M$3:$M$299,0)),"") | N15: =IFERROR(INDEX(Proyectos!$H$3:$H$299,MATCH(F9*100+6,Proyectos!$M$3:$M$299,0)),"") | O15: =IFERROR(INDEX(Proyectos!$H$3:$H$299,MATCH(G9*100+6,Proyectos!$M$3:$M$299,0)),"")
C16: =IFERROR("#"&INDEX(Proyectos!$A$3:$A$299,MATCH(C9*100+7,Proyectos!$M$3:$M$299,0))&" · "&INDEX(Proyectos!$D$3:$D$299,MATCH(C9*100+7,Proyectos!$M$3:$M$299,0)),"") | D16: =IFERROR("#"&INDEX(Proyectos!$A$3:$A$299,MATCH(D9*100+7,Proyectos!$M$3:$M$299,0))&" · "&INDEX(Proyectos!$D$3:$D$299,MATCH(D9*100+7,Proyectos!$M$3:$M$299,0)),"") | E16: =IFERROR("#"&INDEX(Proyectos!$A$3:$A$299,MATCH(E9*100+7,Proyectos!$M$3:$M$299,0))&" · "&INDEX(Proyectos!$D$3:$D$299,MATCH(E9*100+7,Proyectos!$M$3:$M$299,0)),"") | F16: =IFERROR("#"&INDEX(Proyectos!$A$3:$A$299,MATCH(F9*100+7,Proyectos!$M$3:$M$299,0))&" · "&INDEX(Proyectos!$D$3:$D$299,MATCH(F9*100+7,Proyectos!$M$3:$M$299,0)),"") | G16: =IFERROR("#"&INDEX(Proyectos!$A$3:$A$299,MATCH(G9*100+7,Proyectos!$M$3:$M$299,0))&" · "&INDEX(Proyectos!$D$3:$D$299,MATCH(G9*100+7,Proyectos!$M$3:$M$299,0)),"") | K16: =IFERROR(INDEX(Proyectos!$H$3:$H$299,MATCH(C9*100+7,Proyectos!$M$3:$M$299,0)),"") | L16: =IFERROR(INDEX(Proyectos!$H$3:$H$299,MATCH(D9*100+7,Proyectos!$M$3:$M$299,0)),"") | M16: =IFERROR(INDEX(Proyectos!$H$3:$H$299,MATCH(E9*100+7,Proyectos!$M$3:$M$299,0)),"") | N16: =IFERROR(INDEX(Proyectos!$H$3:$H$299,MATCH(F9*100+7,Proyectos!$M$3:$M$299,0)),"") | O16: =IFERROR(INDEX(Proyectos!$H$3:$H$299,MATCH(G9*100+7,Proyectos!$M$3:$M$299,0)),"")
C17: =IFERROR("#"&INDEX(Proyectos!$A$3:$A$299,MATCH(C9*100+8,Proyectos!$M$3:$M$299,0))&" · "&INDEX(Proyectos!$D$3:$D$299,MATCH(C9*100+8,Proyectos!$M$3:$M$299,0)),"") | D17: =IFERROR("#"&INDEX(Proyectos!$A$3:$A$299,MATCH(D9*100+8,Proyectos!$M$3:$M$299,0))&" · "&INDEX(Proyectos!$D$3:$D$299,MATCH(D9*100+8,Proyectos!$M$3:$M$299,0)),"") | E17: =IFERROR("#"&INDEX(Proyectos!$A$3:$A$299,MATCH(E9*100+8,Proyectos!$M$3:$M$299,0))&" · "&INDEX(Proyectos!$D$3:$D$299,MATCH(E9*100+8,Proyectos!$M$3:$M$299,0)),"") | F17: =IFERROR("#"&INDEX(Proyectos!$A$3:$A$299,MATCH(F9*100+8,Proyectos!$M$3:$M$299,0))&" · "&INDEX(Proyectos!$D$3:$D$299,MATCH(F9*100+8,Proyectos!$M$3:$M$299,0)),"") | G17: =IFERROR("#"&INDEX(Proyectos!$A$3:$A$299,MATCH(G9*100+8,Proyectos!$M$3:$M$299,0))&" · "&INDEX(Proyectos!$D$3:$D$299,MATCH(G9*100+8,Proyectos!$M$3:$M$299,0)),"") | K17: =IFERROR(INDEX(Proyectos!$H$3:$H$299,MATCH(C9*100+8,Proyectos!$M$3:$M$299,0)),"") | L17: =IFERROR(INDEX(Proyectos!$H$3:$H$299,MATCH(D9*100+8,Proyectos!$M$3:$M$299,0)),"") | M17: =IFERROR(INDEX(Proyectos!$H$3:$H$299,MATCH(E9*100+8,Proyectos!$M$3:$M$299,0)),"") | N17: =IFERROR(INDEX(Proyectos!$H$3:$H$299,MATCH(F9*100+8,Proyectos!$M$3:$M$299,0)),"") | O17: =IFERROR(INDEX(Proyectos!$H$3:$H$299,MATCH(G9*100+8,Proyectos!$M$3:$M$299,0)),"")
A18: 46209 | B18: 46210 | C18: 46211 | D18: 46212 | E18: 46213 | F18: 46214 | G18: 46215
A19: =IFERROR("#"&INDEX(Proyectos!$A$3:$A$299,MATCH(A18*100+1,Proyectos!$M$3:$M$299,0))&" · "&INDEX(Proyectos!$D$3:$D$299,MATCH(A18*100+1,Proyectos!$M$3:$M$299,0)),"") | B19: =IFERROR("#"&INDEX(Proyectos!$A$3:$A$299,MATCH(B18*100+1,Proyectos!$M$3:$M$299,0))&" · "&INDEX(Proyectos!$D$3:$D$299,MATCH(B18*100+1,Proyectos!$M$3:$M$299,0)),"") | C19: =IFERROR("#"&INDEX(Proyectos!$A$3:$A$299,MATCH(C18*100+1,Proyectos!$M$3:$M$299,0))&" · "&INDEX(Proyectos!$D$3:$D$299,MATCH(C18*100+1,Proyectos!$M$3:$M$299,0)),"") | D19: =IFERROR("#"&INDEX(Proyectos!$A$3:$A$299,MATCH(D18*100+1,Proyectos!$M$3:$M$299,0))&" · "&INDEX(Proyectos!$D$3:$D$299,MATCH(D18*100+1,Proyectos!$M$3:$M$299,0)),"") | E19: =IFERROR("#"&INDEX(Proyectos!$A$3:$A$299,MATCH(E18*100+1,Proyectos!$M$3:$M$299,0))&" · "&INDEX(Proyectos!$D$3:$D$299,MATCH(E18*100+1,Proyectos!$M$3:$M$299,0)),"") | F19: =IFERROR("#"&INDEX(Proyectos!$A$3:$A$299,MATCH(F18*100+1,Proyectos!$M$3:$M$299,0))&" · "&INDEX(Proyectos!$D$3:$D$299,MATCH(F18*100+1,Proyectos!$M$3:$M$299,0)),"") | G19: =IFERROR("#"&INDEX(Proyectos!$A$3:$A$299,MATCH(G18*100+1,Proyectos!$M$3:$M$299,0))&" · "&INDEX(Proyectos!$D$3:$D$299,MATCH(G18*100+1,Proyectos!$M$3:$M$299,0)),"") | I19: =IFERROR(INDEX(Proyectos!$H$3:$H$299,MATCH(A18*100+1,Proyectos!$M$3:$M$299,0)),"") | J19: =IFERROR(INDEX(Proyectos!$H$3:$H$299,MATCH(B18*100+1,Proyectos!$M$3:$M$299,0)),"") | K19: =IFERROR(INDEX(Proyectos!$H$3:$H$299,MATCH(C18*100+1,Proyectos!$M$3:$M$299,0)),"") | L19: =IFERROR(INDEX(Proyectos!$H$3:$H$299,MATCH(D18*100+1,Proyectos!$M$3:$M$299,0)),"") | M19: =IFERROR(INDEX(Proyectos!$H$3:$H$299,MATCH(E18*100+1,Proyectos!$M$3:$M$299,0)),"") | N19: =IFERROR(INDEX(Proyectos!$H$3:$H$299,MATCH(F18*100+1,Proyectos!$M$3:$M$299,0)),"") | O19: =IFERROR(INDEX(Proyectos!$H$3:$H$299,MATCH(G18*100+1,Proyectos!$M$3:$M$299,0)),"")
A20: =IFERROR("#"&INDEX(Proyectos!$A$3:$A$299,MATCH(A18*100+2,Proyectos!$M$3:$M$299,0))&" · "&INDEX(Proyectos!$D$3:$D$299,MATCH(A18*100+2,Proyectos!$M$3:$M$299,0)),"") | B20: =IFERROR("#"&INDEX(Proyectos!$A$3:$A$299,MATCH(B18*100+2,Proyectos!$M$3:$M$299,0))&" · "&INDEX(Proyectos!$D$3:$D$299,MATCH(B18*100+2,Proyectos!$M$3:$M$299,0)),"") | C20: =IFERROR("#"&INDEX(Proyectos!$A$3:$A$299,MATCH(C18*100+2,Proyectos!$M$3:$M$299,0))&" · "&INDEX(Proyectos!$D$3:$D$299,MATCH(C18*100+2,Proyectos!$M$3:$M$299,0)),"") | D20: =IFERROR("#"&INDEX(Proyectos!$A$3:$A$299,MATCH(D18*100+2,Proyectos!$M$3:$M$299,0))&" · "&INDEX(Proyectos!$D$3:$D$299,MATCH(D18*100+2,Proyectos!$M$3:$M$299,0)),"") | E20: =IFERROR("#"&INDEX(Proyectos!$A$3:$A$299,MATCH(E18*100+2,Proyectos!$M$3:$M$299,0))&" · "&INDEX(Proyectos!$D$3:$D$299,MATCH(E18*100+2,Proyectos!$M$3:$M$299,0)),"") | F20: =IFERROR("#"&INDEX(Proyectos!$A$3:$A$299,MATCH(F18*100+2,Proyectos!$M$3:$M$299,0))&" · "&INDEX(Proyectos!$D$3:$D$299,MATCH(F18*100+2,Proyectos!$M$3:$M$299,0)),"") | G20: =IFERROR("#"&INDEX(Proyectos!$A$3:$A$299,MATCH(G18*100+2,Proyectos!$M$3:$M$299,0))&" · "&INDEX(Proyectos!$D$3:$D$299,MATCH(G18*100+2,Proyectos!$M$3:$M$299,0)),"") | I20: =IFERROR(INDEX(Proyectos!$H$3:$H$299,MATCH(A18*100+2,Proyectos!$M$3:$M$299,0)),"") | J20: =IFERROR(INDEX(Proyectos!$H$3:$H$299,MATCH(B18*100+2,Proyectos!$M$3:$M$299,0)),"") | K20: =IFERROR(INDEX(Proyectos!$H$3:$H$299,MATCH(C18*100+2,Proyectos!$M$3:$M$299,0)),"") | L20: =IFERROR(INDEX(Proyectos!$H$3:$H$299,MATCH(D18*100+2,Proyectos!$M$3:$M$299,0)),"") | M20: =IFERROR(INDEX(Proyectos!$H$3:$H$299,MATCH(E18*100+2,Proyectos!$M$3:$M$299,0)),"") | N20: =IFERROR(INDEX(Proyectos!$H$3:$H$299,MATCH(F18*100+2,Proyectos!$M$3:$M$299,0)),"") | O20: =IFERROR(INDEX(Proyectos!$H$3:$H$299,MATCH(G18*100+2,Proyectos!$M$3:$M$299,0)),"")
A21: =IFERROR("#"&INDEX(Proyectos!$A$3:$A$299,MATCH(A18*100+3,Proyectos!$M$3:$M$299,0))&" · "&INDEX(Proyectos!$D$3:$D$299,MATCH(A18*100+3,Proyectos!$M$3:$M$299,0)),"") | B21: =IFERROR("#"&INDEX(Proyectos!$A$3:$A$299,MATCH(B18*100+3,Proyectos!$M$3:$M$299,0))&" · "&INDEX(Proyectos!$D$3:$D$299,MATCH(B18*100+3,Proyectos!$M$3:$M$299,0)),"") | C21: =IFERROR("#"&INDEX(Proyectos!$A$3:$A$299,MATCH(C18*100+3,Proyectos!$M$3:$M$299,0))&" · "&INDEX(Proyectos!$D$3:$D$299,MATCH(C18*100+3,Proyectos!$M$3:$M$299,0)),"") | D21: =IFERROR("#"&INDEX(Proyectos!$A$3:$A$299,MATCH(D18*100+3,Proyectos!$M$3:$M$299,0))&" · "&INDEX(Proyectos!$D$3:$D$299,MATCH(D18*100+3,Proyectos!$M$3:$M$299,0)),"") | E21: =IFERROR("#"&INDEX(Proyectos!$A$3:$A$299,MATCH(E18*100+3,Proyectos!$M$3:$M$299,0))&" · "&INDEX(Proyectos!$D$3:$D$299,MATCH(E18*100+3,Proyectos!$M$3:$M$299,0)),"") | F21: =IFERROR("#"&INDEX(Proyectos!$A$3:$A$299,MATCH(F18*100+3,Proyectos!$M$3:$M$299,0))&" · "&INDEX(Proyectos!$D$3:$D$299,MATCH(F18*100+3,Proyectos!$M$3:$M$299,0)),"") | G21: =IFERROR("#"&INDEX(Proyectos!$A$3:$A$299,MATCH(G18*100+3,Proyectos!$M$3:$M$299,0))&" · "&INDEX(Proyectos!$D$3:$D$299,MATCH(G18*100+3,Proyectos!$M$3:$M$299,0)),"") | I21: =IFERROR(INDEX(Proyectos!$H$3:$H$299,MATCH(A18*100+3,Proyectos!$M$3:$M$299,0)),"") | J21: =IFERROR(INDEX(Proyectos!$H$3:$H$299,MATCH(B18*100+3,Proyectos!$M$3:$M$299,0)),"") | K21: =IFERROR(INDEX(Proyectos!$H$3:$H$299,MATCH(C18*100+3,Proyectos!$M$3:$M$299,0)),"") | L21: =IFERROR(INDEX(Proyectos!$H$3:$H$299,MATCH(D18*100+3,Proyectos!$M$3:$M$299,0)),"") | M21: =IFERROR(INDEX(Proyectos!$H$3:$H$299,MATCH(E18*100+3,Proyectos!$M$3:$M$299,0)),"") | N21: =IFERROR(INDEX(Proyectos!$H$3:$H$299,MATCH(F18*100+3,Proyectos!$M$3:$M$299,0)),"") | O21: =IFERROR(INDEX(Proyectos!$H$3:$H$299,MATCH(G18*100+3,Proyectos!$M$3:$M$299,0)),"")
A22: =IFERROR("#"&INDEX(Proyectos!$A$3:$A$299,MATCH(A18*100+4,Proyectos!$M$3:$M$299,0))&" · "&INDEX(Proyectos!$D$3:$D$299,MATCH(A18*100+4,Proyectos!$M$3:$M$299,0)),"") | B22: =IFERROR("#"&INDEX(Proyectos!$A$3:$A$299,MATCH(B18*100+4,Proyectos!$M$3:$M$299,0))&" · "&INDEX(Proyectos!$D$3:$D$299,MATCH(B18*100+4,Proyectos!$M$3:$M$299,0)),"") | C22: =IFERROR("#"&INDEX(Proyectos!$A$3:$A$299,MATCH(C18*100+4,Proyectos!$M$3:$M$299,0))&" · "&INDEX(Proyectos!$D$3:$D$299,MATCH(C18*100+4,Proyectos!$M$3:$M$299,0)),"") | D22: =IFERROR("#"&INDEX(Proyectos!$A$3:$A$299,MATCH(D18*100+4,Proyectos!$M$3:$M$299,0))&" · "&INDEX(Proyectos!$D$3:$D$299,MATCH(D18*100+4,Proyectos!$M$3:$M$299,0)),"") | E22: =IFERROR("#"&INDEX(Proyectos!$A$3:$A$299,MATCH(E18*100+4,Proyectos!$M$3:$M$299,0))&" · "&INDEX(Proyectos!$D$3:$D$299,MATCH(E18*100+4,Proyectos!$M$3:$M$299,0)),"") | F22: =IFERROR("#"&INDEX(Proyectos!$A$3:$A$299,MATCH(F18*100+4,Proyectos!$M$3:$M$299,0))&" · "&INDEX(Proyectos!$D$3:$D$299,MATCH(F18*100+4,Proyectos!$M$3:$M$299,0)),"") | G22: =IFERROR("#"&INDEX(Proyectos!$A$3:$A$299,MATCH(G18*100+4,Proyectos!$M$3:$M$299,0))&" · "&INDEX(Proyectos!$D$3:$D$299,MATCH(G18*100+4,Proyectos!$M$3:$M$299,0)),"") | I22: =IFERROR(INDEX(Proyectos!$H$3:$H$299,MATCH(A18*100+4,Proyectos!$M$3:$M$299,0)),"") | J22: =IFERROR(INDEX(Proyectos!$H$3:$H$299,MATCH(B18*100+4,Proyectos!$M$3:$M$299,0)),"") | K22: =IFERROR(INDEX(Proyectos!$H$3:$H$299,MATCH(C18*100+4,Proyectos!$M$3:$M$299,0)),"") | L22: =IFERROR(INDEX(Proyectos!$H$3:$H$299,MATCH(D18*100+4,Proyectos!$M$3:$M$299,0)),"") | M22: =IFERROR(INDEX(Proyectos!$H$3:$H$299,MATCH(E18*100+4,Proyectos!$M$3:$M$299,0)),"") | N22: =IFERROR(INDEX(Proyectos!$H$3:$H$299,MATCH(F18*100+4,Proyectos!$M$3:$M$299,0)),"") | O22: =IFERROR(INDEX(Proyectos!$H$3:$H$299,MATCH(G18*100+4,Proyectos!$M$3:$M$299,0)),"")
A23: =IFERROR("#"&INDEX(Proyectos!$A$3:$A$299,MATCH(A18*100+5,Proyectos!$M$3:$M$299,0))&" · "&INDEX(Proyectos!$D$3:$D$299,MATCH(A18*100+5,Proyectos!$M$3:$M$299,0)),"") | B23: =IFERROR("#"&INDEX(Proyectos!$A$3:$A$299,MATCH(B18*100+5,Proyectos!$M$3:$M$299,0))&" · "&INDEX(Proyectos!$D$3:$D$299,MATCH(B18*100+5,Proyectos!$M$3:$M$299,0)),"") | C23: =IFERROR("#"&INDEX(Proyectos!$A$3:$A$299,MATCH(C18*100+5,Proyectos!$M$3:$M$299,0))&" · "&INDEX(Proyectos!$D$3:$D$299,MATCH(C18*100+5,Proyectos!$M$3:$M$299,0)),"") | D23: =IFERROR("#"&INDEX(Proyectos!$A$3:$A$299,MATCH(D18*100+5,Proyectos!$M$3:$M$299,0))&" · "&INDEX(Proyectos!$D$3:$D$299,MATCH(D18*100+5,Proyectos!$M$3:$M$299,0)),"") | E23: =IFERROR("#"&INDEX(Proyectos!$A$3:$A$299,MATCH(E18*100+5,Proyectos!$M$3:$M$299,0))&" · "&INDEX(Proyectos!$D$3:$D$299,MATCH(E18*100+5,Proyectos!$M$3:$M$299,0)),"") | F23: =IFERROR("#"&INDEX(Proyectos!$A$3:$A$299,MATCH(F18*100+5,Proyectos!$M$3:$M$299,0))&" · "&INDEX(Proyectos!$D$3:$D$299,MATCH(F18*100+5,Proyectos!$M$3:$M$299,0)),"") | G23: =IFERROR("#"&INDEX(Proyectos!$A$3:$A$299,MATCH(G18*100+5,Proyectos!$M$3:$M$299,0))&" · "&INDEX(Proyectos!$D$3:$D$299,MATCH(G18*100+5,Proyectos!$M$3:$M$299,0)),"") | I23: =IFERROR(INDEX(Proyectos!$H$3:$H$299,MATCH(A18*100+5,Proyectos!$M$3:$M$299,0)),"") | J23: =IFERROR(INDEX(Proyectos!$H$3:$H$299,MATCH(B18*100+5,Proyectos!$M$3:$M$299,0)),"") | K23: =IFERROR(INDEX(Proyectos!$H$3:$H$299,MATCH(C18*100+5,Proyectos!$M$3:$M$299,0)),"") | L23: =IFERROR(INDEX(Proyectos!$H$3:$H$299,MATCH(D18*100+5,Proyectos!$M$3:$M$299,0)),"") | M23: =IFERROR(INDEX(Proyectos!$H$3:$H$299,MATCH(E18*100+5,Proyectos!$M$3:$M$299,0)),"") | N23: =IFERROR(INDEX(Proyectos!$H$3:$H$299,MATCH(F18*100+5,Proyectos!$M$3:$M$299,0)),"") | O23: =IFERROR(INDEX(Proyectos!$H$3:$H$299,MATCH(G18*100+5,Proyectos!$M$3:$M$299,0)),"")
A24: =IFERROR("#"&INDEX(Proyectos!$A$3:$A$299,MATCH(A18*100+6,Proyectos!$M$3:$M$299,0))&" · "&INDEX(Proyectos!$D$3:$D$299,MATCH(A18*100+6,Proyectos!$M$3:$M$299,0)),"") | B24: =IFERROR("#"&INDEX(Proyectos!$A$3:$A$299,MATCH(B18*100+6,Proyectos!$M$3:$M$299,0))&" · "&INDEX(Proyectos!$D$3:$D$299,MATCH(B18*100+6,Proyectos!$M$3:$M$299,0)),"") | C24: =IFERROR("#"&INDEX(Proyectos!$A$3:$A$299,MATCH(C18*100+6,Proyectos!$M$3:$M$299,0))&" · "&INDEX(Proyectos!$D$3:$D$299,MATCH(C18*100+6,Proyectos!$M$3:$M$299,0)),"") | D24: =IFERROR("#"&INDEX(Proyectos!$A$3:$A$299,MATCH(D18*100+6,Proyectos!$M$3:$M$299,0))&" · "&INDEX(Proyectos!$D$3:$D$299,MATCH(D18*100+6,Proyectos!$M$3:$M$299,0)),"") | E24: =IFERROR("#"&INDEX(Proyectos!$A$3:$A$299,MATCH(E18*100+6,Proyectos!$M$3:$M$299,0))&" · "&INDEX(Proyectos!$D$3:$D$299,MATCH(E18*100+6,Proyectos!$M$3:$M$299,0)),"") | F24: =IFERROR("#"&INDEX(Proyectos!$A$3:$A$299,MATCH(F18*100+6,Proyectos!$M$3:$M$299,0))&" · "&INDEX(Proyectos!$D$3:$D$299,MATCH(F18*100+6,Proyectos!$M$3:$M$299,0)),"") | G24: =IFERROR("#"&INDEX(Proyectos!$A$3:$A$299,MATCH(G18*100+6,Proyectos!$M$3:$M$299,0))&" · "&INDEX(Proyectos!$D$3:$D$299,MATCH(G18*100+6,Proyectos!$M$3:$M$299,0)),"") | I24: =IFERROR(INDEX(Proyectos!$H$3:$H$299,MATCH(A18*100+6,Proyectos!$M$3:$M$299,0)),"") | J24: =IFERROR(INDEX(Proyectos!$H$3:$H$299,MATCH(B18*100+6,Proyectos!$M$3:$M$299,0)),"") | K24: =IFERROR(INDEX(Proyectos!$H$3:$H$299,MATCH(C18*100+6,Proyectos!$M$3:$M$299,0)),"") | L24: =IFERROR(INDEX(Proyectos!$H$3:$H$299,MATCH(D18*100+6,Proyectos!$M$3:$M$299,0)),"") | M24: =IFERROR(INDEX(Proyectos!$H$3:$H$299,MATCH(E18*100+6,Proyectos!$M$3:$M$299,0)),"") | N24: =IFERROR(INDEX(Proyectos!$H$3:$H$299,MATCH(F18*100+6,Proyectos!$M$3:$M$299,0)),"") | O24: =IFERROR(INDEX(Proyectos!$H$3:$H$299,MATCH(G18*100+6,Proyectos!$M$3:$M$299,0)),"")
A25: =IFERROR("#"&INDEX(Proyectos!$A$3:$A$299,MATCH(A18*100+7,Proyectos!$M$3:$M$299,0))&" · "&INDEX(Proyectos!$D$3:$D$299,MATCH(A18*100+7,Proyectos!$M$3:$M$299,0)),"") | B25: =IFERROR("#"&INDEX(Proyectos!$A$3:$A$299,MATCH(B18*100+7,Proyectos!$M$3:$M$299,0))&" · "&INDEX(Proyectos!$D$3:$D$299,MATCH(B18*100+7,Proyectos!$M$3:$M$299,0)),"") | C25: =IFERROR("#"&INDEX(Proyectos!$A$3:$A$299,MATCH(C18*100+7,Proyectos!$M$3:$M$299,0))&" · "&INDEX(Proyectos!$D$3:$D$299,MATCH(C18*100+7,Proyectos!$M$3:$M$299,0)),"") | D25: =IFERROR("#"&INDEX(Proyectos!$A$3:$A$299,MATCH(D18*100+7,Proyectos!$M$3:$M$299,0))&" · "&INDEX(Proyectos!$D$3:$D$299,MATCH(D18*100+7,Proyectos!$M$3:$M$299,0)),"") | E25: =IFERROR("#"&INDEX(Proyectos!$A$3:$A$299,MATCH(E18*100+7,Proyectos!$M$3:$M$299,0))&" · "&INDEX(Proyectos!$D$3:$D$299,MATCH(E18*100+7,Proyectos!$M$3:$M$299,0)),"") | F25: =IFERROR("#"&INDEX(Proyectos!$A$3:$A$299,MATCH(F18*100+7,Proyectos!$M$3:$M$299,0))&" · "&INDEX(Proyectos!$D$3:$D$299,MATCH(F18*100+7,Proyectos!$M$3:$M$299,0)),"") | G25: =IFERROR("#"&INDEX(Proyectos!$A$3:$A$299,MATCH(G18*100+7,Proyectos!$M$3:$M$299,0))&" · "&INDEX(Proyectos!$D$3:$D$299,MATCH(G18*100+7,Proyectos!$M$3:$M$299,0)),"") | I25: =IFERROR(INDEX(Proyectos!$H$3:$H$299,MATCH(A18*100+7,Proyectos!$M$3:$M$299,0)),"") | J25: =IFERROR(INDEX(Proyectos!$H$3:$H$299,MATCH(B18*100+7,Proyectos!$M$3:$M$299,0)),"") | K25: =IFERROR(INDEX(Proyectos!$H$3:$H$299,MATCH(C18*100+7,Proyectos!$M$3:$M$299,0)),"") | L25: =IFERROR(INDEX(Proyectos!$H$3:$H$299,MATCH(D18*100+7,Proyectos!$M$3:$M$299,0)),"") | M25: =IFERROR(INDEX(Proyectos!$H$3:$H$299,MATCH(E18*100+7,Proyectos!$M$3:$M$299,0)),"") | N25: =IFERROR(INDEX(Proyectos!$H$3:$H$299,MATCH(F18*100+7,Proyectos!$M$3:$M$299,0)),"") | O25: =IFERROR(INDEX(Proyectos!$H$3:$H$299,MATCH(G18*100+7,Proyectos!$M$3:$M$299,0)),"")
A26: =IFERROR("#"&INDEX(Proyectos!$A$3:$A$299,MATCH(A18*100+8,Proyectos!$M$3:$M$299,0))&" · "&INDEX(Proyectos!$D$3:$D$299,MATCH(A18*100+8,Proyectos!$M$3:$M$299,0)),"") | B26: =IFERROR("#"&INDEX(Proyectos!$A$3:$A$299,MATCH(B18*100+8,Proyectos!$M$3:$M$299,0))&" · "&INDEX(Proyectos!$D$3:$D$299,MATCH(B18*100+8,Proyectos!$M$3:$M$299,0)),"") | C26: =IFERROR("#"&INDEX(Proyectos!$A$3:$A$299,MATCH(C18*100+8,Proyectos!$M$3:$M$299,0))&" · "&INDEX(Proyectos!$D$3:$D$299,MATCH(C18*100+8,Proyectos!$M$3:$M$299,0)),"") | D26: =IFERROR("#"&INDEX(Proyectos!$A$3:$A$299,MATCH(D18*100+8,Proyectos!$M$3:$M$299,0))&" · "&INDEX(Proyectos!$D$3:$D$299,MATCH(D18*100+8,Proyectos!$M$3:$M$299,0)),"") | E26: =IFERROR("#"&INDEX(Proyectos!$A$3:$A$299,MATCH(E18*100+8,Proyectos!$M$3:$M$299,0))&" · "&INDEX(Proyectos!$D$3:$D$299,MATCH(E18*100+8,Proyectos!$M$3:$M$299,0)),"") | F26: =IFERROR("#"&INDEX(Proyectos!$A$3:$A$299,MATCH(F18*100+8,Proyectos!$M$3:$M$299,0))&" · "&INDEX(Proyectos!$D$3:$D$299,MATCH(F18*100+8,Proyectos!$M$3:$M$299,0)),"") | G26: =IFERROR("#"&INDEX(Proyectos!$A$3:$A$299,MATCH(G18*100+8,Proyectos!$M$3:$M$299,0))&" · "&INDEX(Proyectos!$D$3:$D$299,MATCH(G18*100+8,Proyectos!$M$3:$M$299,0)),"") | I26: =IFERROR(INDEX(Proyectos!$H$3:$H$299,MATCH(A18*100+8,Proyectos!$M$3:$M$299,0)),"") | J26: =IFERROR(INDEX(Proyectos!$H$3:$H$299,MATCH(B18*100+8,Proyectos!$M$3:$M$299,0)),"") | K26: =IFERROR(INDEX(Proyectos!$H$3:$H$299,MATCH(C18*100+8,Proyectos!$M$3:$M$299,0)),"") | L26: =IFERROR(INDEX(Proyectos!$H$3:$H$299,MATCH(D18*100+8,Proyectos!$M$3:$M$299,0)),"") | M26: =IFERROR(INDEX(Proyectos!$H$3:$H$299,MATCH(E18*100+8,Proyectos!$M$3:$M$299,0)),"") | N26: =IFERROR(INDEX(Proyectos!$H$3:$H$299,MATCH(F18*100+8,Proyectos!$M$3:$M$299,0)),"") | O26: =IFERROR(INDEX(Proyectos!$H$3:$H$299,MATCH(G18*100+8,Proyectos!$M$3:$M$299,0)),"")
A27: 46216 | B27: 46217 | C27: 46218 | D27: 46219 | E27: 46220 | F27: 46221 | G27: 46222
A28: =IFERROR("#"&INDEX(Proyectos!$A$3:$A$299,MATCH(A27*100+1,Proyectos!$M$3:$M$299,0))&" · "&INDEX(Proyectos!$D$3:$D$299,MATCH(A27*100+1,Proyectos!$M$3:$M$299,0)),"") | B28: =IFERROR("#"&INDEX(Proyectos!$A$3:$A$299,MATCH(B27*100+1,Proyectos!$M$3:$M$299,0))&" · "&INDEX(Proyectos!$D$3:$D$299,MATCH(B27*100+1,Proyectos!$M$3:$M$299,0)),"") | C28: =IFERROR("#"&INDEX(Proyectos!$A$3:$A$299,MATCH(C27*100+1,Proyectos!$M$3:$M$299,0))&" · "&INDEX(Proyectos!$D$3:$D$299,MATCH(C27*100+1,Proyectos!$M$3:$M$299,0)),"") | D28: =IFERROR("#"&INDEX(Proyectos!$A$3:$A$299,MATCH(D27*100+1,Proyectos!$M$3:$M$299,0))&" · "&INDEX(Proyectos!$D$3:$D$299,MATCH(D27*100+1,Proyectos!$M$3:$M$299,0)),"") | E28: =IFERROR("#"&INDEX(Proyectos!$A$3:$A$299,MATCH(E27*100+1,Proyectos!$M$3:$M$299,0))&" · "&INDEX(Proyectos!$D$3:$D$299,MATCH(E27*100+1,Proyectos!$M$3:$M$299,0)),"") | F28: =IFERROR("#"&INDEX(Proyectos!$A$3:$A$299,MATCH(F27*100+1,Proyectos!$M$3:$M$299,0))&" · "&INDEX(Proyectos!$D$3:$D$299,MATCH(F27*100+1,Proyectos!$M$3:$M$299,0)),"") | G28: =IFERROR("#"&INDEX(Proyectos!$A$3:$A$299,MATCH(G27*100+1,Proyectos!$M$3:$M$299,0))&" · "&INDEX(Proyectos!$D$3:$D$299,MATCH(G27*100+1,Proyectos!$M$3:$M$299,0)),"") | I28: =IFERROR(INDEX(Proyectos!$H$3:$H$299,MATCH(A27*100+1,Proyectos!$M$3:$M$299,0)),"") | J28: =IFERROR(INDEX(Proyectos!$H$3:$H$299,MATCH(B27*100+1,Proyectos!$M$3:$M$299,0)),"") | K28: =IFERROR(INDEX(Proyectos!$H$3:$H$299,MATCH(C27*100+1,Proyectos!$M$3:$M$299,0)),"") | L28: =IFERROR(INDEX(Proyectos!$H$3:$H$299,MATCH(D27*100+1,Proyectos!$M$3:$M$299,0)),"") | M28: =IFERROR(INDEX(Proyectos!$H$3:$H$299,MATCH(E27*100+1,Proyectos!$M$3:$M$299,0)),"") | N28: =IFERROR(INDEX(Proyectos!$H$3:$H$299,MATCH(F27*100+1,Proyectos!$M$3:$M$299,0)),"") | O28: =IFERROR(INDEX(Proyectos!$H$3:$H$299,MATCH(G27*100+1,Proyectos!$M$3:$M$299,0)),"")
A29: =IFERROR("#"&INDEX(Proyectos!$A$3:$A$299,MATCH(A27*100+2,Proyectos!$M$3:$M$299,0))&" · "&INDEX(Proyectos!$D$3:$D$299,MATCH(A27*100+2,Proyectos!$M$3:$M$299,0)),"") | B29: =IFERROR("#"&INDEX(Proyectos!$A$3:$A$299,MATCH(B27*100+2,Proyectos!$M$3:$M$299,0))&" · "&INDEX(Proyectos!$D$3:$D$299,MATCH(B27*100+2,Proyectos!$M$3:$M$299,0)),"") | C29: =IFERROR("#"&INDEX(Proyectos!$A$3:$A$299,MATCH(C27*100+2,Proyectos!$M$3:$M$299,0))&" · "&INDEX(Proyectos!$D$3:$D$299,MATCH(C27*100+2,Proyectos!$M$3:$M$299,0)),"") | D29: =IFERROR("#"&INDEX(Proyectos!$A$3:$A$299,MATCH(D27*100+2,Proyectos!$M$3:$M$299,0))&" · "&INDEX(Proyectos!$D$3:$D$299,MATCH(D27*100+2,Proyectos!$M$3:$M$299,0)),"") | E29: =IFERROR("#"&INDEX(Proyectos!$A$3:$A$299,MATCH(E27*100+2,Proyectos!$M$3:$M$299,0))&" · "&INDEX(Proyectos!$D$3:$D$299,MATCH(E27*100+2,Proyectos!$M$3:$M$299,0)),"") | F29: =IFERROR("#"&INDEX(Proyectos!$A$3:$A$299,MATCH(F27*100+2,Proyectos!$M$3:$M$299,0))&" · "&INDEX(Proyectos!$D$3:$D$299,MATCH(F27*100+2,Proyectos!$M$3:$M$299,0)),"") | G29: =IFERROR("#"&INDEX(Proyectos!$A$3:$A$299,MATCH(G27*100+2,Proyectos!$M$3:$M$299,0))&" · "&INDEX(Proyectos!$D$3:$D$299,MATCH(G27*100+2,Proyectos!$M$3:$M$299,0)),"") | I29: =IFERROR(INDEX(Proyectos!$H$3:$H$299,MATCH(A27*100+2,Proyectos!$M$3:$M$299,0)),"") | J29: =IFERROR(INDEX(Proyectos!$H$3:$H$299,MATCH(B27*100+2,Proyectos!$M$3:$M$299,0)),"") | K29: =IFERROR(INDEX(Proyectos!$H$3:$H$299,MATCH(C27*100+2,Proyectos!$M$3:$M$299,0)),"") | L29: =IFERROR(INDEX(Proyectos!$H$3:$H$299,MATCH(D27*100+2,Proyectos!$M$3:$M$299,0)),"") | M29: =IFERROR(INDEX(Proyectos!$H$3:$H$299,MATCH(E27*100+2,Proyectos!$M$3:$M$299,0)),"") | N29: =IFERROR(INDEX(Proyectos!$H$3:$H$299,MATCH(F27*100+2,Proyectos!$M$3:$M$299,0)),"") | O29: =IFERROR(INDEX(Proyectos!$H$3:$H$299,MATCH(G27*100+2,Proyectos!$M$3:$M$299,0)),"")
A30: =IFERROR("#"&INDEX(Proyectos!$A$3:$A$299,MATCH(A27*100+3,Proyectos!$M$3:$M$299,0))&" · "&INDEX(Proyectos!$D$3:$D$299,MATCH(A27*100+3,Proyectos!$M$3:$M$299,0)),"") | B30: =IFERROR("#"&INDEX(Proyectos!$A$3:$A$299,MATCH(B27*100+3,Proyectos!$M$3:$M$299,0))&" · "&INDEX(Proyectos!$D$3:$D$299,MATCH(B27*100+3,Proyectos!$M$3:$M$299,0)),"") | C30: =IFERROR("#"&INDEX(Proyectos!$A$3:$A$299,MATCH(C27*100+3,Proyectos!$M$3:$M$299,0))&" · "&INDEX(Proyectos!$D$3:$D$299,MATCH(C27*100+3,Proyectos!$M$3:$M$299,0)),"") | D30: =IFERROR("#"&INDEX(Proyectos!$A$3:$A$299,MATCH(D27*100+3,Proyectos!$M$3:$M$299,0))&" · "&INDEX(Proyectos!$D$3:$D$299,MATCH(D27*100+3,Proyectos!$M$3:$M$299,0)),"") | E30: =IFERROR("#"&INDEX(Proyectos!$A$3:$A$299,MATCH(E27*100+3,Proyectos!$M$3:$M$299,0))&" · "&INDEX(Proyectos!$D$3:$D$299,MATCH(E27*100+3,Proyectos!$M$3:$M$299,0)),"") | F30: =IFERROR("#"&INDEX(Proyectos!$A$3:$A$299,MATCH(F27*100+3,Proyectos!$M$3:$M$299,0))&" · "&INDEX(Proyectos!$D$3:$D$299,MATCH(F27*100+3,Proyectos!$M$3:$M$299,0)),"") | G30: =IFERROR("#"&INDEX(Proyectos!$A$3:$A$299,MATCH(G27*100+3,Proyectos!$M$3:$M$299,0))&" · "&INDEX(Proyectos!$D$3:$D$299,MATCH(G27*100+3,Proyectos!$M$3:$M$299,0)),"") | I30: =IFERROR(INDEX(Proyectos!$H$3:$H$299,MATCH(A27*100+3,Proyectos!$M$3:$M$299,0)),"") | J30: =IFERROR(INDEX(Proyectos!$H$3:$H$299,MATCH(B27*100+3,Proyectos!$M$3:$M$299,0)),"") | K30: =IFERROR(INDEX(Proyectos!$H$3:$H$299,MATCH(C27*100+3,Proyectos!$M$3:$M$299,0)),"") | L30: =IFERROR(INDEX(Proyectos!$H$3:$H$299,MATCH(D27*100+3,Proyectos!$M$3:$M$299,0)),"") | M30: =IFERROR(INDEX(Proyectos!$H$3:$H$299,MATCH(E27*100+3,Proyectos!$M$3:$M$299,0)),"") | N30: =IFERROR(INDEX(Proyectos!$H$3:$H$299,MATCH(F27*100+3,Proyectos!$M$3:$M$299,0)),"") | O30: =IFERROR(INDEX(Proyectos!$H$3:$H$299,MATCH(G27*100+3,Proyectos!$M$3:$M$299,0)),"")
A31: =IFERROR("#"&INDEX(Proyectos!$A$3:$A$299,MATCH(A27*100+4,Proyectos!$M$3:$M$299,0))&" · "&INDEX(Proyectos!$D$3:$D$299,MATCH(A27*100+4,Proyectos!$M$3:$M$299,0)),"") | B31: =IFERROR("#"&INDEX(Proyectos!$A$3:$A$299,MATCH(B27*100+4,Proyectos!$M$3:$M$299,0))&" · "&INDEX(Proyectos!$D$3:$D$299,MATCH(B27*100+4,Proyectos!$M$3:$M$299,0)),"") | C31: =IFERROR("#"&INDEX(Proyectos!$A$3:$A$299,MATCH(C27*100+4,Proyectos!$M$3:$M$299,0))&" · "&INDEX(Proyectos!$D$3:$D$299,MATCH(C27*100+4,Proyectos!$M$3:$M$299,0)),"") | D31: =IFERROR("#"&INDEX(Proyectos!$A$3:$A$299,MATCH(D27*100+4,Proyectos!$M$3:$M$299,0))&" · "&INDEX(Proyectos!$D$3:$D$299,MATCH(D27*100+4,Proyectos!$M$3:$M$299,0)),"") | E31: =IFERROR("#"&INDEX(Proyectos!$A$3:$A$299,MATCH(E27*100+4,Proyectos!$M$3:$M$299,0))&" · "&INDEX(Proyectos!$D$3:$D$299,MATCH(E27*100+4,Proyectos!$M$3:$M$299,0)),"") | F31: =IFERROR("#"&INDEX(Proyectos!$A$3:$A$299,MATCH(F27*100+4,Proyectos!$M$3:$M$299,0))&" · "&INDEX(Proyectos!$D$3:$D$299,MATCH(F27*100+4,Proyectos!$M$3:$M$299,0)),"") | G31: =IFERROR("#"&INDEX(Proyectos!$A$3:$A$299,MATCH(G27*100+4,Proyectos!$M$3:$M$299,0))&" · "&INDEX(Proyectos!$D$3:$D$299,MATCH(G27*100+4,Proyectos!$M$3:$M$299,0)),"") | I31: =IFERROR(INDEX(Proyectos!$H$3:$H$299,MATCH(A27*100+4,Proyectos!$M$3:$M$299,0)),"") | J31: =IFERROR(INDEX(Proyectos!$H$3:$H$299,MATCH(B27*100+4,Proyectos!$M$3:$M$299,0)),"") | K31: =IFERROR(INDEX(Proyectos!$H$3:$H$299,MATCH(C27*100+4,Proyectos!$M$3:$M$299,0)),"") | L31: =IFERROR(INDEX(Proyectos!$H$3:$H$299,MATCH(D27*100+4,Proyectos!$M$3:$M$299,0)),"") | M31: =IFERROR(INDEX(Proyectos!$H$3:$H$299,MATCH(E27*100+4,Proyectos!$M$3:$M$299,0)),"") | N31: =IFERROR(INDEX(Proyectos!$H$3:$H$299,MATCH(F27*100+4,Proyectos!$M$3:$M$299,0)),"") | O31: =IFERROR(INDEX(Proyectos!$H$3:$H$299,MATCH(G27*100+4,Proyectos!$M$3:$M$299,0)),"")
A32: =IFERROR("#"&INDEX(Proyectos!$A$3:$A$299,MATCH(A27*100+5,Proyectos!$M$3:$M$299,0))&" · "&INDEX(Proyectos!$D$3:$D$299,MATCH(A27*100+5,Proyectos!$M$3:$M$299,0)),"") | B32: =IFERROR("#"&INDEX(Proyectos!$A$3:$A$299,MATCH(B27*100+5,Proyectos!$M$3:$M$299,0))&" · "&INDEX(Proyectos!$D$3:$D$299,MATCH(B27*100+5,Proyectos!$M$3:$M$299,0)),"") | C32: =IFERROR("#"&INDEX(Proyectos!$A$3:$A$299,MATCH(C27*100+5,Proyectos!$M$3:$M$299,0))&" · "&INDEX(Proyectos!$D$3:$D$299,MATCH(C27*100+5,Proyectos!$M$3:$M$299,0)),"") | D32: =IFERROR("#"&INDEX(Proyectos!$A$3:$A$299,MATCH(D27*100+5,Proyectos!$M$3:$M$299,0))&" · "&INDEX(Proyectos!$D$3:$D$299,MATCH(D27*100+5,Proyectos!$M$3:$M$299,0)),"") | E32: =IFERROR("#"&INDEX(Proyectos!$A$3:$A$299,MATCH(E27*100+5,Proyectos!$M$3:$M$299,0))&" · "&INDEX(Proyectos!$D$3:$D$299,MATCH(E27*100+5,Proyectos!$M$3:$M$299,0)),"") | F32: =IFERROR("#"&INDEX(Proyectos!$A$3:$A$299,MATCH(F27*100+5,Proyectos!$M$3:$M$299,0))&" · "&INDEX(Proyectos!$D$3:$D$299,MATCH(F27*100+5,Proyectos!$M$3:$M$299,0)),"") | G32: =IFERROR("#"&INDEX(Proyectos!$A$3:$A$299,MATCH(G27*100+5,Proyectos!$M$3:$M$299,0))&" · "&INDEX(Proyectos!$D$3:$D$299,MATCH(G27*100+5,Proyectos!$M$3:$M$299,0)),"") | I32: =IFERROR(INDEX(Proyectos!$H$3:$H$299,MATCH(A27*100+5,Proyectos!$M$3:$M$299,0)),"") | J32: =IFERROR(INDEX(Proyectos!$H$3:$H$299,MATCH(B27*100+5,Proyectos!$M$3:$M$299,0)),"") | K32: =IFERROR(INDEX(Proyectos!$H$3:$H$299,MATCH(C27*100+5,Proyectos!$M$3:$M$299,0)),"") | L32: =IFERROR(INDEX(Proyectos!$H$3:$H$299,MATCH(D27*100+5,Proyectos!$M$3:$M$299,0)),"") | M32: =IFERROR(INDEX(Proyectos!$H$3:$H$299,MATCH(E27*100+5,Proyectos!$M$3:$M$299,0)),"") | N32: =IFERROR(INDEX(Proyectos!$H$3:$H$299,MATCH(F27*100+5,Proyectos!$M$3:$M$299,0)),"") | O32: =IFERROR(INDEX(Proyectos!$H$3:$H$299,MATCH(G27*100+5,Proyectos!$M$3:$M$299,0)),"")
A33: =IFERROR("#"&INDEX(Proyectos!$A$3:$A$299,MATCH(A27*100+6,Proyectos!$M$3:$M$299,0))&" · "&INDEX(Proyectos!$D$3:$D$299,MATCH(A27*100+6,Proyectos!$M$3:$M$299,0)),"") | B33: =IFERROR("#"&INDEX(Proyectos!$A$3:$A$299,MATCH(B27*100+6,Proyectos!$M$3:$M$299,0))&" · "&INDEX(Proyectos!$D$3:$D$299,MATCH(B27*100+6,Proyectos!$M$3:$M$299,0)),"") | C33: =IFERROR("#"&INDEX(Proyectos!$A$3:$A$299,MATCH(C27*100+6,Proyectos!$M$3:$M$299,0))&" · "&INDEX(Proyectos!$D$3:$D$299,MATCH(C27*100+6,Proyectos!$M$3:$M$299,0)),"") | D33: =IFERROR("#"&INDEX(Proyectos!$A$3:$A$299,MATCH(D27*100+6,Proyectos!$M$3:$M$299,0))&" · "&INDEX(Proyectos!$D$3:$D$299,MATCH(D27*100+6,Proyectos!$M$3:$M$299,0)),"") | E33: =IFERROR("#"&INDEX(Proyectos!$A$3:$A$299,MATCH(E27*100+6,Proyectos!$M$3:$M$299,0))&" · "&INDEX(Proyectos!$D$3:$D$299,MATCH(E27*100+6,Proyectos!$M$3:$M$299,0)),"") | F33: =IFERROR("#"&INDEX(Proyectos!$A$3:$A$299,MATCH(F27*100+6,Proyectos!$M$3:$M$299,0))&" · "&INDEX(Proyectos!$D$3:$D$299,MATCH(F27*100+6,Proyectos!$M$3:$M$299,0)),"") | G33: =IFERROR("#"&INDEX(Proyectos!$A$3:$A$299,MATCH(G27*100+6,Proyectos!$M$3:$M$299,0))&" · "&INDEX(Proyectos!$D$3:$D$299,MATCH(G27*100+6,Proyectos!$M$3:$M$299,0)),"") | I33: =IFERROR(INDEX(Proyectos!$H$3:$H$299,MATCH(A27*100+6,Proyectos!$M$3:$M$299,0)),"") | J33: =IFERROR(INDEX(Proyectos!$H$3:$H$299,MATCH(B27*100+6,Proyectos!$M$3:$M$299,0)),"") | K33: =IFERROR(INDEX(Proyectos!$H$3:$H$299,MATCH(C27*100+6,Proyectos!$M$3:$M$299,0)),"") | L33: =IFERROR(INDEX(Proyectos!$H$3:$H$299,MATCH(D27*100+6,Proyectos!$M$3:$M$299,0)),"") | M33: =IFERROR(INDEX(Proyectos!$H$3:$H$299,MATCH(E27*100+6,Proyectos!$M$3:$M$299,0)),"") | N33: =IFERROR(INDEX(Proyectos!$H$3:$H$299,MATCH(F27*100+6,Proyectos!$M$3:$M$299,0)),"") | O33: =IFERROR(INDEX(Proyectos!$H$3:$H$299,MATCH(G27*100+6,Proyectos!$M$3:$M$299,0)),"")
A34: =IFERROR("#"&INDEX(Proyectos!$A$3:$A$299,MATCH(A27*100+7,Proyectos!$M$3:$M$299,0))&" · "&INDEX(Proyectos!$D$3:$D$299,MATCH(A27*100+7,Proyectos!$M$3:$M$299,0)),"") | B34: =IFERROR("#"&INDEX(Proyectos!$A$3:$A$299,MATCH(B27*100+7,Proyectos!$M$3:$M$299,0))&" · "&INDEX(Proyectos!$D$3:$D$299,MATCH(B27*100+7,Proyectos!$M$3:$M$299,0)),"") | C34: =IFERROR("#"&INDEX(Proyectos!$A$3:$A$299,MATCH(C27*100+7,Proyectos!$M$3:$M$299,0))&" · "&INDEX(Proyectos!$D$3:$D$299,MATCH(C27*100+7,Proyectos!$M$3:$M$299,0)),"") | D34: =IFERROR("#"&INDEX(Proyectos!$A$3:$A$299,MATCH(D27*100+7,Proyectos!$M$3:$M$299,0))&" · "&INDEX(Proyectos!$D$3:$D$299,MATCH(D27*100+7,Proyectos!$M$3:$M$299,0)),"") | E34: =IFERROR("#"&INDEX(Proyectos!$A$3:$A$299,MATCH(E27*100+7,Proyectos!$M$3:$M$299,0))&" · "&INDEX(Proyectos!$D$3:$D$299,MATCH(E27*100+7,Proyectos!$M$3:$M$299,0)),"") | F34: =IFERROR("#"&INDEX(Proyectos!$A$3:$A$299,MATCH(F27*100+7,Proyectos!$M$3:$M$299,0))&" · "&INDEX(Proyectos!$D$3:$D$299,MATCH(F27*100+7,Proyectos!$M$3:$M$299,0)),"") | G34: =IFERROR("#"&INDEX(Proyectos!$A$3:$A$299,MATCH(G27*100+7,Proyectos!$M$3:$M$299,0))&" · "&INDEX(Proyectos!$D$3:$D$299,MATCH(G27*100+7,Proyectos!$M$3:$M$299,0)),"") | I34: =IFERROR(INDEX(Proyectos!$H$3:$H$299,MATCH(A27*100+7,Proyectos!$M$3:$M$299,0)),"") | J34: =IFERROR(INDEX(Proyectos!$H$3:$H$299,MATCH(B27*100+7,Proyectos!$M$3:$M$299,0)),"") | K34: =IFERROR(INDEX(Proyectos!$H$3:$H$299,MATCH(C27*100+7,Proyectos!$M$3:$M$299,0)),"") | L34: =IFERROR(INDEX(Proyectos!$H$3:$H$299,MATCH(D27*100+7,Proyectos!$M$3:$M$299,0)),"") | M34: =IFERROR(INDEX(Proyectos!$H$3:$H$299,MATCH(E27*100+7,Proyectos!$M$3:$M$299,0)),"") | N34: =IFERROR(INDEX(Proyectos!$H$3:$H$299,MATCH(F27*100+7,Proyectos!$M$3:$M$299,0)),"") | O34: =IFERROR(INDEX(Proyectos!$H$3:$H$299,MATCH(G27*100+7,Proyectos!$M$3:$M$299,0)),"")
A35: =IFERROR("#"&INDEX(Proyectos!$A$3:$A$299,MATCH(A27*100+8,Proyectos!$M$3:$M$299,0))&" · "&INDEX(Proyectos!$D$3:$D$299,MATCH(A27*100+8,Proyectos!$M$3:$M$299,0)),"") | B35: =IFERROR("#"&INDEX(Proyectos!$A$3:$A$299,MATCH(B27*100+8,Proyectos!$M$3:$M$299,0))&" · "&INDEX(Proyectos!$D$3:$D$299,MATCH(B27*100+8,Proyectos!$M$3:$M$299,0)),"") | C35: =IFERROR("#"&INDEX(Proyectos!$A$3:$A$299,MATCH(C27*100+8,Proyectos!$M$3:$M$299,0))&" · "&INDEX(Proyectos!$D$3:$D$299,MATCH(C27*100+8,Proyectos!$M$3:$M$299,0)),"") | D35: =IFERROR("#"&INDEX(Proyectos!$A$3:$A$299,MATCH(D27*100+8,Proyectos!$M$3:$M$299,0))&" · "&INDEX(Proyectos!$D$3:$D$299,MATCH(D27*100+8,Proyectos!$M$3:$M$299,0)),"") | E35: =IFERROR("#"&INDEX(Proyectos!$A$3:$A$299,MATCH(E27*100+8,Proyectos!$M$3:$M$299,0))&" · "&INDEX(Proyectos!$D$3:$D$299,MATCH(E27*100+8,Proyectos!$M$3:$M$299,0)),"") | F35: =IFERROR("#"&INDEX(Proyectos!$A$3:$A$299,MATCH(F27*100+8,Proyectos!$M$3:$M$299,0))&" · "&INDEX(Proyectos!$D$3:$D$299,MATCH(F27*100+8,Proyectos!$M$3:$M$299,0)),"") | G35: =IFERROR("#"&INDEX(Proyectos!$A$3:$A$299,MATCH(G27*100+8,Proyectos!$M$3:$M$299,0))&" · "&INDEX(Proyectos!$D$3:$D$299,MATCH(G27*100+8,Proyectos!$M$3:$M$299,0)),"") | I35: =IFERROR(INDEX(Proyectos!$H$3:$H$299,MATCH(A27*100+8,Proyectos!$M$3:$M$299,0)),"") | J35: =IFERROR(INDEX(Proyectos!$H$3:$H$299,MATCH(B27*100+8,Proyectos!$M$3:$M$299,0)),"") | K35: =IFERROR(INDEX(Proyectos!$H$3:$H$299,MATCH(C27*100+8,Proyectos!$M$3:$M$299,0)),"") | L35: =IFERROR(INDEX(Proyectos!$H$3:$H$299,MATCH(D27*100+8,Proyectos!$M$3:$M$299,0)),"") | M35: =IFERROR(INDEX(Proyectos!$H$3:$H$299,MATCH(E27*100+8,Proyectos!$M$3:$M$299,0)),"") | N35: =IFERROR(INDEX(Proyectos!$H$3:$H$299,MATCH(F27*100+8,Proyectos!$M$3:$M$299,0)),"") | O35: =IFERROR(INDEX(Proyectos!$H$3:$H$299,MATCH(G27*100+8,Proyectos!$M$3:$M$299,0)),"")
A36: 46223 | B36: 46224 | C36: 46225 | D36: 46226 | E36: 46227 | F36: 46228 | G36: 46229
A37: =IFERROR("#"&INDEX(Proyectos!$A$3:$A$299,MATCH(A36*100+1,Proyectos!$M$3:$M$299,0))&" · "&INDEX(Proyectos!$D$3:$D$299,MATCH(A36*100+1,Proyectos!$M$3:$M$299,0)),"") | B37: =IFERROR("#"&INDEX(Proyectos!$A$3:$A$299,MATCH(B36*100+1,Proyectos!$M$3:$M$299,0))&" · "&INDEX(Proyectos!$D$3:$D$299,MATCH(B36*100+1,Proyectos!$M$3:$M$299,0)),"") | C37: =IFERROR("#"&INDEX(Proyectos!$A$3:$A$299,MATCH(C36*100+1,Proyectos!$M$3:$M$299,0))&" · "&INDEX(Proyectos!$D$3:$D$299,MATCH(C36*100+1,Proyectos!$M$3:$M$299,0)),"") | D37: =IFERROR("#"&INDEX(Proyectos!$A$3:$A$299,MATCH(D36*100+1,Proyectos!$M$3:$M$299,0))&" · "&INDEX(Proyectos!$D$3:$D$299,MATCH(D36*100+1,Proyectos!$M$3:$M$299,0)),"") | E37: =IFERROR("#"&INDEX(Proyectos!$A$3:$A$299,MATCH(E36*100+1,Proyectos!$M$3:$M$299,0))&" · "&INDEX(Proyectos!$D$3:$D$299,MATCH(E36*100+1,Proyectos!$M$3:$M$299,0)),"") | F37: =IFERROR("#"&INDEX(Proyectos!$A$3:$A$299,MATCH(F36*100+1,Proyectos!$M$3:$M$299,0))&" · "&INDEX(Proyectos!$D$3:$D$299,MATCH(F36*100+1,Proyectos!$M$3:$M$299,0)),"") | G37: =IFERROR("#"&INDEX(Proyectos!$A$3:$A$299,MATCH(G36*100+1,Proyectos!$M$3:$M$299,0))&" · "&INDEX(Proyectos!$D$3:$D$299,MATCH(G36*100+1,Proyectos!$M$3:$M$299,0)),"") | I37: =IFERROR(INDEX(Proyectos!$H$3:$H$299,MATCH(A36*100+1,Proyectos!$M$3:$M$299,0)),"") | J37: =IFERROR(INDEX(Proyectos!$H$3:$H$299,MATCH(B36*100+1,Proyectos!$M$3:$M$299,0)),"") | K37: =IFERROR(INDEX(Proyectos!$H$3:$H$299,MATCH(C36*100+1,Proyectos!$M$3:$M$299,0)),"") | L37: =IFERROR(INDEX(Proyectos!$H$3:$H$299,MATCH(D36*100+1,Proyectos!$M$3:$M$299,0)),"") | M37: =IFERROR(INDEX(Proyectos!$H$3:$H$299,MATCH(E36*100+1,Proyectos!$M$3:$M$299,0)),"") | N37: =IFERROR(INDEX(Proyectos!$H$3:$H$299,MATCH(F36*100+1,Proyectos!$M$3:$M$299,0)),"") | O37: =IFERROR(INDEX(Proyectos!$H$3:$H$299,MATCH(G36*100+1,Proyectos!$M$3:$M$299,0)),"")
A38: =IFERROR("#"&INDEX(Proyectos!$A$3:$A$299,MATCH(A36*100+2,Proyectos!$M$3:$M$299,0))&" · "&INDEX(Proyectos!$D$3:$D$299,MATCH(A36*100+2,Proyectos!$M$3:$M$299,0)),"") | B38: =IFERROR("#"&INDEX(Proyectos!$A$3:$A$299,MATCH(B36*100+2,Proyectos!$M$3:$M$299,0))&" · "&INDEX(Proyectos!$D$3:$D$299,MATCH(B36*100+2,Proyectos!$M$3:$M$299,0)),"") | C38: =IFERROR("#"&INDEX(Proyectos!$A$3:$A$299,MATCH(C36*100+2,Proyectos!$M$3:$M$299,0))&" · "&INDEX(Proyectos!$D$3:$D$299,MATCH(C36*100+2,Proyectos!$M$3:$M$299,0)),"") | D38: =IFERROR("#"&INDEX(Proyectos!$A$3:$A$299,MATCH(D36*100+2,Proyectos!$M$3:$M$299,0))&" · "&INDEX(Proyectos!$D$3:$D$299,MATCH(D36*100+2,Proyectos!$M$3:$M$299,0)),"") | E38: =IFERROR("#"&INDEX(Proyectos!$A$3:$A$299,MATCH(E36*100+2,Proyectos!$M$3:$M$299,0))&" · "&INDEX(Proyectos!$D$3:$D$299,MATCH(E36*100+2,Proyectos!$M$3:$M$299,0)),"") | F38: =IFERROR("#"&INDEX(Proyectos!$A$3:$A$299,MATCH(F36*100+2,Proyectos!$M$3:$M$299,0))&" · "&INDEX(Proyectos!$D$3:$D$299,MATCH(F36*100+2,Proyectos!$M$3:$M$299,0)),"") | G38: =IFERROR("#"&INDEX(Proyectos!$A$3:$A$299,MATCH(G36*100+2,Proyectos!$M$3:$M$299,0))&" · "&INDEX(Proyectos!$D$3:$D$299,MATCH(G36*100+2,Proyectos!$M$3:$M$299,0)),"") | I38: =IFERROR(INDEX(Proyectos!$H$3:$H$299,MATCH(A36*100+2,Proyectos!$M$3:$M$299,0)),"") | J38: =IFERROR(INDEX(Proyectos!$H$3:$H$299,MATCH(B36*100+2,Proyectos!$M$3:$M$299,0)),"") | K38: =IFERROR(INDEX(Proyectos!$H$3:$H$299,MATCH(C36*100+2,Proyectos!$M$3:$M$299,0)),"") | L38: =IFERROR(INDEX(Proyectos!$H$3:$H$299,MATCH(D36*100+2,Proyectos!$M$3:$M$299,0)),"") | M38: =IFERROR(INDEX(Proyectos!$H$3:$H$299,MATCH(E36*100+2,Proyectos!$M$3:$M$299,0)),"") | N38: =IFERROR(INDEX(Proyectos!$H$3:$H$299,MATCH(F36*100+2,Proyectos!$M$3:$M$299,0)),"") | O38: =IFERROR(INDEX(Proyectos!$H$3:$H$299,MATCH(G36*100+2,Proyectos!$M$3:$M$299,0)),"")
A39: =IFERROR("#"&INDEX(Proyectos!$A$3:$A$299,MATCH(A36*100+3,Proyectos!$M$3:$M$299,0))&" · "&INDEX(Proyectos!$D$3:$D$299,MATCH(A36*100+3,Proyectos!$M$3:$M$299,0)),"") | B39: =IFERROR("#"&INDEX(Proyectos!$A$3:$A$299,MATCH(B36*100+3,Proyectos!$M$3:$M$299,0))&" · "&INDEX(Proyectos!$D$3:$D$299,MATCH(B36*100+3,Proyectos!$M$3:$M$299,0)),"") | C39: =IFERROR("#"&INDEX(Proyectos!$A$3:$A$299,MATCH(C36*100+3,Proyectos!$M$3:$M$299,0))&" · "&INDEX(Proyectos!$D$3:$D$299,MATCH(C36*100+3,Proyectos!$M$3:$M$299,0)),"") | D39: =IFERROR("#"&INDEX(Proyectos!$A$3:$A$299,MATCH(D36*100+3,Proyectos!$M$3:$M$299,0))&" · "&INDEX(Proyectos!$D$3:$D$299,MATCH(D36*100+3,Proyectos!$M$3:$M$299,0)),"") | E39: =IFERROR("#"&INDEX(Proyectos!$A$3:$A$299,MATCH(E36*100+3,Proyectos!$M$3:$M$299,0))&" · "&INDEX(Proyectos!$D$3:$D$299,MATCH(E36*100+3,Proyectos!$M$3:$M$299,0)),"") | F39: =IFERROR("#"&INDEX(Proyectos!$A$3:$A$299,MATCH(F36*100+3,Proyectos!$M$3:$M$299,0))&" · "&INDEX(Proyectos!$D$3:$D$299,MATCH(F36*100+3,Proyectos!$M$3:$M$299,0)),"") | G39: =IFERROR("#"&INDEX(Proyectos!$A$3:$A$299,MATCH(G36*100+3,Proyectos!$M$3:$M$299,0))&" · "&INDEX(Proyectos!$D$3:$D$299,MATCH(G36*100+3,Proyectos!$M$3:$M$299,0)),"") | I39: =IFERROR(INDEX(Proyectos!$H$3:$H$299,MATCH(A36*100+3,Proyectos!$M$3:$M$299,0)),"") | J39: =IFERROR(INDEX(Proyectos!$H$3:$H$299,MATCH(B36*100+3,Proyectos!$M$3:$M$299,0)),"") | K39: =IFERROR(INDEX(Proyectos!$H$3:$H$299,MATCH(C36*100+3,Proyectos!$M$3:$M$299,0)),"") | L39: =IFERROR(INDEX(Proyectos!$H$3:$H$299,MATCH(D36*100+3,Proyectos!$M$3:$M$299,0)),"") | M39: =IFERROR(INDEX(Proyectos!$H$3:$H$299,MATCH(E36*100+3,Proyectos!$M$3:$M$299,0)),"") | N39: =IFERROR(INDEX(Proyectos!$H$3:$H$299,MATCH(F36*100+3,Proyectos!$M$3:$M$299,0)),"") | O39: =IFERROR(INDEX(Proyectos!$H$3:$H$299,MATCH(G36*100+3,Proyectos!$M$3:$M$299,0)),"")
A40: =IFERROR("#"&INDEX(Proyectos!$A$3:$A$299,MATCH(A36*100+4,Proyectos!$M$3:$M$299,0))&" · "&INDEX(Proyectos!$D$3:$D$299,MATCH(A36*100+4,Proyectos!$M$3:$M$299,0)),"") | B40: =IFERROR("#"&INDEX(Proyectos!$A$3:$A$299,MATCH(B36*100+4,Proyectos!$M$3:$M$299,0))&" · "&INDEX(Proyectos!$D$3:$D$299,MATCH(B36*100+4,Proyectos!$M$3:$M$299,0)),"") | C40: =IFERROR("#"&INDEX(Proyectos!$A$3:$A$299,MATCH(C36*100+4,Proyectos!$M$3:$M$299,0))&" · "&INDEX(Proyectos!$D$3:$D$299,MATCH(C36*100+4,Proyectos!$M$3:$M$299,0)),"") | D40: =IFERROR("#"&INDEX(Proyectos!$A$3:$A$299,MATCH(D36*100+4,Proyectos!$M$3:$M$299,0))&" · "&INDEX(Proyectos!$D$3:$D$299,MATCH(D36*100+4,Proyectos!$M$3:$M$299,0)),"") | E40: =IFERROR("#"&INDEX(Proyectos!$A$3:$A$299,MATCH(E36*100+4,Proyectos!$M$3:$M$299,0))&" · "&INDEX(Proyectos!$D$3:$D$299,MATCH(E36*100+4,Proyectos!$M$3:$M$299,0)),"") | F40: =IFERROR("#"&INDEX(Proyectos!$A$3:$A$299,MATCH(F36*100+4,Proyectos!$M$3:$M$299,0))&" · "&INDEX(Proyectos!$D$3:$D$299,MATCH(F36*100+4,Proyectos!$M$3:$M$299,0)),"") | G40: =IFERROR("#"&INDEX(Proyectos!$A$3:$A$299,MATCH(G36*100+4,Proyectos!$M$3:$M$299,0))&" · "&INDEX(Proyectos!$D$3:$D$299,MATCH(G36*100+4,Proyectos!$M$3:$M$299,0)),"") | I40: =IFERROR(INDEX(Proyectos!$H$3:$H$299,MATCH(A36*100+4,Proyectos!$M$3:$M$299,0)),"") | J40: =IFERROR(INDEX(Proyectos!$H$3:$H$299,MATCH(B36*100+4,Proyectos!$M$3:$M$299,0)),"") | K40: =IFERROR(INDEX(Proyectos!$H$3:$H$299,MATCH(C36*100+4,Proyectos!$M$3:$M$299,0)),"") | L40: =IFERROR(INDEX(Proyectos!$H$3:$H$299,MATCH(D36*100+4,Proyectos!$M$3:$M$299,0)),"") | M40: =IFERROR(INDEX(Proyectos!$H$3:$H$299,MATCH(E36*100+4,Proyectos!$M$3:$M$299,0)),"") | N40: =IFERROR(INDEX(Proyectos!$H$3:$H$299,MATCH(F36*100+4,Proyectos!$M$3:$M$299,0)),"") | O40: =IFERROR(INDEX(Proyectos!$H$3:$H$299,MATCH(G36*100+4,Proyectos!$M$3:$M$299,0)),"")
A41: =IFERROR("#"&INDEX(Proyectos!$A$3:$A$299,MATCH(A36*100+5,Proyectos!$M$3:$M$299,0))&" · "&INDEX(Proyectos!$D$3:$D$299,MATCH(A36*100+5,Proyectos!$M$3:$M$299,0)),"") | B41: =IFERROR("#"&INDEX(Proyectos!$A$3:$A$299,MATCH(B36*100+5,Proyectos!$M$3:$M$299,0))&" · "&INDEX(Proyectos!$D$3:$D$299,MATCH(B36*100+5,Proyectos!$M$3:$M$299,0)),"") | C41: =IFERROR("#"&INDEX(Proyectos!$A$3:$A$299,MATCH(C36*100+5,Proyectos!$M$3:$M$299,0))&" · "&INDEX(Proyectos!$D$3:$D$299,MATCH(C36*100+5,Proyectos!$M$3:$M$299,0)),"") | D41: =IFERROR("#"&INDEX(Proyectos!$A$3:$A$299,MATCH(D36*100+5,Proyectos!$M$3:$M$299,0))&" · "&INDEX(Proyectos!$D$3:$D$299,MATCH(D36*100+5,Proyectos!$M$3:$M$299,0)),"") | E41: =IFERROR("#"&INDEX(Proyectos!$A$3:$A$299,MATCH(E36*100+5,Proyectos!$M$3:$M$299,0))&" · "&INDEX(Proyectos!$D$3:$D$299,MATCH(E36*100+5,Proyectos!$M$3:$M$299,0)),"") | F41: =IFERROR("#"&INDEX(Proyectos!$A$3:$A$299,MATCH(F36*100+5,Proyectos!$M$3:$M$299,0))&" · "&INDEX(Proyectos!$D$3:$D$299,MATCH(F36*100+5,Proyectos!$M$3:$M$299,0)),"") | G41: =IFERROR("#"&INDEX(Proyectos!$A$3:$A$299,MATCH(G36*100+5,Proyectos!$M$3:$M$299,0))&" · "&INDEX(Proyectos!$D$3:$D$299,MATCH(G36*100+5,Proyectos!$M$3:$M$299,0)),"") | I41: =IFERROR(INDEX(Proyectos!$H$3:$H$299,MATCH(A36*100+5,Proyectos!$M$3:$M$299,0)),"") | J41: =IFERROR(INDEX(Proyectos!$H$3:$H$299,MATCH(B36*100+5,Proyectos!$M$3:$M$299,0)),"") | K41: =IFERROR(INDEX(Proyectos!$H$3:$H$299,MATCH(C36*100+5,Proyectos!$M$3:$M$299,0)),"") | L41: =IFERROR(INDEX(Proyectos!$H$3:$H$299,MATCH(D36*100+5,Proyectos!$M$3:$M$299,0)),"") | M41: =IFERROR(INDEX(Proyectos!$H$3:$H$299,MATCH(E36*100+5,Proyectos!$M$3:$M$299,0)),"") | N41: =IFERROR(INDEX(Proyectos!$H$3:$H$299,MATCH(F36*100+5,Proyectos!$M$3:$M$299,0)),"") | O41: =IFERROR(INDEX(Proyectos!$H$3:$H$299,MATCH(G36*100+5,Proyectos!$M$3:$M$299,0)),"")
A42: =IFERROR("#"&INDEX(Proyectos!$A$3:$A$299,MATCH(A36*100+6,Proyectos!$M$3:$M$299,0))&" · "&INDEX(Proyectos!$D$3:$D$299,MATCH(A36*100+6,Proyectos!$M$3:$M$299,0)),"") | B42: =IFERROR("#"&INDEX(Proyectos!$A$3:$A$299,MATCH(B36*100+6,Proyectos!$M$3:$M$299,0))&" · "&INDEX(Proyectos!$D$3:$D$299,MATCH(B36*100+6,Proyectos!$M$3:$M$299,0)),"") | C42: =IFERROR("#"&INDEX(Proyectos!$A$3:$A$299,MATCH(C36*100+6,Proyectos!$M$3:$M$299,0))&" · "&INDEX(Proyectos!$D$3:$D$299,MATCH(C36*100+6,Proyectos!$M$3:$M$299,0)),"") | D42: =IFERROR("#"&INDEX(Proyectos!$A$3:$A$299,MATCH(D36*100+6,Proyectos!$M$3:$M$299,0))&" · "&INDEX(Proyectos!$D$3:$D$299,MATCH(D36*100+6,Proyectos!$M$3:$M$299,0)),"") | E42: =IFERROR("#"&INDEX(Proyectos!$A$3:$A$299,MATCH(E36*100+6,Proyectos!$M$3:$M$299,0))&" · "&INDEX(Proyectos!$D$3:$D$299,MATCH(E36*100+6,Proyectos!$M$3:$M$299,0)),"") | F42: =IFERROR("#"&INDEX(Proyectos!$A$3:$A$299,MATCH(F36*100+6,Proyectos!$M$3:$M$299,0))&" · "&INDEX(Proyectos!$D$3:$D$299,MATCH(F36*100+6,Proyectos!$M$3:$M$299,0)),"") | G42: =IFERROR("#"&INDEX(Proyectos!$A$3:$A$299,MATCH(G36*100+6,Proyectos!$M$3:$M$299,0))&" · "&INDEX(Proyectos!$D$3:$D$299,MATCH(G36*100+6,Proyectos!$M$3:$M$299,0)),"") | I42: =IFERROR(INDEX(Proyectos!$H$3:$H$299,MATCH(A36*100+6,Proyectos!$M$3:$M$299,0)),"") | J42: =IFERROR(INDEX(Proyectos!$H$3:$H$299,MATCH(B36*100+6,Proyectos!$M$3:$M$299,0)),"") | K42: =IFERROR(INDEX(Proyectos!$H$3:$H$299,MATCH(C36*100+6,Proyectos!$M$3:$M$299,0)),"") | L42: =IFERROR(INDEX(Proyectos!$H$3:$H$299,MATCH(D36*100+6,Proyectos!$M$3:$M$299,0)),"") | M42: =IFERROR(INDEX(Proyectos!$H$3:$H$299,MATCH(E36*100+6,Proyectos!$M$3:$M$299,0)),"") | N42: =IFERROR(INDEX(Proyectos!$H$3:$H$299,MATCH(F36*100+6,Proyectos!$M$3:$M$299,0)),"") | O42: =IFERROR(INDEX(Proyectos!$H$3:$H$299,MATCH(G36*100+6,Proyectos!$M$3:$M$299,0)),"")
A43: =IFERROR("#"&INDEX(Proyectos!$A$3:$A$299,MATCH(A36*100+7,Proyectos!$M$3:$M$299,0))&" · "&INDEX(Proyectos!$D$3:$D$299,MATCH(A36*100+7,Proyectos!$M$3:$M$299,0)),"") | B43: =IFERROR("#"&INDEX(Proyectos!$A$3:$A$299,MATCH(B36*100+7,Proyectos!$M$3:$M$299,0))&" · "&INDEX(Proyectos!$D$3:$D$299,MATCH(B36*100+7,Proyectos!$M$3:$M$299,0)),"") | C43: =IFERROR("#"&INDEX(Proyectos!$A$3:$A$299,MATCH(C36*100+7,Proyectos!$M$3:$M$299,0))&" · "&INDEX(Proyectos!$D$3:$D$299,MATCH(C36*100+7,Proyectos!$M$3:$M$299,0)),"") | D43: =IFERROR("#"&INDEX(Proyectos!$A$3:$A$299,MATCH(D36*100+7,Proyectos!$M$3:$M$299,0))&" · "&INDEX(Proyectos!$D$3:$D$299,MATCH(D36*100+7,Proyectos!$M$3:$M$299,0)),"") | E43: =IFERROR("#"&INDEX(Proyectos!$A$3:$A$299,MATCH(E36*100+7,Proyectos!$M$3:$M$299,0))&" · "&INDEX(Proyectos!$D$3:$D$299,MATCH(E36*100+7,Proyectos!$M$3:$M$299,0)),"") | F43: =IFERROR("#"&INDEX(Proyectos!$A$3:$A$299,MATCH(F36*100+7,Proyectos!$M$3:$M$299,0))&" · "&INDEX(Proyectos!$D$3:$D$299,MATCH(F36*100+7,Proyectos!$M$3:$M$299,0)),"") | G43: =IFERROR("#"&INDEX(Proyectos!$A$3:$A$299,MATCH(G36*100+7,Proyectos!$M$3:$M$299,0))&" · "&INDEX(Proyectos!$D$3:$D$299,MATCH(G36*100+7,Proyectos!$M$3:$M$299,0)),"") | I43: =IFERROR(INDEX(Proyectos!$H$3:$H$299,MATCH(A36*100+7,Proyectos!$M$3:$M$299,0)),"") | J43: =IFERROR(INDEX(Proyectos!$H$3:$H$299,MATCH(B36*100+7,Proyectos!$M$3:$M$299,0)),"") | K43: =IFERROR(INDEX(Proyectos!$H$3:$H$299,MATCH(C36*100+7,Proyectos!$M$3:$M$299,0)),"") | L43: =IFERROR(INDEX(Proyectos!$H$3:$H$299,MATCH(D36*100+7,Proyectos!$M$3:$M$299,0)),"") | M43: =IFERROR(INDEX(Proyectos!$H$3:$H$299,MATCH(E36*100+7,Proyectos!$M$3:$M$299,0)),"") | N43: =IFERROR(INDEX(Proyectos!$H$3:$H$299,MATCH(F36*100+7,Proyectos!$M$3:$M$299,0)),"") | O43: =IFERROR(INDEX(Proyectos!$H$3:$H$299,MATCH(G36*100+7,Proyectos!$M$3:$M$299,0)),"")
A44: =IFERROR("#"&INDEX(Proyectos!$A$3:$A$299,MATCH(A36*100+8,Proyectos!$M$3:$M$299,0))&" · "&INDEX(Proyectos!$D$3:$D$299,MATCH(A36*100+8,Proyectos!$M$3:$M$299,0)),"") | B44: =IFERROR("#"&INDEX(Proyectos!$A$3:$A$299,MATCH(B36*100+8,Proyectos!$M$3:$M$299,0))&" · "&INDEX(Proyectos!$D$3:$D$299,MATCH(B36*100+8,Proyectos!$M$3:$M$299,0)),"") | C44: =IFERROR("#"&INDEX(Proyectos!$A$3:$A$299,MATCH(C36*100+8,Proyectos!$M$3:$M$299,0))&" · "&INDEX(Proyectos!$D$3:$D$299,MATCH(C36*100+8,Proyectos!$M$3:$M$299,0)),"") | D44: =IFERROR("#"&INDEX(Proyectos!$A$3:$A$299,MATCH(D36*100+8,Proyectos!$M$3:$M$299,0))&" · "&INDEX(Proyectos!$D$3:$D$299,MATCH(D36*100+8,Proyectos!$M$3:$M$299,0)),"") | E44: =IFERROR("#"&INDEX(Proyectos!$A$3:$A$299,MATCH(E36*100+8,Proyectos!$M$3:$M$299,0))&" · "&INDEX(Proyectos!$D$3:$D$299,MATCH(E36*100+8,Proyectos!$M$3:$M$299,0)),"") | F44: =IFERROR("#"&INDEX(Proyectos!$A$3:$A$299,MATCH(F36*100+8,Proyectos!$M$3:$M$299,0))&" · "&INDEX(Proyectos!$D$3:$D$299,MATCH(F36*100+8,Proyectos!$M$3:$M$299,0)),"") | G44: =IFERROR("#"&INDEX(Proyectos!$A$3:$A$299,MATCH(G36*100+8,Proyectos!$M$3:$M$299,0))&" · "&INDEX(Proyectos!$D$3:$D$299,MATCH(G36*100+8,Proyectos!$M$3:$M$299,0)),"") | I44: =IFERROR(INDEX(Proyectos!$H$3:$H$299,MATCH(A36*100+8,Proyectos!$M$3:$M$299,0)),"") | J44: =IFERROR(INDEX(Proyectos!$H$3:$H$299,MATCH(B36*100+8,Proyectos!$M$3:$M$299,0)),"") | K44: =IFERROR(INDEX(Proyectos!$H$3:$H$299,MATCH(C36*100+8,Proyectos!$M$3:$M$299,0)),"") | L44: =IFERROR(INDEX(Proyectos!$H$3:$H$299,MATCH(D36*100+8,Proyectos!$M$3:$M$299,0)),"") | M44: =IFERROR(INDEX(Proyectos!$H$3:$H$299,MATCH(E36*100+8,Proyectos!$M$3:$M$299,0)),"") | N44: =IFERROR(INDEX(Proyectos!$H$3:$H$299,MATCH(F36*100+8,Proyectos!$M$3:$M$299,0)),"") | O44: =IFERROR(INDEX(Proyectos!$H$3:$H$299,MATCH(G36*100+8,Proyectos!$M$3:$M$299,0)),"")
A45: 46230 | B45: 46231 | C45: 46232 | D45: 46233 | E45: 46234
A46: =IFERROR("#"&INDEX(Proyectos!$A$3:$A$299,MATCH(A45*100+1,Proyectos!$M$3:$M$299,0))&" · "&INDEX(Proyectos!$D$3:$D$299,MATCH(A45*100+1,Proyectos!$M$3:$M$299,0)),"") -> #64 · THYSSEN | B46: =IFERROR("#"&INDEX(Proyectos!$A$3:$A$299,MATCH(B45*100+1,Proyectos!$M$3:$M$299,0))&" · "&INDEX(Proyectos!$D$3:$D$299,MATCH(B45*100+1,Proyectos!$M$3:$M$299,0)),"") | C46: =IFERROR("#"&INDEX(Proyectos!$A$3:$A$299,MATCH(C45*100+1,Proyectos!$M$3:$M$299,0))&" · "&INDEX(Proyectos!$D$3:$D$299,MATCH(C45*100+1,Proyectos!$M$3:$M$299,0)),"") | D46: =IFERROR("#"&INDEX(Proyectos!$A$3:$A$299,MATCH(D45*100+1,Proyectos!$M$3:$M$299,0))&" · "&INDEX(Proyectos!$D$3:$D$299,MATCH(D45*100+1,Proyectos!$M$3:$M$299,0)),"") | E46: =IFERROR("#"&INDEX(Proyectos!$A$3:$A$299,MATCH(E45*100+1,Proyectos!$M$3:$M$299,0))&" · "&INDEX(Proyectos!$D$3:$D$299,MATCH(E45*100+1,Proyectos!$M$3:$M$299,0)),"") | I46: =IFERROR(INDEX(Proyectos!$H$3:$H$299,MATCH(A45*100+1,Proyectos!$M$3:$M$299,0)),"") -> Ganada | J46: =IFERROR(INDEX(Proyectos!$H$3:$H$299,MATCH(B45*100+1,Proyectos!$M$3:$M$299,0)),"") | K46: =IFERROR(INDEX(Proyectos!$H$3:$H$299,MATCH(C45*100+1,Proyectos!$M$3:$M$299,0)),"") | L46: =IFERROR(INDEX(Proyectos!$H$3:$H$299,MATCH(D45*100+1,Proyectos!$M$3:$M$299,0)),"") | M46: =IFERROR(INDEX(Proyectos!$H$3:$H$299,MATCH(E45*100+1,Proyectos!$M$3:$M$299,0)),"")
A47: =IFERROR("#"&INDEX(Proyectos!$A$3:$A$299,MATCH(A45*100+2,Proyectos!$M$3:$M$299,0))&" · "&INDEX(Proyectos!$D$3:$D$299,MATCH(A45*100+2,Proyectos!$M$3:$M$299,0)),"") | B47: =IFERROR("#"&INDEX(Proyectos!$A$3:$A$299,MATCH(B45*100+2,Proyectos!$M$3:$M$299,0))&" · "&INDEX(Proyectos!$D$3:$D$299,MATCH(B45*100+2,Proyectos!$M$3:$M$299,0)),"") | C47: =IFERROR("#"&INDEX(Proyectos!$A$3:$A$299,MATCH(C45*100+2,Proyectos!$M$3:$M$299,0))&" · "&INDEX(Proyectos!$D$3:$D$299,MATCH(C45*100+2,Proyectos!$M$3:$M$299,0)),"") | D47: =IFERROR("#"&INDEX(Proyectos!$A$3:$A$299,MATCH(D45*100+2,Proyectos!$M$3:$M$299,0))&" · "&INDEX(Proyectos!$D$3:$D$299,MATCH(D45*100+2,Proyectos!$M$3:$M$299,0)),"") | E47: =IFERROR("#"&INDEX(Proyectos!$A$3:$A$299,MATCH(E45*100+2,Proyectos!$M$3:$M$299,0))&" · "&INDEX(Proyectos!$D$3:$D$299,MATCH(E45*100+2,Proyectos!$M$3:$M$299,0)),"") | I47: =IFERROR(INDEX(Proyectos!$H$3:$H$299,MATCH(A45*100+2,Proyectos!$M$3:$M$299,0)),"") | J47: =IFERROR(INDEX(Proyectos!$H$3:$H$299,MATCH(B45*100+2,Proyectos!$M$3:$M$299,0)),"") | K47: =IFERROR(INDEX(Proyectos!$H$3:$H$299,MATCH(C45*100+2,Proyectos!$M$3:$M$299,0)),"") | L47: =IFERROR(INDEX(Proyectos!$H$3:$H$299,MATCH(D45*100+2,Proyectos!$M$3:$M$299,0)),"") | M47: =IFERROR(INDEX(Proyectos!$H$3:$H$299,MATCH(E45*100+2,Proyectos!$M$3:$M$299,0)),"")
A48: =IFERROR("#"&INDEX(Proyectos!$A$3:$A$299,MATCH(A45*100+3,Proyectos!$M$3:$M$299,0))&" · "&INDEX(Proyectos!$D$3:$D$299,MATCH(A45*100+3,Proyectos!$M$3:$M$299,0)),"") | B48: =IFERROR("#"&INDEX(Proyectos!$A$3:$A$299,MATCH(B45*100+3,Proyectos!$M$3:$M$299,0))&" · "&INDEX(Proyectos!$D$3:$D$299,MATCH(B45*100+3,Proyectos!$M$3:$M$299,0)),"") | C48: =IFERROR("#"&INDEX(Proyectos!$A$3:$A$299,MATCH(C45*100+3,Proyectos!$M$3:$M$299,0))&" · "&INDEX(Proyectos!$D$3:$D$299,MATCH(C45*100+3,Proyectos!$M$3:$M$299,0)),"") | D48: =IFERROR("#"&INDEX(Proyectos!$A$3:$A$299,MATCH(D45*100+3,Proyectos!$M$3:$M$299,0))&" · "&INDEX(Proyectos!$D$3:$D$299,MATCH(D45*100+3,Proyectos!$M$3:$M$299,0)),"") | E48: =IFERROR("#"&INDEX(Proyectos!$A$3:$A$299,MATCH(E45*100+3,Proyectos!$M$3:$M$299,0))&" · "&INDEX(Proyectos!$D$3:$D$299,MATCH(E45*100+3,Proyectos!$M$3:$M$299,0)),"") | I48: =IFERROR(INDEX(Proyectos!$H$3:$H$299,MATCH(A45*100+3,Proyectos!$M$3:$M$299,0)),"") | J48: =IFERROR(INDEX(Proyectos!$H$3:$H$299,MATCH(B45*100+3,Proyectos!$M$3:$M$299,0)),"") | K48: =IFERROR(INDEX(Proyectos!$H$3:$H$299,MATCH(C45*100+3,Proyectos!$M$3:$M$299,0)),"") | L48: =IFERROR(INDEX(Proyectos!$H$3:$H$299,MATCH(D45*100+3,Proyectos!$M$3:$M$299,0)),"") | M48: =IFERROR(INDEX(Proyectos!$H$3:$H$299,MATCH(E45*100+3,Proyectos!$M$3:$M$299,0)),"")
A49: =IFERROR("#"&INDEX(Proyectos!$A$3:$A$299,MATCH(A45*100+4,Proyectos!$M$3:$M$299,0))&" · "&INDEX(Proyectos!$D$3:$D$299,MATCH(A45*100+4,Proyectos!$M$3:$M$299,0)),"") | B49: =IFERROR("#"&INDEX(Proyectos!$A$3:$A$299,MATCH(B45*100+4,Proyectos!$M$3:$M$299,0))&" · "&INDEX(Proyectos!$D$3:$D$299,MATCH(B45*100+4,Proyectos!$M$3:$M$299,0)),"") | C49: =IFERROR("#"&INDEX(Proyectos!$A$3:$A$299,MATCH(C45*100+4,Proyectos!$M$3:$M$299,0))&" · "&INDEX(Proyectos!$D$3:$D$299,MATCH(C45*100+4,Proyectos!$M$3:$M$299,0)),"") | D49: =IFERROR("#"&INDEX(Proyectos!$A$3:$A$299,MATCH(D45*100+4,Proyectos!$M$3:$M$299,0))&" · "&INDEX(Proyectos!$D$3:$D$299,MATCH(D45*100+4,Proyectos!$M$3:$M$299,0)),"") | E49: =IFERROR("#"&INDEX(Proyectos!$A$3:$A$299,MATCH(E45*100+4,Proyectos!$M$3:$M$299,0))&" · "&INDEX(Proyectos!$D$3:$D$299,MATCH(E45*100+4,Proyectos!$M$3:$M$299,0)),"") | I49: =IFERROR(INDEX(Proyectos!$H$3:$H$299,MATCH(A45*100+4,Proyectos!$M$3:$M$299,0)),"") | J49: =IFERROR(INDEX(Proyectos!$H$3:$H$299,MATCH(B45*100+4,Proyectos!$M$3:$M$299,0)),"") | K49: =IFERROR(INDEX(Proyectos!$H$3:$H$299,MATCH(C45*100+4,Proyectos!$M$3:$M$299,0)),"") | L49: =IFERROR(INDEX(Proyectos!$H$3:$H$299,MATCH(D45*100+4,Proyectos!$M$3:$M$299,0)),"") | M49: =IFERROR(INDEX(Proyectos!$H$3:$H$299,MATCH(E45*100+4,Proyectos!$M$3:$M$299,0)),"")
A50: =IFERROR("#"&INDEX(Proyectos!$A$3:$A$299,MATCH(A45*100+5,Proyectos!$M$3:$M$299,0))&" · "&INDEX(Proyectos!$D$3:$D$299,MATCH(A45*100+5,Proyectos!$M$3:$M$299,0)),"") | B50: =IFERROR("#"&INDEX(Proyectos!$A$3:$A$299,MATCH(B45*100+5,Proyectos!$M$3:$M$299,0))&" · "&INDEX(Proyectos!$D$3:$D$299,MATCH(B45*100+5,Proyectos!$M$3:$M$299,0)),"") | C50: =IFERROR("#"&INDEX(Proyectos!$A$3:$A$299,MATCH(C45*100+5,Proyectos!$M$3:$M$299,0))&" · "&INDEX(Proyectos!$D$3:$D$299,MATCH(C45*100+5,Proyectos!$M$3:$M$299,0)),"") | D50: =IFERROR("#"&INDEX(Proyectos!$A$3:$A$299,MATCH(D45*100+5,Proyectos!$M$3:$M$299,0))&" · "&INDEX(Proyectos!$D$3:$D$299,MATCH(D45*100+5,Proyectos!$M$3:$M$299,0)),"") | E50: =IFERROR("#"&INDEX(Proyectos!$A$3:$A$299,MATCH(E45*100+5,Proyectos!$M$3:$M$299,0))&" · "&INDEX(Proyectos!$D$3:$D$299,MATCH(E45*100+5,Proyectos!$M$3:$M$299,0)),"") | I50: =IFERROR(INDEX(Proyectos!$H$3:$H$299,MATCH(A45*100+5,Proyectos!$M$3:$M$299,0)),"") | J50: =IFERROR(INDEX(Proyectos!$H$3:$H$299,MATCH(B45*100+5,Proyectos!$M$3:$M$299,0)),"") | K50: =IFERROR(INDEX(Proyectos!$H$3:$H$299,MATCH(C45*100+5,Proyectos!$M$3:$M$299,0)),"") | L50: =IFERROR(INDEX(Proyectos!$H$3:$H$299,MATCH(D45*100+5,Proyectos!$M$3:$M$299,0)),"") | M50: =IFERROR(INDEX(Proyectos!$H$3:$H$299,MATCH(E45*100+5,Proyectos!$M$3:$M$299,0)),"")
A51: =IFERROR("#"&INDEX(Proyectos!$A$3:$A$299,MATCH(A45*100+6,Proyectos!$M$3:$M$299,0))&" · "&INDEX(Proyectos!$D$3:$D$299,MATCH(A45*100+6,Proyectos!$M$3:$M$299,0)),"") | B51: =IFERROR("#"&INDEX(Proyectos!$A$3:$A$299,MATCH(B45*100+6,Proyectos!$M$3:$M$299,0))&" · "&INDEX(Proyectos!$D$3:$D$299,MATCH(B45*100+6,Proyectos!$M$3:$M$299,0)),"") | C51: =IFERROR("#"&INDEX(Proyectos!$A$3:$A$299,MATCH(C45*100+6,Proyectos!$M$3:$M$299,0))&" · "&INDEX(Proyectos!$D$3:$D$299,MATCH(C45*100+6,Proyectos!$M$3:$M$299,0)),"") | D51: =IFERROR("#"&INDEX(Proyectos!$A$3:$A$299,MATCH(D45*100+6,Proyectos!$M$3:$M$299,0))&" · "&INDEX(Proyectos!$D$3:$D$299,MATCH(D45*100+6,Proyectos!$M$3:$M$299,0)),"") | E51: =IFERROR("#"&INDEX(Proyectos!$A$3:$A$299,MATCH(E45*100+6,Proyectos!$M$3:$M$299,0))&" · "&INDEX(Proyectos!$D$3:$D$299,MATCH(E45*100+6,Proyectos!$M$3:$M$299,0)),"") | I51: =IFERROR(INDEX(Proyectos!$H$3:$H$299,MATCH(A45*100+6,Proyectos!$M$3:$M$299,0)),"") | J51: =IFERROR(INDEX(Proyectos!$H$3:$H$299,MATCH(B45*100+6,Proyectos!$M$3:$M$299,0)),"") | K51: =IFERROR(INDEX(Proyectos!$H$3:$H$299,MATCH(C45*100+6,Proyectos!$M$3:$M$299,0)),"") | L51: =IFERROR(INDEX(Proyectos!$H$3:$H$299,MATCH(D45*100+6,Proyectos!$M$3:$M$299,0)),"") | M51: =IFERROR(INDEX(Proyectos!$H$3:$H$299,MATCH(E45*100+6,Proyectos!$M$3:$M$299,0)),"")
A52: =IFERROR("#"&INDEX(Proyectos!$A$3:$A$299,MATCH(A45*100+7,Proyectos!$M$3:$M$299,0))&" · "&INDEX(Proyectos!$D$3:$D$299,MATCH(A45*100+7,Proyectos!$M$3:$M$299,0)),"") | B52: =IFERROR("#"&INDEX(Proyectos!$A$3:$A$299,MATCH(B45*100+7,Proyectos!$M$3:$M$299,0))&" · "&INDEX(Proyectos!$D$3:$D$299,MATCH(B45*100+7,Proyectos!$M$3:$M$299,0)),"") | C52: =IFERROR("#"&INDEX(Proyectos!$A$3:$A$299,MATCH(C45*100+7,Proyectos!$M$3:$M$299,0))&" · "&INDEX(Proyectos!$D$3:$D$299,MATCH(C45*100+7,Proyectos!$M$3:$M$299,0)),"") | D52: =IFERROR("#"&INDEX(Proyectos!$A$3:$A$299,MATCH(D45*100+7,Proyectos!$M$3:$M$299,0))&" · "&INDEX(Proyectos!$D$3:$D$299,MATCH(D45*100+7,Proyectos!$M$3:$M$299,0)),"") | E52: =IFERROR("#"&INDEX(Proyectos!$A$3:$A$299,MATCH(E45*100+7,Proyectos!$M$3:$M$299,0))&" · "&INDEX(Proyectos!$D$3:$D$299,MATCH(E45*100+7,Proyectos!$M$3:$M$299,0)),"") | I52: =IFERROR(INDEX(Proyectos!$H$3:$H$299,MATCH(A45*100+7,Proyectos!$M$3:$M$299,0)),"") | J52: =IFERROR(INDEX(Proyectos!$H$3:$H$299,MATCH(B45*100+7,Proyectos!$M$3:$M$299,0)),"") | K52: =IFERROR(INDEX(Proyectos!$H$3:$H$299,MATCH(C45*100+7,Proyectos!$M$3:$M$299,0)),"") | L52: =IFERROR(INDEX(Proyectos!$H$3:$H$299,MATCH(D45*100+7,Proyectos!$M$3:$M$299,0)),"") | M52: =IFERROR(INDEX(Proyectos!$H$3:$H$299,MATCH(E45*100+7,Proyectos!$M$3:$M$299,0)),"")
A53: =IFERROR("#"&INDEX(Proyectos!$A$3:$A$299,MATCH(A45*100+8,Proyectos!$M$3:$M$299,0))&" · "&INDEX(Proyectos!$D$3:$D$299,MATCH(A45*100+8,Proyectos!$M$3:$M$299,0)),"") | B53: =IFERROR("#"&INDEX(Proyectos!$A$3:$A$299,MATCH(B45*100+8,Proyectos!$M$3:$M$299,0))&" · "&INDEX(Proyectos!$D$3:$D$299,MATCH(B45*100+8,Proyectos!$M$3:$M$299,0)),"") | C53: =IFERROR("#"&INDEX(Proyectos!$A$3:$A$299,MATCH(C45*100+8,Proyectos!$M$3:$M$299,0))&" · "&INDEX(Proyectos!$D$3:$D$299,MATCH(C45*100+8,Proyectos!$M$3:$M$299,0)),"") | D53: =IFERROR("#"&INDEX(Proyectos!$A$3:$A$299,MATCH(D45*100+8,Proyectos!$M$3:$M$299,0))&" · "&INDEX(Proyectos!$D$3:$D$299,MATCH(D45*100+8,Proyectos!$M$3:$M$299,0)),"") | E53: =IFERROR("#"&INDEX(Proyectos!$A$3:$A$299,MATCH(E45*100+8,Proyectos!$M$3:$M$299,0))&" · "&INDEX(Proyectos!$D$3:$D$299,MATCH(E45*100+8,Proyectos!$M$3:$M$299,0)),"") | I53: =IFERROR(INDEX(Proyectos!$H$3:$H$299,MATCH(A45*100+8,Proyectos!$M$3:$M$299,0)),"") | J53: =IFERROR(INDEX(Proyectos!$H$3:$H$299,MATCH(B45*100+8,Proyectos!$M$3:$M$299,0)),"") | K53: =IFERROR(INDEX(Proyectos!$H$3:$H$299,MATCH(C45*100+8,Proyectos!$M$3:$M$299,0)),"") | L53: =IFERROR(INDEX(Proyectos!$H$3:$H$299,MATCH(D45*100+8,Proyectos!$M$3:$M$299,0)),"") | M53: =IFERROR(INDEX(Proyectos!$H$3:$H$299,MATCH(E45*100+8,Proyectos!$M$3:$M$299,0)),"")
A55: AGOSTO 2026
A56: LUN | B56: MAR | C56: MIÉ | D56: JUE | E56: VIE | F56: SÁB | G56: DOM
F57: 46235 | G57: 46236
F58: =IFERROR("#"&INDEX(Proyectos!$A$3:$A$299,MATCH(F57*100+1,Proyectos!$M$3:$M$299,0))&" · "&INDEX(Proyectos!$D$3:$D$299,MATCH(F57*100+1,Proyectos!$M$3:$M$299,0)),"") | G58: =IFERROR("#"&INDEX(Proyectos!$A$3:$A$299,MATCH(G57*100+1,Proyectos!$M$3:$M$299,0))&" · "&INDEX(Proyectos!$D$3:$D$299,MATCH(G57*100+1,Proyectos!$M$3:$M$299,0)),"") | N58: =IFERROR(INDEX(Proyectos!$H$3:$H$299,MATCH(F57*100+1,Proyectos!$M$3:$M$299,0)),"") | O58: =IFERROR(INDEX(Proyectos!$H$3:$H$299,MATCH(G57*100+1,Proyectos!$M$3:$M$299,0)),"")
F59: =IFERROR("#"&INDEX(Proyectos!$A$3:$A$299,MATCH(F57*100+2,Proyectos!$M$3:$M$299,0))&" · "&INDEX(Proyectos!$D$3:$D$299,MATCH(F57*100+2,Proyectos!$M$3:$M$299,0)),"") | G59: =IFERROR("#"&INDEX(Proyectos!$A$3:$A$299,MATCH(G57*100+2,Proyectos!$M$3:$M$299,0))&" · "&INDEX(Proyectos!$D$3:$D$299,MATCH(G57*100+2,Proyectos!$M$3:$M$299,0)),"") | N59: =IFERROR(INDEX(Proyectos!$H$3:$H$299,MATCH(F57*100+2,Proyectos!$M$3:$M$299,0)),"") | O59: =IFERROR(INDEX(Proyectos!$H$3:$H$299,MATCH(G57*100+2,Proyectos!$M$3:$M$299,0)),"")
F60: =IFERROR("#"&INDEX(Proyectos!$A$3:$A$299,MATCH(F57*100+3,Proyectos!$M$3:$M$299,0))&" · "&INDEX(Proyectos!$D$3:$D$299,MATCH(F57*100+3,Proyectos!$M$3:$M$299,0)),"") | G60: =IFERROR("#"&INDEX(Proyectos!$A$3:$A$299,MATCH(G57*100+3,Proyectos!$M$3:$M$299,0))&" · "&INDEX(Proyectos!$D$3:$D$299,MATCH(G57*100+3,Proyectos!$M$3:$M$299,0)),"") | N60: =IFERROR(INDEX(Proyectos!$H$3:$H$299,MATCH(F57*100+3,Proyectos!$M$3:$M$299,0)),"") | O60: =IFERROR(INDEX(Proyectos!$H$3:$H$299,MATCH(G57*100+3,Proyectos!$M$3:$M$299,0)),"")
F61: =IFERROR("#"&INDEX(Proyectos!$A$3:$A$299,MATCH(F57*100+4,Proyectos!$M$3:$M$299,0))&" · "&INDEX(Proyectos!$D$3:$D$299,MATCH(F57*100+4,Proyectos!$M$3:$M$299,0)),"") | G61: =IFERROR("#"&INDEX(Proyectos!$A$3:$A$299,MATCH(G57*100+4,Proyectos!$M$3:$M$299,0))&" · "&INDEX(Proyectos!$D$3:$D$299,MATCH(G57*100+4,Proyectos!$M$3:$M$299,0)),"") | N61: =IFERROR(INDEX(Proyectos!$H$3:$H$299,MATCH(F57*100+4,Proyectos!$M$3:$M$299,0)),"") | O61: =IFERROR(INDEX(Proyectos!$H$3:$H$299,MATCH(G57*100+4,Proyectos!$M$3:$M$299,0)),"")
F62: =IFERROR("#"&INDEX(Proyectos!$A$3:$A$299,MATCH(F57*100+5,Proyectos!$M$3:$M$299,0))&" · "&INDEX(Proyectos!$D$3:$D$299,MATCH(F57*100+5,Proyectos!$M$3:$M$299,0)),"") | G62: =IFERROR("#"&INDEX(Proyectos!$A$3:$A$299,MATCH(G57*100+5,Proyectos!$M$3:$M$299,0))&" · "&INDEX(Proyectos!$D$3:$D$299,MATCH(G57*100+5,Proyectos!$M$3:$M$299,0)),"") | N62: =IFERROR(INDEX(Proyectos!$H$3:$H$299,MATCH(F57*100+5,Proyectos!$M$3:$M$299,0)),"") | O62: =IFERROR(INDEX(Proyectos!$H$3:$H$299,MATCH(G57*100+5,Proyectos!$M$3:$M$299,0)),"")
F63: =IFERROR("#"&INDEX(Proyectos!$A$3:$A$299,MATCH(F57*100+6,Proyectos!$M$3:$M$299,0))&" · "&INDEX(Proyectos!$D$3:$D$299,MATCH(F57*100+6,Proyectos!$M$3:$M$299,0)),"") | G63: =IFERROR("#"&INDEX(Proyectos!$A$3:$A$299,MATCH(G57*100+6,Proyectos!$M$3:$M$299,0))&" · "&INDEX(Proyectos!$D$3:$D$299,MATCH(G57*100+6,Proyectos!$M$3:$M$299,0)),"") | N63: =IFERROR(INDEX(Proyectos!$H$3:$H$299,MATCH(F57*100+6,Proyectos!$M$3:$M$299,0)),"") | O63: =IFERROR(INDEX(Proyectos!$H$3:$H$299,MATCH(G57*100+6,Proyectos!$M$3:$M$299,0)),"")
F64: =IFERROR("#"&INDEX(Proyectos!$A$3:$A$299,MATCH(F57*100+7,Proyectos!$M$3:$M$299,0))&" · "&INDEX(Proyectos!$D$3:$D$299,MATCH(F57*100+7,Proyectos!$M$3:$M$299,0)),"") | G64: =IFERROR("#"&INDEX(Proyectos!$A$3:$A$299,MATCH(G57*100+7,Proyectos!$M$3:$M$299,0))&" · "&INDEX(Proyectos!$D$3:$D$299,MATCH(G57*100+7,Proyectos!$M$3:$M$299,0)),"") | N64: =IFERROR(INDEX(Proyectos!$H$3:$H$299,MATCH(F57*100+7,Proyectos!$M$3:$M$299,0)),"") | O64: =IFERROR(INDEX(Proyectos!$H$3:$H$299,MATCH(G57*100+7,Proyectos!$M$3:$M$299,0)),"")
F65: =IFERROR("#"&INDEX(Proyectos!$A$3:$A$299,MATCH(F57*100+8,Proyectos!$M$3:$M$299,0))&" · "&INDEX(Proyectos!$D$3:$D$299,MATCH(F57*100+8,Proyectos!$M$3:$M$299,0)),"") | G65: =IFERROR("#"&INDEX(Proyectos!$A$3:$A$299,MATCH(G57*100+8,Proyectos!$M$3:$M$299,0))&" · "&INDEX(Proyectos!$D$3:$D$299,MATCH(G57*100+8,Proyectos!$M$3:$M$299,0)),"") | N65: =IFERROR(INDEX(Proyectos!$H$3:$H$299,MATCH(F57*100+8,Proyectos!$M$3:$M$299,0)),"") | O65: =IFERROR(INDEX(Proyectos!$H$3:$H$299,MATCH(G57*100+8,Proyectos!$M$3:$M$299,0)),"")
A66: 46237 | B66: 46238 | C66: 46239 | D66: 46240 | E66: 46241 | F66: 46242 | G66: 46243
A67: =IFERROR("#"&INDEX(Proyectos!$A$3:$A$299,MATCH(A66*100+1,Proyectos!$M$3:$M$299,0))&" · "&INDEX(Proyectos!$D$3:$D$299,MATCH(A66*100+1,Proyectos!$M$3:$M$299,0)),"") | B67: =IFERROR("#"&INDEX(Proyectos!$A$3:$A$299,MATCH(B66*100+1,Proyectos!$M$3:$M$299,0))&" · "&INDEX(Proyectos!$D$3:$D$299,MATCH(B66*100+1,Proyectos!$M$3:$M$299,0)),"") | C67: =IFERROR("#"&INDEX(Proyectos!$A$3:$A$299,MATCH(C66*100+1,Proyectos!$M$3:$M$299,0))&" · "&INDEX(Proyectos!$D$3:$D$299,MATCH(C66*100+1,Proyectos!$M$3:$M$299,0)),"") | D67: =IFERROR("#"&INDEX(Proyectos!$A$3:$A$299,MATCH(D66*100+1,Proyectos!$M$3:$M$299,0))&" · "&INDEX(Proyectos!$D$3:$D$299,MATCH(D66*100+1,Proyectos!$M$3:$M$299,0)),"") | E67: =IFERROR("#"&INDEX(Proyectos!$A$3:$A$299,MATCH(E66*100+1,Proyectos!$M$3:$M$299,0))&" · "&INDEX(Proyectos!$D$3:$D$299,MATCH(E66*100+1,Proyectos!$M$3:$M$299,0)),"") -> #65 · T. CONSTITUCIONAL | F67: =IFERROR("#"&INDEX(Proyectos!$A$3:$A$299,MATCH(F66*100+1,Proyectos!$M$3:$M$299,0))&" · "&INDEX(Proyectos!$D$3:$D$299,MATCH(F66*100+1,Proyectos!$M$3:$M$299,0)),"") | G67: =IFERROR("#"&INDEX(Proyectos!$A$3:$A$299,MATCH(G66*100+1,Proyectos!$M$3:$M$299,0))&" · "&INDEX(Proyectos!$D$3:$D$299,MATCH(G66*100+1,Proyectos!$M$3:$M$299,0)),"") | I67: =IFERROR(INDEX(Proyectos!$H$3:$H$299,MATCH(A66*100+1,Proyectos!$M$3:$M$299,0)),"") | J67: =IFERROR(INDEX(Proyectos!$H$3:$H$299,MATCH(B66*100+1,Proyectos!$M$3:$M$299,0)),"") | K67: =IFERROR(INDEX(Proyectos!$H$3:$H$299,MATCH(C66*100+1,Proyectos!$M$3:$M$299,0)),"") | L67: =IFERROR(INDEX(Proyectos!$H$3:$H$299,MATCH(D66*100+1,Proyectos!$M$3:$M$299,0)),"") | M67: =IFERROR(INDEX(Proyectos!$H$3:$H$299,MATCH(E66*100+1,Proyectos!$M$3:$M$299,0)),"") -> Perdida | N67: =IFERROR(INDEX(Proyectos!$H$3:$H$299,MATCH(F66*100+1,Proyectos!$M$3:$M$299,0)),"") | O67: =IFERROR(INDEX(Proyectos!$H$3:$H$299,MATCH(G66*100+1,Proyectos!$M$3:$M$299,0)),"")
A68: =IFERROR("#"&INDEX(Proyectos!$A$3:$A$299,MATCH(A66*100+2,Proyectos!$M$3:$M$299,0))&" · "&INDEX(Proyectos!$D$3:$D$299,MATCH(A66*100+2,Proyectos!$M$3:$M$299,0)),"") | B68: =IFERROR("#"&INDEX(Proyectos!$A$3:$A$299,MATCH(B66*100+2,Proyectos!$M$3:$M$299,0))&" · "&INDEX(Proyectos!$D$3:$D$299,MATCH(B66*100+2,Proyectos!$M$3:$M$299,0)),"") | C68: =IFERROR("#"&INDEX(Proyectos!$A$3:$A$299,MATCH(C66*100+2,Proyectos!$M$3:$M$299,0))&" · "&INDEX(Proyectos!$D$3:$D$299,MATCH(C66*100+2,Proyectos!$M$3:$M$299,0)),"") | D68: =IFERROR("#"&INDEX(Proyectos!$A$3:$A$299,MATCH(D66*100+2,Proyectos!$M$3:$M$299,0))&" · "&INDEX(Proyectos!$D$3:$D$299,MATCH(D66*100+2,Proyectos!$M$3:$M$299,0)),"") | E68: =IFERROR("#"&INDEX(Proyectos!$A$3:$A$299,MATCH(E66*100+2,Proyectos!$M$3:$M$299,0))&" · "&INDEX(Proyectos!$D$3:$D$299,MATCH(E66*100+2,Proyectos!$M$3:$M$299,0)),"") | F68: =IFERROR("#"&INDEX(Proyectos!$A$3:$A$299,MATCH(F66*100+2,Proyectos!$M$3:$M$299,0))&" · "&INDEX(Proyectos!$D$3:$D$299,MATCH(F66*100+2,Proyectos!$M$3:$M$299,0)),"") | G68: =IFERROR("#"&INDEX(Proyectos!$A$3:$A$299,MATCH(G66*100+2,Proyectos!$M$3:$M$299,0))&" · "&INDEX(Proyectos!$D$3:$D$299,MATCH(G66*100+2,Proyectos!$M$3:$M$299,0)),"") | I68: =IFERROR(INDEX(Proyectos!$H$3:$H$299,MATCH(A66*100+2,Proyectos!$M$3:$M$299,0)),"") | J68: =IFERROR(INDEX(Proyectos!$H$3:$H$299,MATCH(B66*100+2,Proyectos!$M$3:$M$299,0)),"") | K68: =IFERROR(INDEX(Proyectos!$H$3:$H$299,MATCH(C66*100+2,Proyectos!$M$3:$M$299,0)),"") | L68: =IFERROR(INDEX(Proyectos!$H$3:$H$299,MATCH(D66*100+2,Proyectos!$M$3:$M$299,0)),"") | M68: =IFERROR(INDEX(Proyectos!$H$3:$H$299,MATCH(E66*100+2,Proyectos!$M$3:$M$299,0)),"") | N68: =IFERROR(INDEX(Proyectos!$H$3:$H$299,MATCH(F66*100+2,Proyectos!$M$3:$M$299,0)),"") | O68: =IFERROR(INDEX(Proyectos!$H$3:$H$299,MATCH(G66*100+2,Proyectos!$M$3:$M$299,0)),"")
A69: =IFERROR("#"&INDEX(Proyectos!$A$3:$A$299,MATCH(A66*100+3,Proyectos!$M$3:$M$299,0))&" · "&INDEX(Proyectos!$D$3:$D$299,MATCH(A66*100+3,Proyectos!$M$3:$M$299,0)),"") | B69: =IFERROR("#"&INDEX(Proyectos!$A$3:$A$299,MATCH(B66*100+3,Proyectos!$M$3:$M$299,0))&" · "&INDEX(Proyectos!$D$3:$D$299,MATCH(B66*100+3,Proyectos!$M$3:$M$299,0)),"") | C69: =IFERROR("#"&INDEX(Proyectos!$A$3:$A$299,MATCH(C66*100+3,Proyectos!$M$3:$M$299,0))&" · "&INDEX(Proyectos!$D$3:$D$299,MATCH(C66*100+3,Proyectos!$M$3:$M$299,0)),"") | D69: =IFERROR("#"&INDEX(Proyectos!$A$3:$A$299,MATCH(D66*100+3,Proyectos!$M$3:$M$299,0))&" · "&INDEX(Proyectos!$D$3:$D$299,MATCH(D66*100+3,Proyectos!$M$3:$M$299,0)),"") | E69: =IFERROR("#"&INDEX(Proyectos!$A$3:$A$299,MATCH(E66*100+3,Proyectos!$M$3:$M$299,0))&" · "&INDEX(Proyectos!$D$3:$D$299,MATCH(E66*100+3,Proyectos!$M$3:$M$299,0)),"") | F69: =IFERROR("#"&INDEX(Proyectos!$A$3:$A$299,MATCH(F66*100+3,Proyectos!$M$3:$M$299,0))&" · "&INDEX(Proyectos!$D$3:$D$299,MATCH(F66*100+3,Proyectos!$M$3:$M$299,0)),"") | G69: =IFERROR("#"&INDEX(Proyectos!$A$3:$A$299,MATCH(G66*100+3,Proyectos!$M$3:$M$299,0))&" · "&INDEX(Proyectos!$D$3:$D$299,MATCH(G66*100+3,Proyectos!$M$3:$M$299,0)),"") | I69: =IFERROR(INDEX(Proyectos!$H$3:$H$299,MATCH(A66*100+3,Proyectos!$M$3:$M$299,0)),"") | J69: =IFERROR(INDEX(Proyectos!$H$3:$H$299,MATCH(B66*100+3,Proyectos!$M$3:$M$299,0)),"") | K69: =IFERROR(INDEX(Proyectos!$H$3:$H$299,MATCH(C66*100+3,Proyectos!$M$3:$M$299,0)),"") | L69: =IFERROR(INDEX(Proyectos!$H$3:$H$299,MATCH(D66*100+3,Proyectos!$M$3:$M$299,0)),"") | M69: =IFERROR(INDEX(Proyectos!$H$3:$H$299,MATCH(E66*100+3,Proyectos!$M$3:$M$299,0)),"") | N69: =IFERROR(INDEX(Proyectos!$H$3:$H$299,MATCH(F66*100+3,Proyectos!$M$3:$M$299,0)),"") | O69: =IFERROR(INDEX(Proyectos!$H$3:$H$299,MATCH(G66*100+3,Proyectos!$M$3:$M$299,0)),"")
A70: =IFERROR("#"&INDEX(Proyectos!$A$3:$A$299,MATCH(A66*100+4,Proyectos!$M$3:$M$299,0))&" · "&INDEX(Proyectos!$D$3:$D$299,MATCH(A66*100+4,Proyectos!$M$3:$M$299,0)),"") | B70: =IFERROR("#"&INDEX(Proyectos!$A$3:$A$299,MATCH(B66*100+4,Proyectos!$M$3:$M$299,0))&" · "&INDEX(Proyectos!$D$3:$D$299,MATCH(B66*100+4,Proyectos!$M$3:$M$299,0)),"") | C70: =IFERROR("#"&INDEX(Proyectos!$A$3:$A$299,MATCH(C66*100+4,Proyectos!$M$3:$M$299,0))&" · "&INDEX(Proyectos!$D$3:$D$299,MATCH(C66*100+4,Proyectos!$M$3:$M$299,0)),"") | D70: =IFERROR("#"&INDEX(Proyectos!$A$3:$A$299,MATCH(D66*100+4,Proyectos!$M$3:$M$299,0))&" · "&INDEX(Proyectos!$D$3:$D$299,MATCH(D66*100+4,Proyectos!$M$3:$M$299,0)),"") | E70: =IFERROR("#"&INDEX(Proyectos!$A$3:$A$299,MATCH(E66*100+4,Proyectos!$M$3:$M$299,0))&" · "&INDEX(Proyectos!$D$3:$D$299,MATCH(E66*100+4,Proyectos!$M$3:$M$299,0)),"") | F70: =IFERROR("#"&INDEX(Proyectos!$A$3:$A$299,MATCH(F66*100+4,Proyectos!$M$3:$M$299,0))&" · "&INDEX(Proyectos!$D$3:$D$299,MATCH(F66*100+4,Proyectos!$M$3:$M$299,0)),"") | G70: =IFERROR("#"&INDEX(Proyectos!$A$3:$A$299,MATCH(G66*100+4,Proyectos!$M$3:$M$299,0))&" · "&INDEX(Proyectos!$D$3:$D$299,MATCH(G66*100+4,Proyectos!$M$3:$M$299,0)),"") | I70: =IFERROR(INDEX(Proyectos!$H$3:$H$299,MATCH(A66*100+4,Proyectos!$M$3:$M$299,0)),"") | J70: =IFERROR(INDEX(Proyectos!$H$3:$H$299,MATCH(B66*100+4,Proyectos!$M$3:$M$299,0)),"") | K70: =IFERROR(INDEX(Proyectos!$H$3:$H$299,MATCH(C66*100+4,Proyectos!$M$3:$M$299,0)),"") | L70: =IFERROR(INDEX(Proyectos!$H$3:$H$299,MATCH(D66*100+4,Proyectos!$M$3:$M$299,0)),"") | M70: =IFERROR(INDEX(Proyectos!$H$3:$H$299,MATCH(E66*100+4,Proyectos!$M$3:$M$299,0)),"") | N70: =IFERROR(INDEX(Proyectos!$H$3:$H$299,MATCH(F66*100+4,Proyectos!$M$3:$M$299,0)),"") | O70: =IFERROR(INDEX(Proyectos!$H$3:$H$299,MATCH(G66*100+4,Proyectos!$M$3:$M$299,0)),"")
A71: =IFERROR("#"&INDEX(Proyectos!$A$3:$A$299,MATCH(A66*100+5,Proyectos!$M$3:$M$299,0))&" · "&INDEX(Proyectos!$D$3:$D$299,MATCH(A66*100+5,Proyectos!$M$3:$M$299,0)),"") | B71: =IFERROR("#"&INDEX(Proyectos!$A$3:$A$299,MATCH(B66*100+5,Proyectos!$M$3:$M$299,0))&" · "&INDEX(Proyectos!$D$3:$D$299,MATCH(B66*100+5,Proyectos!$M$3:$M$299,0)),"") | C71: =IFERROR("#"&INDEX(Proyectos!$A$3:$A$299,MATCH(C66*100+5,Proyectos!$M$3:$M$299,0))&" · "&INDEX(Proyectos!$D$3:$D$299,MATCH(C66*100+5,Proyectos!$M$3:$M$299,0)),"") | D71: =IFERROR("#"&INDEX(Proyectos!$A$3:$A$299,MATCH(D66*100+5,Proyectos!$M$3:$M$299,0))&" · "&INDEX(Proyectos!$D$3:$D$299,MATCH(D66*100+5,Proyectos!$M$3:$M$299,0)),"") | E71: =IFERROR("#"&INDEX(Proyectos!$A$3:$A$299,MATCH(E66*100+5,Proyectos!$M$3:$M$299,0))&" · "&INDEX(Proyectos!$D$3:$D$299,MATCH(E66*100+5,Proyectos!$M$3:$M$299,0)),"") | F71: =IFERROR("#"&INDEX(Proyectos!$A$3:$A$299,MATCH(F66*100+5,Proyectos!$M$3:$M$299,0))&" · "&INDEX(Proyectos!$D$3:$D$299,MATCH(F66*100+5,Proyectos!$M$3:$M$299,0)),"") | G71: =IFERROR("#"&INDEX(Proyectos!$A$3:$A$299,MATCH(G66*100+5,Proyectos!$M$3:$M$299,0))&" · "&INDEX(Proyectos!$D$3:$D$299,MATCH(G66*100+5,Proyectos!$M$3:$M$299,0)),"") | I71: =IFERROR(INDEX(Proyectos!$H$3:$H$299,MATCH(A66*100+5,Proyectos!$M$3:$M$299,0)),"") | J71: =IFERROR(INDEX(Proyectos!$H$3:$H$299,MATCH(B66*100+5,Proyectos!$M$3:$M$299,0)),"") | K71: =IFERROR(INDEX(Proyectos!$H$3:$H$299,MATCH(C66*100+5,Proyectos!$M$3:$M$299,0)),"") | L71: =IFERROR(INDEX(Proyectos!$H$3:$H$299,MATCH(D66*100+5,Proyectos!$M$3:$M$299,0)),"") | M71: =IFERROR(INDEX(Proyectos!$H$3:$H$299,MATCH(E66*100+5,Proyectos!$M$3:$M$299,0)),"") | N71: =IFERROR(INDEX(Proyectos!$H$3:$H$299,MATCH(F66*100+5,Proyectos!$M$3:$M$299,0)),"") | O71: =IFERROR(INDEX(Proyectos!$H$3:$H$299,MATCH(G66*100+5,Proyectos!$M$3:$M$299,0)),"")
A72: =IFERROR("#"&INDEX(Proyectos!$A$3:$A$299,MATCH(A66*100+6,Proyectos!$M$3:$M$299,0))&" · "&INDEX(Proyectos!$D$3:$D$299,MATCH(A66*100+6,Proyectos!$M$3:$M$299,0)),"") | B72: =IFERROR("#"&INDEX(Proyectos!$A$3:$A$299,MATCH(B66*100+6,Proyectos!$M$3:$M$299,0))&" · "&INDEX(Proyectos!$D$3:$D$299,MATCH(B66*100+6,Proyectos!$M$3:$M$299,0)),"") | C72: =IFERROR("#"&INDEX(Proyectos!$A$3:$A$299,MATCH(C66*100+6,Proyectos!$M$3:$M$299,0))&" · "&INDEX(Proyectos!$D$3:$D$299,MATCH(C66*100+6,Proyectos!$M$3:$M$299,0)),"") | D72: =IFERROR("#"&INDEX(Proyectos!$A$3:$A$299,MATCH(D66*100+6,Proyectos!$M$3:$M$299,0))&" · "&INDEX(Proyectos!$D$3:$D$299,MATCH(D66*100+6,Proyectos!$M$3:$M$299,0)),"") | E72: =IFERROR("#"&INDEX(Proyectos!$A$3:$A$299,MATCH(E66*100+6,Proyectos!$M$3:$M$299,0))&" · "&INDEX(Proyectos!$D$3:$D$299,MATCH(E66*100+6,Proyectos!$M$3:$M$299,0)),"") | F72: =IFERROR("#"&INDEX(Proyectos!$A$3:$A$299,MATCH(F66*100+6,Proyectos!$M$3:$M$299,0))&" · "&INDEX(Proyectos!$D$3:$D$299,MATCH(F66*100+6,Proyectos!$M$3:$M$299,0)),"") | G72: =IFERROR("#"&INDEX(Proyectos!$A$3:$A$299,MATCH(G66*100+6,Proyectos!$M$3:$M$299,0))&" · "&INDEX(Proyectos!$D$3:$D$299,MATCH(G66*100+6,Proyectos!$M$3:$M$299,0)),"") | I72: =IFERROR(INDEX(Proyectos!$H$3:$H$299,MATCH(A66*100+6,Proyectos!$M$3:$M$299,0)),"") | J72: =IFERROR(INDEX(Proyectos!$H$3:$H$299,MATCH(B66*100+6,Proyectos!$M$3:$M$299,0)),"") | K72: =IFERROR(INDEX(Proyectos!$H$3:$H$299,MATCH(C66*100+6,Proyectos!$M$3:$M$299,0)),"") | L72: =IFERROR(INDEX(Proyectos!$H$3:$H$299,MATCH(D66*100+6,Proyectos!$M$3:$M$299,0)),"") | M72: =IFERROR(INDEX(Proyectos!$H$3:$H$299,MATCH(E66*100+6,Proyectos!$M$3:$M$299,0)),"") | N72: =IFERROR(INDEX(Proyectos!$H$3:$H$299,MATCH(F66*100+6,Proyectos!$M$3:$M$299,0)),"") | O72: =IFERROR(INDEX(Proyectos!$H$3:$H$299,MATCH(G66*100+6,Proyectos!$M$3:$M$299,0)),"")
A73: =IFERROR("#"&INDEX(Proyectos!$A$3:$A$299,MATCH(A66*100+7,Proyectos!$M$3:$M$299,0))&" · "&INDEX(Proyectos!$D$3:$D$299,MATCH(A66*100+7,Proyectos!$M$3:$M$299,0)),"") | B73: =IFERROR("#"&INDEX(Proyectos!$A$3:$A$299,MATCH(B66*100+7,Proyectos!$M$3:$M$299,0))&" · "&INDEX(Proyectos!$D$3:$D$299,MATCH(B66*100+7,Proyectos!$M$3:$M$299,0)),"") | C73: =IFERROR("#"&INDEX(Proyectos!$A$3:$A$299,MATCH(C66*100+7,Proyectos!$M$3:$M$299,0))&" · "&INDEX(Proyectos!$D$3:$D$299,MATCH(C66*100+7,Proyectos!$M$3:$M$299,0)),"") | D73: =IFERROR("#"&INDEX(Proyectos!$A$3:$A$299,MATCH(D66*100+7,Proyectos!$M$3:$M$299,0))&" · "&INDEX(Proyectos!$D$3:$D$299,MATCH(D66*100+7,Proyectos!$M$3:$M$299,0)),"") | E73: =IFERROR("#"&INDEX(Proyectos!$A$3:$A$299,MATCH(E66*100+7,Proyectos!$M$3:$M$299,0))&" · "&INDEX(Proyectos!$D$3:$D$299,MATCH(E66*100+7,Proyectos!$M$3:$M$299,0)),"") | F73: =IFERROR("#"&INDEX(Proyectos!$A$3:$A$299,MATCH(F66*100+7,Proyectos!$M$3:$M$299,0))&" · "&INDEX(Proyectos!$D$3:$D$299,MATCH(F66*100+7,Proyectos!$M$3:$M$299,0)),"") | G73: =IFERROR("#"&INDEX(Proyectos!$A$3:$A$299,MATCH(G66*100+7,Proyectos!$M$3:$M$299,0))&" · "&INDEX(Proyectos!$D$3:$D$299,MATCH(G66*100+7,Proyectos!$M$3:$M$299,0)),"") | I73: =IFERROR(INDEX(Proyectos!$H$3:$H$299,MATCH(A66*100+7,Proyectos!$M$3:$M$299,0)),"") | J73: =IFERROR(INDEX(Proyectos!$H$3:$H$299,MATCH(B66*100+7,Proyectos!$M$3:$M$299,0)),"") | K73: =IFERROR(INDEX(Proyectos!$H$3:$H$299,MATCH(C66*100+7,Proyectos!$M$3:$M$299,0)),"") | L73: =IFERROR(INDEX(Proyectos!$H$3:$H$299,MATCH(D66*100+7,Proyectos!$M$3:$M$299,0)),"") | M73: =IFERROR(INDEX(Proyectos!$H$3:$H$299,MATCH(E66*100+7,Proyectos!$M$3:$M$299,0)),"") | N73: =IFERROR(INDEX(Proyectos!$H$3:$H$299,MATCH(F66*100+7,Proyectos!$M$3:$M$299,0)),"") | O73: =IFERROR(INDEX(Proyectos!$H$3:$H$299,MATCH(G66*100+7,Proyectos!$M$3:$M$299,0)),"")
A74: =IFERROR("#"&INDEX(Proyectos!$A$3:$A$299,MATCH(A66*100+8,Proyectos!$M$3:$M$299,0))&" · "&INDEX(Proyectos!$D$3:$D$299,MATCH(A66*100+8,Proyectos!$M$3:$M$299,0)),"") | B74: =IFERROR("#"&INDEX(Proyectos!$A$3:$A$299,MATCH(B66*100+8,Proyectos!$M$3:$M$299,0))&" · "&INDEX(Proyectos!$D$3:$D$299,MATCH(B66*100+8,Proyectos!$M$3:$M$299,0)),"") | C74: =IFERROR("#"&INDEX(Proyectos!$A$3:$A$299,MATCH(C66*100+8,Proyectos!$M$3:$M$299,0))&" · "&INDEX(Proyectos!$D$3:$D$299,MATCH(C66*100+8,Proyectos!$M$3:$M$299,0)),"") | D74: =IFERROR("#"&INDEX(Proyectos!$A$3:$A$299,MATCH(D66*100+8,Proyectos!$M$3:$M$299,0))&" · "&INDEX(Proyectos!$D$3:$D$299,MATCH(D66*100+8,Proyectos!$M$3:$M$299,0)),"") | E74: =IFERROR("#"&INDEX(Proyectos!$A$3:$A$299,MATCH(E66*100+8,Proyectos!$M$3:$M$299,0))&" · "&INDEX(Proyectos!$D$3:$D$299,MATCH(E66*100+8,Proyectos!$M$3:$M$299,0)),"") | F74: =IFERROR("#"&INDEX(Proyectos!$A$3:$A$299,MATCH(F66*100+8,Proyectos!$M$3:$M$299,0))&" · "&INDEX(Proyectos!$D$3:$D$299,MATCH(F66*100+8,Proyectos!$M$3:$M$299,0)),"") | G74: =IFERROR("#"&INDEX(Proyectos!$A$3:$A$299,MATCH(G66*100+8,Proyectos!$M$3:$M$299,0))&" · "&INDEX(Proyectos!$D$3:$D$299,MATCH(G66*100+8,Proyectos!$M$3:$M$299,0)),"") | I74: =IFERROR(INDEX(Proyectos!$H$3:$H$299,MATCH(A66*100+8,Proyectos!$M$3:$M$299,0)),"") | J74: =IFERROR(INDEX(Proyectos!$H$3:$H$299,MATCH(B66*100+8,Proyectos!$M$3:$M$299,0)),"") | K74: =IFERROR(INDEX(Proyectos!$H$3:$H$299,MATCH(C66*100+8,Proyectos!$M$3:$M$299,0)),"") | L74: =IFERROR(INDEX(Proyectos!$H$3:$H$299,MATCH(D66*100+8,Proyectos!$M$3:$M$299,0)),"") | M74: =IFERROR(INDEX(Proyectos!$H$3:$H$299,MATCH(E66*100+8,Proyectos!$M$3:$M$299,0)),"") | N74: =IFERROR(INDEX(Proyectos!$H$3:$H$299,MATCH(F66*100+8,Proyectos!$M$3:$M$299,0)),"") | O74: =IFERROR(INDEX(Proyectos!$H$3:$H$299,MATCH(G66*100+8,Proyectos!$M$3:$M$299,0)),"")
A75: 46244 | B75: 46245 | C75: 46246 | D75: 46247 | E75: 46248 | F75: 46249 | G75: 46250
A76: =IFERROR("#"&INDEX(Proyectos!$A$3:$A$299,MATCH(A75*100+1,Proyectos!$M$3:$M$299,0))&" · "&INDEX(Proyectos!$D$3:$D$299,MATCH(A75*100+1,Proyectos!$M$3:$M$299,0)),"") | B76: =IFERROR("#"&INDEX(Proyectos!$A$3:$A$299,MATCH(B75*100+1,Proyectos!$M$3:$M$299,0))&" · "&INDEX(Proyectos!$D$3:$D$299,MATCH(B75*100+1,Proyectos!$M$3:$M$299,0)),"") | C76: =IFERROR("#"&INDEX(Proyectos!$A$3:$A$299,MATCH(C75*100+1,Proyectos!$M$3:$M$299,0))&" · "&INDEX(Proyectos!$D$3:$D$299,MATCH(C75*100+1,Proyectos!$M$3:$M$299,0)),"") | D76: =IFERROR("#"&INDEX(Proyectos!$A$3:$A$299,MATCH(D75*100+1,Proyectos!$M$3:$M$299,0))&" · "&INDEX(Proyectos!$D$3:$D$299,MATCH(D75*100+1,Proyectos!$M$3:$M$299,0)),"") | E76: =IFERROR("#"&INDEX(Proyectos!$A$3:$A$299,MATCH(E75*100+1,Proyectos!$M$3:$M$299,0))&" · "&INDEX(Proyectos!$D$3:$D$299,MATCH(E75*100+1,Proyectos!$M$3:$M$299,0)),"") | F76: =IFERROR("#"&INDEX(Proyectos!$A$3:$A$299,MATCH(F75*100+1,Proyectos!$M$3:$M$299,0))&" · "&INDEX(Proyectos!$D$3:$D$299,MATCH(F75*100+1,Proyectos!$M$3:$M$299,0)),"") | G76: =IFERROR("#"&INDEX(Proyectos!$A$3:$A$299,MATCH(G75*100+1,Proyectos!$M$3:$M$299,0))&" · "&INDEX(Proyectos!$D$3:$D$299,MATCH(G75*100+1,Proyectos!$M$3:$M$299,0)),"") | I76: =IFERROR(INDEX(Proyectos!$H$3:$H$299,MATCH(A75*100+1,Proyectos!$M$3:$M$299,0)),"") | J76: =IFERROR(INDEX(Proyectos!$H$3:$H$299,MATCH(B75*100+1,Proyectos!$M$3:$M$299,0)),"") | K76: =IFERROR(INDEX(Proyectos!$H$3:$H$299,MATCH(C75*100+1,Proyectos!$M$3:$M$299,0)),"") | L76: =IFERROR(INDEX(Proyectos!$H$3:$H$299,MATCH(D75*100+1,Proyectos!$M$3:$M$299,0)),"") | M76: =IFERROR(INDEX(Proyectos!$H$3:$H$299,MATCH(E75*100+1,Proyectos!$M$3:$M$299,0)),"") | N76: =IFERROR(INDEX(Proyectos!$H$3:$H$299,MATCH(F75*100+1,Proyectos!$M$3:$M$299,0)),"") | O76: =IFERROR(INDEX(Proyectos!$H$3:$H$299,MATCH(G75*100+1,Proyectos!$M$3:$M$299,0)),"")
A77: =IFERROR("#"&INDEX(Proyectos!$A$3:$A$299,MATCH(A75*100+2,Proyectos!$M$3:$M$299,0))&" · "&INDEX(Proyectos!$D$3:$D$299,MATCH(A75*100+2,Proyectos!$M$3:$M$299,0)),"") | B77: =IFERROR("#"&INDEX(Proyectos!$A$3:$A$299,MATCH(B75*100+2,Proyectos!$M$3:$M$299,0))&" · "&INDEX(Proyectos!$D$3:$D$299,MATCH(B75*100+2,Proyectos!$M$3:$M$299,0)),"") | C77: =IFERROR("#"&INDEX(Proyectos!$A$3:$A$299,MATCH(C75*100+2,Proyectos!$M$3:$M$299,0))&" · "&INDEX(Proyectos!$D$3:$D$299,MATCH(C75*100+2,Proyectos!$M$3:$M$299,0)),"") | D77: =IFERROR("#"&INDEX(Proyectos!$A$3:$A$299,MATCH(D75*100+2,Proyectos!$M$3:$M$299,0))&" · "&INDEX(Proyectos!$D$3:$D$299,MATCH(D75*100+2,Proyectos!$M$3:$M$299,0)),"") | E77: =IFERROR("#"&INDEX(Proyectos!$A$3:$A$299,MATCH(E75*100+2,Proyectos!$M$3:$M$299,0))&" · "&INDEX(Proyectos!$D$3:$D$299,MATCH(E75*100+2,Proyectos!$M$3:$M$299,0)),"") | F77: =IFERROR("#"&INDEX(Proyectos!$A$3:$A$299,MATCH(F75*100+2,Proyectos!$M$3:$M$299,0))&" · "&INDEX(Proyectos!$D$3:$D$299,MATCH(F75*100+2,Proyectos!$M$3:$M$299,0)),"") | G77: =IFERROR("#"&INDEX(Proyectos!$A$3:$A$299,MATCH(G75*100+2,Proyectos!$M$3:$M$299,0))&" · "&INDEX(Proyectos!$D$3:$D$299,MATCH(G75*100+2,Proyectos!$M$3:$M$299,0)),"") | I77: =IFERROR(INDEX(Proyectos!$H$3:$H$299,MATCH(A75*100+2,Proyectos!$M$3:$M$299,0)),"") | J77: =IFERROR(INDEX(Proyectos!$H$3:$H$299,MATCH(B75*100+2,Proyectos!$M$3:$M$299,0)),"") | K77: =IFERROR(INDEX(Proyectos!$H$3:$H$299,MATCH(C75*100+2,Proyectos!$M$3:$M$299,0)),"") | L77: =IFERROR(INDEX(Proyectos!$H$3:$H$299,MATCH(D75*100+2,Proyectos!$M$3:$M$299,0)),"") | M77: =IFERROR(INDEX(Proyectos!$H$3:$H$299,MATCH(E75*100+2,Proyectos!$M$3:$M$299,0)),"") | N77: =IFERROR(INDEX(Proyectos!$H$3:$H$299,MATCH(F75*100+2,Proyectos!$M$3:$M$299,0)),"") | O77: =IFERROR(INDEX(Proyectos!$H$3:$H$299,MATCH(G75*100+2,Proyectos!$M$3:$M$299,0)),"")
A78: =IFERROR("#"&INDEX(Proyectos!$A$3:$A$299,MATCH(A75*100+3,Proyectos!$M$3:$M$299,0))&" · "&INDEX(Proyectos!$D$3:$D$299,MATCH(A75*100+3,Proyectos!$M$3:$M$299,0)),"") | B78: =IFERROR("#"&INDEX(Proyectos!$A$3:$A$299,MATCH(B75*100+3,Proyectos!$M$3:$M$299,0))&" · "&INDEX(Proyectos!$D$3:$D$299,MATCH(B75*100+3,Proyectos!$M$3:$M$299,0)),"") | C78: =IFERROR("#"&INDEX(Proyectos!$A$3:$A$299,MATCH(C75*100+3,Proyectos!$M$3:$M$299,0))&" · "&INDEX(Proyectos!$D$3:$D$299,MATCH(C75*100+3,Proyectos!$M$3:$M$299,0)),"") | D78: =IFERROR("#"&INDEX(Proyectos!$A$3:$A$299,MATCH(D75*100+3,Proyectos!$M$3:$M$299,0))&" · "&INDEX(Proyectos!$D$3:$D$299,MATCH(D75*100+3,Proyectos!$M$3:$M$299,0)),"") | E78: =IFERROR("#"&INDEX(Proyectos!$A$3:$A$299,MATCH(E75*100+3,Proyectos!$M$3:$M$299,0))&" · "&INDEX(Proyectos!$D$3:$D$299,MATCH(E75*100+3,Proyectos!$M$3:$M$299,0)),"") | F78: =IFERROR("#"&INDEX(Proyectos!$A$3:$A$299,MATCH(F75*100+3,Proyectos!$M$3:$M$299,0))&" · "&INDEX(Proyectos!$D$3:$D$299,MATCH(F75*100+3,Proyectos!$M$3:$M$299,0)),"") | G78: =IFERROR("#"&INDEX(Proyectos!$A$3:$A$299,MATCH(G75*100+3,Proyectos!$M$3:$M$299,0))&" · "&INDEX(Proyectos!$D$3:$D$299,MATCH(G75*100+3,Proyectos!$M$3:$M$299,0)),"") | I78: =IFERROR(INDEX(Proyectos!$H$3:$H$299,MATCH(A75*100+3,Proyectos!$M$3:$M$299,0)),"") | J78: =IFERROR(INDEX(Proyectos!$H$3:$H$299,MATCH(B75*100+3,Proyectos!$M$3:$M$299,0)),"") | K78: =IFERROR(INDEX(Proyectos!$H$3:$H$299,MATCH(C75*100+3,Proyectos!$M$3:$M$299,0)),"") | L78: =IFERROR(INDEX(Proyectos!$H$3:$H$299,MATCH(D75*100+3,Proyectos!$M$3:$M$299,0)),"") | M78: =IFERROR(INDEX(Proyectos!$H$3:$H$299,MATCH(E75*100+3,Proyectos!$M$3:$M$299,0)),"") | N78: =IFERROR(INDEX(Proyectos!$H$3:$H$299,MATCH(F75*100+3,Proyectos!$M$3:$M$299,0)),"") | O78: =IFERROR(INDEX(Proyectos!$H$3:$H$299,MATCH(G75*100+3,Proyectos!$M$3:$M$299,0)),"")
A79: =IFERROR("#"&INDEX(Proyectos!$A$3:$A$299,MATCH(A75*100+4,Proyectos!$M$3:$M$299,0))&" · "&INDEX(Proyectos!$D$3:$D$299,MATCH(A75*100+4,Proyectos!$M$3:$M$299,0)),"") | B79: =IFERROR("#"&INDEX(Proyectos!$A$3:$A$299,MATCH(B75*100+4,Proyectos!$M$3:$M$299,0))&" · "&INDEX(Proyectos!$D$3:$D$299,MATCH(B75*100+4,Proyectos!$M$3:$M$299,0)),"") | C79: =IFERROR("#"&INDEX(Proyectos!$A$3:$A$299,MATCH(C75*100+4,Proyectos!$M$3:$M$299,0))&" · "&INDEX(Proyectos!$D$3:$D$299,MATCH(C75*100+4,Proyectos!$M$3:$M$299,0)),"") | D79: =IFERROR("#"&INDEX(Proyectos!$A$3:$A$299,MATCH(D75*100+4,Proyectos!$M$3:$M$299,0))&" · "&INDEX(Proyectos!$D$3:$D$299,MATCH(D75*100+4,Proyectos!$M$3:$M$299,0)),"") | E79: =IFERROR("#"&INDEX(Proyectos!$A$3:$A$299,MATCH(E75*100+4,Proyectos!$M$3:$M$299,0))&" · "&INDEX(Proyectos!$D$3:$D$299,MATCH(E75*100+4,Proyectos!$M$3:$M$299,0)),"") | F79: =IFERROR("#"&INDEX(Proyectos!$A$3:$A$299,MATCH(F75*100+4,Proyectos!$M$3:$M$299,0))&" · "&INDEX(Proyectos!$D$3:$D$299,MATCH(F75*100+4,Proyectos!$M$3:$M$299,0)),"") | G79: =IFERROR("#"&INDEX(Proyectos!$A$3:$A$299,MATCH(G75*100+4,Proyectos!$M$3:$M$299,0))&" · "&INDEX(Proyectos!$D$3:$D$299,MATCH(G75*100+4,Proyectos!$M$3:$M$299,0)),"") | I79: =IFERROR(INDEX(Proyectos!$H$3:$H$299,MATCH(A75*100+4,Proyectos!$M$3:$M$299,0)),"") | J79: =IFERROR(INDEX(Proyectos!$H$3:$H$299,MATCH(B75*100+4,Proyectos!$M$3:$M$299,0)),"") | K79: =IFERROR(INDEX(Proyectos!$H$3:$H$299,MATCH(C75*100+4,Proyectos!$M$3:$M$299,0)),"") | L79: =IFERROR(INDEX(Proyectos!$H$3:$H$299,MATCH(D75*100+4,Proyectos!$M$3:$M$299,0)),"") | M79: =IFERROR(INDEX(Proyectos!$H$3:$H$299,MATCH(E75*100+4,Proyectos!$M$3:$M$299,0)),"") | N79: =IFERROR(INDEX(Proyectos!$H$3:$H$299,MATCH(F75*100+4,Proyectos!$M$3:$M$299,0)),"") | O79: =IFERROR(INDEX(Proyectos!$H$3:$H$299,MATCH(G75*100+4,Proyectos!$M$3:$M$299,0)),"")
A80: =IFERROR("#"&INDEX(Proyectos!$A$3:$A$299,MATCH(A75*100+5,Proyectos!$M$3:$M$299,0))&" · "&INDEX(Proyectos!$D$3:$D$299,MATCH(A75*100+5,Proyectos!$M$3:$M$299,0)),"") | B80: =IFERROR("#"&INDEX(Proyectos!$A$3:$A$299,MATCH(B75*100+5,Proyectos!$M$3:$M$299,0))&" · "&INDEX(Proyectos!$D$3:$D$299,MATCH(B75*100+5,Proyectos!$M$3:$M$299,0)),"") | C80: =IFERROR("#"&INDEX(Proyectos!$A$3:$A$299,MATCH(C75*100+5,Proyectos!$M$3:$M$299,0))&" · "&INDEX(Proyectos!$D$3:$D$299,MATCH(C75*100+5,Proyectos!$M$3:$M$299,0)),"") | D80: =IFERROR("#"&INDEX(Proyectos!$A$3:$A$299,MATCH(D75*100+5,Proyectos!$M$3:$M$299,0))&" · "&INDEX(Proyectos!$D$3:$D$299,MATCH(D75*100+5,Proyectos!$M$3:$M$299,0)),"") | E80: =IFERROR("#"&INDEX(Proyectos!$A$3:$A$299,MATCH(E75*100+5,Proyectos!$M$3:$M$299,0))&" · "&INDEX(Proyectos!$D$3:$D$299,MATCH(E75*100+5,Proyectos!$M$3:$M$299,0)),"") | F80: =IFERROR("#"&INDEX(Proyectos!$A$3:$A$299,MATCH(F75*100+5,Proyectos!$M$3:$M$299,0))&" · "&INDEX(Proyectos!$D$3:$D$299,MATCH(F75*100+5,Proyectos!$M$3:$M$299,0)),"") | G80: =IFERROR("#"&INDEX(Proyectos!$A$3:$A$299,MATCH(G75*100+5,Proyectos!$M$3:$M$299,0))&" · "&INDEX(Proyectos!$D$3:$D$299,MATCH(G75*100+5,Proyectos!$M$3:$M$299,0)),"") | I80: =IFERROR(INDEX(Proyectos!$H$3:$H$299,MATCH(A75*100+5,Proyectos!$M$3:$M$299,0)),"") | J80: =IFERROR(INDEX(Proyectos!$H$3:$H$299,MATCH(B75*100+5,Proyectos!$M$3:$M$299,0)),"") | K80: =IFERROR(INDEX(Proyectos!$H$3:$H$299,MATCH(C75*100+5,Proyectos!$M$3:$M$299,0)),"") | L80: =IFERROR(INDEX(Proyectos!$H$3:$H$299,MATCH(D75*100+5,Proyectos!$M$3:$M$299,0)),"") | M80: =IFERROR(INDEX(Proyectos!$H$3:$H$299,MATCH(E75*100+5,Proyectos!$M$3:$M$299,0)),"") | N80: =IFERROR(INDEX(Proyectos!$H$3:$H$299,MATCH(F75*100+5,Proyectos!$M$3:$M$299,0)),"") | O80: =IFERROR(INDEX(Proyectos!$H$3:$H$299,MATCH(G75*100+5,Proyectos!$M$3:$M$299,0)),"")
A81: =IFERROR("#"&INDEX(Proyectos!$A$3:$A$299,MATCH(A75*100+6,Proyectos!$M$3:$M$299,0))&" · "&INDEX(Proyectos!$D$3:$D$299,MATCH(A75*100+6,Proyectos!$M$3:$M$299,0)),"") | B81: =IFERROR("#"&INDEX(Proyectos!$A$3:$A$299,MATCH(B75*100+6,Proyectos!$M$3:$M$299,0))&" · "&INDEX(Proyectos!$D$3:$D$299,MATCH(B75*100+6,Proyectos!$M$3:$M$299,0)),"") | C81: =IFERROR("#"&INDEX(Proyectos!$A$3:$A$299,MATCH(C75*100+6,Proyectos!$M$3:$M$299,0))&" · "&INDEX(Proyectos!$D$3:$D$299,MATCH(C75*100+6,Proyectos!$M$3:$M$299,0)),"") | D81: =IFERROR("#"&INDEX(Proyectos!$A$3:$A$299,MATCH(D75*100+6,Proyectos!$M$3:$M$299,0))&" · "&INDEX(Proyectos!$D$3:$D$299,MATCH(D75*100+6,Proyectos!$M$3:$M$299,0)),"") | E81: =IFERROR("#"&INDEX(Proyectos!$A$3:$A$299,MATCH(E75*100+6,Proyectos!$M$3:$M$299,0))&" · "&INDEX(Proyectos!$D$3:$D$299,MATCH(E75*100+6,Proyectos!$M$3:$M$299,0)),"") | F81: =IFERROR("#"&INDEX(Proyectos!$A$3:$A$299,MATCH(F75*100+6,Proyectos!$M$3:$M$299,0))&" · "&INDEX(Proyectos!$D$3:$D$299,MATCH(F75*100+6,Proyectos!$M$3:$M$299,0)),"") | G81: =IFERROR("#"&INDEX(Proyectos!$A$3:$A$299,MATCH(G75*100+6,Proyectos!$M$3:$M$299,0))&" · "&INDEX(Proyectos!$D$3:$D$299,MATCH(G75*100+6,Proyectos!$M$3:$M$299,0)),"") | I81: =IFERROR(INDEX(Proyectos!$H$3:$H$299,MATCH(A75*100+6,Proyectos!$M$3:$M$299,0)),"") | J81: =IFERROR(INDEX(Proyectos!$H$3:$H$299,MATCH(B75*100+6,Proyectos!$M$3:$M$299,0)),"") | K81: =IFERROR(INDEX(Proyectos!$H$3:$H$299,MATCH(C75*100+6,Proyectos!$M$3:$M$299,0)),"") | L81: =IFERROR(INDEX(Proyectos!$H$3:$H$299,MATCH(D75*100+6,Proyectos!$M$3:$M$299,0)),"") | M81: =IFERROR(INDEX(Proyectos!$H$3:$H$299,MATCH(E75*100+6,Proyectos!$M$3:$M$299,0)),"") | N81: =IFERROR(INDEX(Proyectos!$H$3:$H$299,MATCH(F75*100+6,Proyectos!$M$3:$M$299,0)),"") | O81: =IFERROR(INDEX(Proyectos!$H$3:$H$299,MATCH(G75*100+6,Proyectos!$M$3:$M$299,0)),"")
A82: =IFERROR("#"&INDEX(Proyectos!$A$3:$A$299,MATCH(A75*100+7,Proyectos!$M$3:$M$299,0))&" · "&INDEX(Proyectos!$D$3:$D$299,MATCH(A75*100+7,Proyectos!$M$3:$M$299,0)),"") | B82: =IFERROR("#"&INDEX(Proyectos!$A$3:$A$299,MATCH(B75*100+7,Proyectos!$M$3:$M$299,0))&" · "&INDEX(Proyectos!$D$3:$D$299,MATCH(B75*100+7,Proyectos!$M$3:$M$299,0)),"") | C82: =IFERROR("#"&INDEX(Proyectos!$A$3:$A$299,MATCH(C75*100+7,Proyectos!$M$3:$M$299,0))&" · "&INDEX(Proyectos!$D$3:$D$299,MATCH(C75*100+7,Proyectos!$M$3:$M$299,0)),"") | D82: =IFERROR("#"&INDEX(Proyectos!$A$3:$A$299,MATCH(D75*100+7,Proyectos!$M$3:$M$299,0))&" · "&INDEX(Proyectos!$D$3:$D$299,MATCH(D75*100+7,Proyectos!$M$3:$M$299,0)),"") | E82: =IFERROR("#"&INDEX(Proyectos!$A$3:$A$299,MATCH(E75*100+7,Proyectos!$M$3:$M$299,0))&" · "&INDEX(Proyectos!$D$3:$D$299,MATCH(E75*100+7,Proyectos!$M$3:$M$299,0)),"") | F82: =IFERROR("#"&INDEX(Proyectos!$A$3:$A$299,MATCH(F75*100+7,Proyectos!$M$3:$M$299,0))&" · "&INDEX(Proyectos!$D$3:$D$299,MATCH(F75*100+7,Proyectos!$M$3:$M$299,0)),"") | G82: =IFERROR("#"&INDEX(Proyectos!$A$3:$A$299,MATCH(G75*100+7,Proyectos!$M$3:$M$299,0))&" · "&INDEX(Proyectos!$D$3:$D$299,MATCH(G75*100+7,Proyectos!$M$3:$M$299,0)),"") | I82: =IFERROR(INDEX(Proyectos!$H$3:$H$299,MATCH(A75*100+7,Proyectos!$M$3:$M$299,0)),"") | J82: =IFERROR(INDEX(Proyectos!$H$3:$H$299,MATCH(B75*100+7,Proyectos!$M$3:$M$299,0)),"") | K82: =IFERROR(INDEX(Proyectos!$H$3:$H$299,MATCH(C75*100+7,Proyectos!$M$3:$M$299,0)),"") | L82: =IFERROR(INDEX(Proyectos!$H$3:$H$299,MATCH(D75*100+7,Proyectos!$M$3:$M$299,0)),"") | M82: =IFERROR(INDEX(Proyectos!$H$3:$H$299,MATCH(E75*100+7,Proyectos!$M$3:$M$299,0)),"") | N82: =IFERROR(INDEX(Proyectos!$H$3:$H$299,MATCH(F75*100+7,Proyectos!$M$3:$M$299,0)),"") | O82: =IFERROR(INDEX(Proyectos!$H$3:$H$299,MATCH(G75*100+7,Proyectos!$M$3:$M$299,0)),"")
A83: =IFERROR("#"&INDEX(Proyectos!$A$3:$A$299,MATCH(A75*100+8,Proyectos!$M$3:$M$299,0))&" · "&INDEX(Proyectos!$D$3:$D$299,MATCH(A75*100+8,Proyectos!$M$3:$M$299,0)),"") | B83: =IFERROR("#"&INDEX(Proyectos!$A$3:$A$299,MATCH(B75*100+8,Proyectos!$M$3:$M$299,0))&" · "&INDEX(Proyectos!$D$3:$D$299,MATCH(B75*100+8,Proyectos!$M$3:$M$299,0)),"") | C83: =IFERROR("#"&INDEX(Proyectos!$A$3:$A$299,MATCH(C75*100+8,Proyectos!$M$3:$M$299,0))&" · "&INDEX(Proyectos!$D$3:$D$299,MATCH(C75*100+8,Proyectos!$M$3:$M$299,0)),"") | D83: =IFERROR("#"&INDEX(Proyectos!$A$3:$A$299,MATCH(D75*100+8,Proyectos!$M$3:$M$299,0))&" · "&INDEX(Proyectos!$D$3:$D$299,MATCH(D75*100+8,Proyectos!$M$3:$M$299,0)),"") | E83: =IFERROR("#"&INDEX(Proyectos!$A$3:$A$299,MATCH(E75*100+8,Proyectos!$M$3:$M$299,0))&" · "&INDEX(Proyectos!$D$3:$D$299,MATCH(E75*100+8,Proyectos!$M$3:$M$299,0)),"") | F83: =IFERROR("#"&INDEX(Proyectos!$A$3:$A$299,MATCH(F75*100+8,Proyectos!$M$3:$M$299,0))&" · "&INDEX(Proyectos!$D$3:$D$299,MATCH(F75*100+8,Proyectos!$M$3:$M$299,0)),"") | G83: =IFERROR("#"&INDEX(Proyectos!$A$3:$A$299,MATCH(G75*100+8,Proyectos!$M$3:$M$299,0))&" · "&INDEX(Proyectos!$D$3:$D$299,MATCH(G75*100+8,Proyectos!$M$3:$M$299,0)),"") | I83: =IFERROR(INDEX(Proyectos!$H$3:$H$299,MATCH(A75*100+8,Proyectos!$M$3:$M$299,0)),"") | J83: =IFERROR(INDEX(Proyectos!$H$3:$H$299,MATCH(B75*100+8,Proyectos!$M$3:$M$299,0)),"") | K83: =IFERROR(INDEX(Proyectos!$H$3:$H$299,MATCH(C75*100+8,Proyectos!$M$3:$M$299,0)),"") | L83: =IFERROR(INDEX(Proyectos!$H$3:$H$299,MATCH(D75*100+8,Proyectos!$M$3:$M$299,0)),"") | M83: =IFERROR(INDEX(Proyectos!$H$3:$H$299,MATCH(E75*100+8,Proyectos!$M$3:$M$299,0)),"") | N83: =IFERROR(INDEX(Proyectos!$H$3:$H$299,MATCH(F75*100+8,Proyectos!$M$3:$M$299,0)),"") | O83: =IFERROR(INDEX(Proyectos!$H$3:$H$299,MATCH(G75*100+8,Proyectos!$M$3:$M$299,0)),"")
A84: 46251 | B84: 46252 | C84: 46253 | D84: 46254 | E84: 46255 | F84: 46256 | G84: 46257
A85: =IFERROR("#"&INDEX(Proyectos!$A$3:$A$299,MATCH(A84*100+1,Proyectos!$M$3:$M$299,0))&" · "&INDEX(Proyectos!$D$3:$D$299,MATCH(A84*100+1,Proyectos!$M$3:$M$299,0)),"") | B85: =IFERROR("#"&INDEX(Proyectos!$A$3:$A$299,MATCH(B84*100+1,Proyectos!$M$3:$M$299,0))&" · "&INDEX(Proyectos!$D$3:$D$299,MATCH(B84*100+1,Proyectos!$M$3:$M$299,0)),"") | C85: =IFERROR("#"&INDEX(Proyectos!$A$3:$A$299,MATCH(C84*100+1,Proyectos!$M$3:$M$299,0))&" · "&INDEX(Proyectos!$D$3:$D$299,MATCH(C84*100+1,Proyectos!$M$3:$M$299,0)),"") | D85: =IFERROR("#"&INDEX(Proyectos!$A$3:$A$299,MATCH(D84*100+1,Proyectos!$M$3:$M$299,0))&" · "&INDEX(Proyectos!$D$3:$D$299,MATCH(D84*100+1,Proyectos!$M$3:$M$299,0)),"") | E85: =IFERROR("#"&INDEX(Proyectos!$A$3:$A$299,MATCH(E84*100+1,Proyectos!$M$3:$M$299,0))&" · "&INDEX(Proyectos!$D$3:$D$299,MATCH(E84*100+1,Proyectos!$M$3:$M$299,0)),"") | F85: =IFERROR("#"&INDEX(Proyectos!$A$3:$A$299,MATCH(F84*100+1,Proyectos!$M$3:$M$299,0))&" · "&INDEX(Proyectos!$D$3:$D$299,MATCH(F84*100+1,Proyectos!$M$3:$M$299,0)),"") | G85: =IFERROR("#"&INDEX(Proyectos!$A$3:$A$299,MATCH(G84*100+1,Proyectos!$M$3:$M$299,0))&" · "&INDEX(Proyectos!$D$3:$D$299,MATCH(G84*100+1,Proyectos!$M$3:$M$299,0)),"") | I85: =IFERROR(INDEX(Proyectos!$H$3:$H$299,MATCH(A84*100+1,Proyectos!$M$3:$M$299,0)),"") | J85: =IFERROR(INDEX(Proyectos!$H$3:$H$299,MATCH(B84*100+1,Proyectos!$M$3:$M$299,0)),"") | K85: =IFERROR(INDEX(Proyectos!$H$3:$H$299,MATCH(C84*100+1,Proyectos!$M$3:$M$299,0)),"") | L85: =IFERROR(INDEX(Proyectos!$H$3:$H$299,MATCH(D84*100+1,Proyectos!$M$3:$M$299,0)),"") | M85: =IFERROR(INDEX(Proyectos!$H$3:$H$299,MATCH(E84*100+1,Proyectos!$M$3:$M$299,0)),"") | N85: =IFERROR(INDEX(Proyectos!$H$3:$H$299,MATCH(F84*100+1,Proyectos!$M$3:$M$299,0)),"") | O85: =IFERROR(INDEX(Proyectos!$H$3:$H$299,MATCH(G84*100+1,Proyectos!$M$3:$M$299,0)),"")
A86: =IFERROR("#"&INDEX(Proyectos!$A$3:$A$299,MATCH(A84*100+2,Proyectos!$M$3:$M$299,0))&" · "&INDEX(Proyectos!$D$3:$D$299,MATCH(A84*100+2,Proyectos!$M$3:$M$299,0)),"") | B86: =IFERROR("#"&INDEX(Proyectos!$A$3:$A$299,MATCH(B84*100+2,Proyectos!$M$3:$M$299,0))&" · "&INDEX(Proyectos!$D$3:$D$299,MATCH(B84*100+2,Proyectos!$M$3:$M$299,0)),"") | C86: =IFERROR("#"&INDEX(Proyectos!$A$3:$A$299,MATCH(C84*100+2,Proyectos!$M$3:$M$299,0))&" · "&INDEX(Proyectos!$D$3:$D$299,MATCH(C84*100+2,Proyectos!$M$3:$M$299,0)),"") | D86: =IFERROR("#"&INDEX(Proyectos!$A$3:$A$299,MATCH(D84*100+2,Proyectos!$M$3:$M$299,0))&" · "&INDEX(Proyectos!$D$3:$D$299,MATCH(D84*100+2,Proyectos!$M$3:$M$299,0)),"") | E86: =IFERROR("#"&INDEX(Proyectos!$A$3:$A$299,MATCH(E84*100+2,Proyectos!$M$3:$M$299,0))&" · "&INDEX(Proyectos!$D$3:$D$299,MATCH(E84*100+2,Proyectos!$M$3:$M$299,0)),"") | F86: =IFERROR("#"&INDEX(Proyectos!$A$3:$A$299,MATCH(F84*100+2,Proyectos!$M$3:$M$299,0))&" · "&INDEX(Proyectos!$D$3:$D$299,MATCH(F84*100+2,Proyectos!$M$3:$M$299,0)),"") | G86: =IFERROR("#"&INDEX(Proyectos!$A$3:$A$299,MATCH(G84*100+2,Proyectos!$M$3:$M$299,0))&" · "&INDEX(Proyectos!$D$3:$D$299,MATCH(G84*100+2,Proyectos!$M$3:$M$299,0)),"") | I86: =IFERROR(INDEX(Proyectos!$H$3:$H$299,MATCH(A84*100+2,Proyectos!$M$3:$M$299,0)),"") | J86: =IFERROR(INDEX(Proyectos!$H$3:$H$299,MATCH(B84*100+2,Proyectos!$M$3:$M$299,0)),"") | K86: =IFERROR(INDEX(Proyectos!$H$3:$H$299,MATCH(C84*100+2,Proyectos!$M$3:$M$299,0)),"") | L86: =IFERROR(INDEX(Proyectos!$H$3:$H$299,MATCH(D84*100+2,Proyectos!$M$3:$M$299,0)),"") | M86: =IFERROR(INDEX(Proyectos!$H$3:$H$299,MATCH(E84*100+2,Proyectos!$M$3:$M$299,0)),"") | N86: =IFERROR(INDEX(Proyectos!$H$3:$H$299,MATCH(F84*100+2,Proyectos!$M$3:$M$299,0)),"") | O86: =IFERROR(INDEX(Proyectos!$H$3:$H$299,MATCH(G84*100+2,Proyectos!$M$3:$M$299,0)),"")
A87: =IFERROR("#"&INDEX(Proyectos!$A$3:$A$299,MATCH(A84*100+3,Proyectos!$M$3:$M$299,0))&" · "&INDEX(Proyectos!$D$3:$D$299,MATCH(A84*100+3,Proyectos!$M$3:$M$299,0)),"") | B87: =IFERROR("#"&INDEX(Proyectos!$A$3:$A$299,MATCH(B84*100+3,Proyectos!$M$3:$M$299,0))&" · "&INDEX(Proyectos!$D$3:$D$299,MATCH(B84*100+3,Proyectos!$M$3:$M$299,0)),"") | C87: =IFERROR("#"&INDEX(Proyectos!$A$3:$A$299,MATCH(C84*100+3,Proyectos!$M$3:$M$299,0))&" · "&INDEX(Proyectos!$D$3:$D$299,MATCH(C84*100+3,Proyectos!$M$3:$M$299,0)),"") | D87: =IFERROR("#"&INDEX(Proyectos!$A$3:$A$299,MATCH(D84*100+3,Proyectos!$M$3:$M$299,0))&" · "&INDEX(Proyectos!$D$3:$D$299,MATCH(D84*100+3,Proyectos!$M$3:$M$299,0)),"") | E87: =IFERROR("#"&INDEX(Proyectos!$A$3:$A$299,MATCH(E84*100+3,Proyectos!$M$3:$M$299,0))&" · "&INDEX(Proyectos!$D$3:$D$299,MATCH(E84*100+3,Proyectos!$M$3:$M$299,0)),"") | F87: =IFERROR("#"&INDEX(Proyectos!$A$3:$A$299,MATCH(F84*100+3,Proyectos!$M$3:$M$299,0))&" · "&INDEX(Proyectos!$D$3:$D$299,MATCH(F84*100+3,Proyectos!$M$3:$M$299,0)),"") | G87: =IFERROR("#"&INDEX(Proyectos!$A$3:$A$299,MATCH(G84*100+3,Proyectos!$M$3:$M$299,0))&" · "&INDEX(Proyectos!$D$3:$D$299,MATCH(G84*100+3,Proyectos!$M$3:$M$299,0)),"") | I87: =IFERROR(INDEX(Proyectos!$H$3:$H$299,MATCH(A84*100+3,Proyectos!$M$3:$M$299,0)),"") | J87: =IFERROR(INDEX(Proyectos!$H$3:$H$299,MATCH(B84*100+3,Proyectos!$M$3:$M$299,0)),"") | K87: =IFERROR(INDEX(Proyectos!$H$3:$H$299,MATCH(C84*100+3,Proyectos!$M$3:$M$299,0)),"") | L87: =IFERROR(INDEX(Proyectos!$H$3:$H$299,MATCH(D84*100+3,Proyectos!$M$3:$M$299,0)),"") | M87: =IFERROR(INDEX(Proyectos!$H$3:$H$299,MATCH(E84*100+3,Proyectos!$M$3:$M$299,0)),"") | N87: =IFERROR(INDEX(Proyectos!$H$3:$H$299,MATCH(F84*100+3,Proyectos!$M$3:$M$299,0)),"") | O87: =IFERROR(INDEX(Proyectos!$H$3:$H$299,MATCH(G84*100+3,Proyectos!$M$3:$M$299,0)),"")
A88: =IFERROR("#"&INDEX(Proyectos!$A$3:$A$299,MATCH(A84*100+4,Proyectos!$M$3:$M$299,0))&" · "&INDEX(Proyectos!$D$3:$D$299,MATCH(A84*100+4,Proyectos!$M$3:$M$299,0)),"") | B88: =IFERROR("#"&INDEX(Proyectos!$A$3:$A$299,MATCH(B84*100+4,Proyectos!$M$3:$M$299,0))&" · "&INDEX(Proyectos!$D$3:$D$299,MATCH(B84*100+4,Proyectos!$M$3:$M$299,0)),"") | C88: =IFERROR("#"&INDEX(Proyectos!$A$3:$A$299,MATCH(C84*100+4,Proyectos!$M$3:$M$299,0))&" · "&INDEX(Proyectos!$D$3:$D$299,MATCH(C84*100+4,Proyectos!$M$3:$M$299,0)),"") | D88: =IFERROR("#"&INDEX(Proyectos!$A$3:$A$299,MATCH(D84*100+4,Proyectos!$M$3:$M$299,0))&" · "&INDEX(Proyectos!$D$3:$D$299,MATCH(D84*100+4,Proyectos!$M$3:$M$299,0)),"") | E88: =IFERROR("#"&INDEX(Proyectos!$A$3:$A$299,MATCH(E84*100+4,Proyectos!$M$3:$M$299,0))&" · "&INDEX(Proyectos!$D$3:$D$299,MATCH(E84*100+4,Proyectos!$M$3:$M$299,0)),"") | F88: =IFERROR("#"&INDEX(Proyectos!$A$3:$A$299,MATCH(F84*100+4,Proyectos!$M$3:$M$299,0))&" · "&INDEX(Proyectos!$D$3:$D$299,MATCH(F84*100+4,Proyectos!$M$3:$M$299,0)),"") | G88: =IFERROR("#"&INDEX(Proyectos!$A$3:$A$299,MATCH(G84*100+4,Proyectos!$M$3:$M$299,0))&" · "&INDEX(Proyectos!$D$3:$D$299,MATCH(G84*100+4,Proyectos!$M$3:$M$299,0)),"") | I88: =IFERROR(INDEX(Proyectos!$H$3:$H$299,MATCH(A84*100+4,Proyectos!$M$3:$M$299,0)),"") | J88: =IFERROR(INDEX(Proyectos!$H$3:$H$299,MATCH(B84*100+4,Proyectos!$M$3:$M$299,0)),"") | K88: =IFERROR(INDEX(Proyectos!$H$3:$H$299,MATCH(C84*100+4,Proyectos!$M$3:$M$299,0)),"") | L88: =IFERROR(INDEX(Proyectos!$H$3:$H$299,MATCH(D84*100+4,Proyectos!$M$3:$M$299,0)),"") | M88: =IFERROR(INDEX(Proyectos!$H$3:$H$299,MATCH(E84*100+4,Proyectos!$M$3:$M$299,0)),"") | N88: =IFERROR(INDEX(Proyectos!$H$3:$H$299,MATCH(F84*100+4,Proyectos!$M$3:$M$299,0)),"") | O88: =IFERROR(INDEX(Proyectos!$H$3:$H$299,MATCH(G84*100+4,Proyectos!$M$3:$M$299,0)),"")
A89: =IFERROR("#"&INDEX(Proyectos!$A$3:$A$299,MATCH(A84*100+5,Proyectos!$M$3:$M$299,0))&" · "&INDEX(Proyectos!$D$3:$D$299,MATCH(A84*100+5,Proyectos!$M$3:$M$299,0)),"") | B89: =IFERROR("#"&INDEX(Proyectos!$A$3:$A$299,MATCH(B84*100+5,Proyectos!$M$3:$M$299,0))&" · "&INDEX(Proyectos!$D$3:$D$299,MATCH(B84*100+5,Proyectos!$M$3:$M$299,0)),"") | C89: =IFERROR("#"&INDEX(Proyectos!$A$3:$A$299,MATCH(C84*100+5,Proyectos!$M$3:$M$299,0))&" · "&INDEX(Proyectos!$D$3:$D$299,MATCH(C84*100+5,Proyectos!$M$3:$M$299,0)),"") | D89: =IFERROR("#"&INDEX(Proyectos!$A$3:$A$299,MATCH(D84*100+5,Proyectos!$M$3:$M$299,0))&" · "&INDEX(Proyectos!$D$3:$D$299,MATCH(D84*100+5,Proyectos!$M$3:$M$299,0)),"") | E89: =IFERROR("#"&INDEX(Proyectos!$A$3:$A$299,MATCH(E84*100+5,Proyectos!$M$3:$M$299,0))&" · "&INDEX(Proyectos!$D$3:$D$299,MATCH(E84*100+5,Proyectos!$M$3:$M$299,0)),"") | F89: =IFERROR("#"&INDEX(Proyectos!$A$3:$A$299,MATCH(F84*100+5,Proyectos!$M$3:$M$299,0))&" · "&INDEX(Proyectos!$D$3:$D$299,MATCH(F84*100+5,Proyectos!$M$3:$M$299,0)),"") | G89: =IFERROR("#"&INDEX(Proyectos!$A$3:$A$299,MATCH(G84*100+5,Proyectos!$M$3:$M$299,0))&" · "&INDEX(Proyectos!$D$3:$D$299,MATCH(G84*100+5,Proyectos!$M$3:$M$299,0)),"") | I89: =IFERROR(INDEX(Proyectos!$H$3:$H$299,MATCH(A84*100+5,Proyectos!$M$3:$M$299,0)),"") | J89: =IFERROR(INDEX(Proyectos!$H$3:$H$299,MATCH(B84*100+5,Proyectos!$M$3:$M$299,0)),"") | K89: =IFERROR(INDEX(Proyectos!$H$3:$H$299,MATCH(C84*100+5,Proyectos!$M$3:$M$299,0)),"") | L89: =IFERROR(INDEX(Proyectos!$H$3:$H$299,MATCH(D84*100+5,Proyectos!$M$3:$M$299,0)),"") | M89: =IFERROR(INDEX(Proyectos!$H$3:$H$299,MATCH(E84*100+5,Proyectos!$M$3:$M$299,0)),"") | N89: =IFERROR(INDEX(Proyectos!$H$3:$H$299,MATCH(F84*100+5,Proyectos!$M$3:$M$299,0)),"") | O89: =IFERROR(INDEX(Proyectos!$H$3:$H$299,MATCH(G84*100+5,Proyectos!$M$3:$M$299,0)),"")
A90: =IFERROR("#"&INDEX(Proyectos!$A$3:$A$299,MATCH(A84*100+6,Proyectos!$M$3:$M$299,0))&" · "&INDEX(Proyectos!$D$3:$D$299,MATCH(A84*100+6,Proyectos!$M$3:$M$299,0)),"") | B90: =IFERROR("#"&INDEX(Proyectos!$A$3:$A$299,MATCH(B84*100+6,Proyectos!$M$3:$M$299,0))&" · "&INDEX(Proyectos!$D$3:$D$299,MATCH(B84*100+6,Proyectos!$M$3:$M$299,0)),"") | C90: =IFERROR("#"&INDEX(Proyectos!$A$3:$A$299,MATCH(C84*100+6,Proyectos!$M$3:$M$299,0))&" · "&INDEX(Proyectos!$D$3:$D$299,MATCH(C84*100+6,Proyectos!$M$3:$M$299,0)),"") | D90: =IFERROR("#"&INDEX(Proyectos!$A$3:$A$299,MATCH(D84*100+6,Proyectos!$M$3:$M$299,0))&" · "&INDEX(Proyectos!$D$3:$D$299,MATCH(D84*100+6,Proyectos!$M$3:$M$299,0)),"") | E90: =IFERROR("#"&INDEX(Proyectos!$A$3:$A$299,MATCH(E84*100+6,Proyectos!$M$3:$M$299,0))&" · "&INDEX(Proyectos!$D$3:$D$299,MATCH(E84*100+6,Proyectos!$M$3:$M$299,0)),"") | F90: =IFERROR("#"&INDEX(Proyectos!$A$3:$A$299,MATCH(F84*100+6,Proyectos!$M$3:$M$299,0))&" · "&INDEX(Proyectos!$D$3:$D$299,MATCH(F84*100+6,Proyectos!$M$3:$M$299,0)),"") | G90: =IFERROR("#"&INDEX(Proyectos!$A$3:$A$299,MATCH(G84*100+6,Proyectos!$M$3:$M$299,0))&" · "&INDEX(Proyectos!$D$3:$D$299,MATCH(G84*100+6,Proyectos!$M$3:$M$299,0)),"") | I90: =IFERROR(INDEX(Proyectos!$H$3:$H$299,MATCH(A84*100+6,Proyectos!$M$3:$M$299,0)),"") | J90: =IFERROR(INDEX(Proyectos!$H$3:$H$299,MATCH(B84*100+6,Proyectos!$M$3:$M$299,0)),"") | K90: =IFERROR(INDEX(Proyectos!$H$3:$H$299,MATCH(C84*100+6,Proyectos!$M$3:$M$299,0)),"") | L90: =IFERROR(INDEX(Proyectos!$H$3:$H$299,MATCH(D84*100+6,Proyectos!$M$3:$M$299,0)),"") | M90: =IFERROR(INDEX(Proyectos!$H$3:$H$299,MATCH(E84*100+6,Proyectos!$M$3:$M$299,0)),"") | N90: =IFERROR(INDEX(Proyectos!$H$3:$H$299,MATCH(F84*100+6,Proyectos!$M$3:$M$299,0)),"") | O90: =IFERROR(INDEX(Proyectos!$H$3:$H$299,MATCH(G84*100+6,Proyectos!$M$3:$M$299,0)),"")
A91: =IFERROR("#"&INDEX(Proyectos!$A$3:$A$299,MATCH(A84*100+7,Proyectos!$M$3:$M$299,0))&" · "&INDEX(Proyectos!$D$3:$D$299,MATCH(A84*100+7,Proyectos!$M$3:$M$299,0)),"") | B91: =IFERROR("#"&INDEX(Proyectos!$A$3:$A$299,MATCH(B84*100+7,Proyectos!$M$3:$M$299,0))&" · "&INDEX(Proyectos!$D$3:$D$299,MATCH(B84*100+7,Proyectos!$M$3:$M$299,0)),"") | C91: =IFERROR("#"&INDEX(Proyectos!$A$3:$A$299,MATCH(C84*100+7,Proyectos!$M$3:$M$299,0))&" · "&INDEX(Proyectos!$D$3:$D$299,MATCH(C84*100+7,Proyectos!$M$3:$M$299,0)),"") | D91: =IFERROR("#"&INDEX(Proyectos!$A$3:$A$299,MATCH(D84*100+7,Proyectos!$M$3:$M$299,0))&" · "&INDEX(Proyectos!$D$3:$D$299,MATCH(D84*100+7,Proyectos!$M$3:$M$299,0)),"") | E91: =IFERROR("#"&INDEX(Proyectos!$A$3:$A$299,MATCH(E84*100+7,Proyectos!$M$3:$M$299,0))&" · "&INDEX(Proyectos!$D$3:$D$299,MATCH(E84*100+7,Proyectos!$M$3:$M$299,0)),"") | F91: =IFERROR("#"&INDEX(Proyectos!$A$3:$A$299,MATCH(F84*100+7,Proyectos!$M$3:$M$299,0))&" · "&INDEX(Proyectos!$D$3:$D$299,MATCH(F84*100+7,Proyectos!$M$3:$M$299,0)),"") | G91: =IFERROR("#"&INDEX(Proyectos!$A$3:$A$299,MATCH(G84*100+7,Proyectos!$M$3:$M$299,0))&" · "&INDEX(Proyectos!$D$3:$D$299,MATCH(G84*100+7,Proyectos!$M$3:$M$299,0)),"") | I91: =IFERROR(INDEX(Proyectos!$H$3:$H$299,MATCH(A84*100+7,Proyectos!$M$3:$M$299,0)),"") | J91: =IFERROR(INDEX(Proyectos!$H$3:$H$299,MATCH(B84*100+7,Proyectos!$M$3:$M$299,0)),"") | K91: =IFERROR(INDEX(Proyectos!$H$3:$H$299,MATCH(C84*100+7,Proyectos!$M$3:$M$299,0)),"") | L91: =IFERROR(INDEX(Proyectos!$H$3:$H$299,MATCH(D84*100+7,Proyectos!$M$3:$M$299,0)),"") | M91: =IFERROR(INDEX(Proyectos!$H$3:$H$299,MATCH(E84*100+7,Proyectos!$M$3:$M$299,0)),"") | N91: =IFERROR(INDEX(Proyectos!$H$3:$H$299,MATCH(F84*100+7,Proyectos!$M$3:$M$299,0)),"") | O91: =IFERROR(INDEX(Proyectos!$H$3:$H$299,MATCH(G84*100+7,Proyectos!$M$3:$M$299,0)),"")
A92: =IFERROR("#"&INDEX(Proyectos!$A$3:$A$299,MATCH(A84*100+8,Proyectos!$M$3:$M$299,0))&" · "&INDEX(Proyectos!$D$3:$D$299,MATCH(A84*100+8,Proyectos!$M$3:$M$299,0)),"") | B92: =IFERROR("#"&INDEX(Proyectos!$A$3:$A$299,MATCH(B84*100+8,Proyectos!$M$3:$M$299,0))&" · "&INDEX(Proyectos!$D$3:$D$299,MATCH(B84*100+8,Proyectos!$M$3:$M$299,0)),"") | C92: =IFERROR("#"&INDEX(Proyectos!$A$3:$A$299,MATCH(C84*100+8,Proyectos!$M$3:$M$299,0))&" · "&INDEX(Proyectos!$D$3:$D$299,MATCH(C84*100+8,Proyectos!$M$3:$M$299,0)),"") | D92: =IFERROR("#"&INDEX(Proyectos!$A$3:$A$299,MATCH(D84*100+8,Proyectos!$M$3:$M$299,0))&" · "&INDEX(Proyectos!$D$3:$D$299,MATCH(D84*100+8,Proyectos!$M$3:$M$299,0)),"") | E92: =IFERROR("#"&INDEX(Proyectos!$A$3:$A$299,MATCH(E84*100+8,Proyectos!$M$3:$M$299,0))&" · "&INDEX(Proyectos!$D$3:$D$299,MATCH(E84*100+8,Proyectos!$M$3:$M$299,0)),"") | F92: =IFERROR("#"&INDEX(Proyectos!$A$3:$A$299,MATCH(F84*100+8,Proyectos!$M$3:$M$299,0))&" · "&INDEX(Proyectos!$D$3:$D$299,MATCH(F84*100+8,Proyectos!$M$3:$M$299,0)),"") | G92: =IFERROR("#"&INDEX(Proyectos!$A$3:$A$299,MATCH(G84*100+8,Proyectos!$M$3:$M$299,0))&" · "&INDEX(Proyectos!$D$3:$D$299,MATCH(G84*100+8,Proyectos!$M$3:$M$299,0)),"") | I92: =IFERROR(INDEX(Proyectos!$H$3:$H$299,MATCH(A84*100+8,Proyectos!$M$3:$M$299,0)),"") | J92: =IFERROR(INDEX(Proyectos!$H$3:$H$299,MATCH(B84*100+8,Proyectos!$M$3:$M$299,0)),"") | K92: =IFERROR(INDEX(Proyectos!$H$3:$H$299,MATCH(C84*100+8,Proyectos!$M$3:$M$299,0)),"") | L92: =IFERROR(INDEX(Proyectos!$H$3:$H$299,MATCH(D84*100+8,Proyectos!$M$3:$M$299,0)),"") | M92: =IFERROR(INDEX(Proyectos!$H$3:$H$299,MATCH(E84*100+8,Proyectos!$M$3:$M$299,0)),"") | N92: =IFERROR(INDEX(Proyectos!$H$3:$H$299,MATCH(F84*100+8,Proyectos!$M$3:$M$299,0)),"") | O92: =IFERROR(INDEX(Proyectos!$H$3:$H$299,MATCH(G84*100+8,Proyectos!$M$3:$M$299,0)),"")
A93: 46258 | B93: 46259 | C93: 46260 | D93: 46261 | E93: 46262 | F93: 46263 | G93: 46264
A94: =IFERROR("#"&INDEX(Proyectos!$A$3:$A$299,MATCH(A93*100+1,Proyectos!$M$3:$M$299,0))&" · "&INDEX(Proyectos!$D$3:$D$299,MATCH(A93*100+1,Proyectos!$M$3:$M$299,0)),"") | B94: =IFERROR("#"&INDEX(Proyectos!$A$3:$A$299,MATCH(B93*100+1,Proyectos!$M$3:$M$299,0))&" · "&INDEX(Proyectos!$D$3:$D$299,MATCH(B93*100+1,Proyectos!$M$3:$M$299,0)),"") | C94: =IFERROR("#"&INDEX(Proyectos!$A$3:$A$299,MATCH(C93*100+1,Proyectos!$M$3:$M$299,0))&" · "&INDEX(Proyectos!$D$3:$D$299,MATCH(C93*100+1,Proyectos!$M$3:$M$299,0)),"") | D94: =IFERROR("#"&INDEX(Proyectos!$A$3:$A$299,MATCH(D93*100+1,Proyectos!$M$3:$M$299,0))&" · "&INDEX(Proyectos!$D$3:$D$299,MATCH(D93*100+1,Proyectos!$M$3:$M$299,0)),"") | E94: =IFERROR("#"&INDEX(Proyectos!$A$3:$A$299,MATCH(E93*100+1,Proyectos!$M$3:$M$299,0))&" · "&INDEX(Proyectos!$D$3:$D$299,MATCH(E93*100+1,Proyectos!$M$3:$M$299,0)),"") | F94: =IFERROR("#"&INDEX(Proyectos!$A$3:$A$299,MATCH(F93*100+1,Proyectos!$M$3:$M$299,0))&" · "&INDEX(Proyectos!$D$3:$D$299,MATCH(F93*100+1,Proyectos!$M$3:$M$299,0)),"") | G94: =IFERROR("#"&INDEX(Proyectos!$A$3:$A$299,MATCH(G93*100+1,Proyectos!$M$3:$M$299,0))&" · "&INDEX(Proyectos!$D$3:$D$299,MATCH(G93*100+1,Proyectos!$M$3:$M$299,0)),"") | I94: =IFERROR(INDEX(Proyectos!$H$3:$H$299,MATCH(A93*100+1,Proyectos!$M$3:$M$299,0)),"") | J94: =IFERROR(INDEX(Proyectos!$H$3:$H$299,MATCH(B93*100+1,Proyectos!$M$3:$M$299,0)),"") | K94: =IFERROR(INDEX(Proyectos!$H$3:$H$299,MATCH(C93*100+1,Proyectos!$M$3:$M$299,0)),"") | L94: =IFERROR(INDEX(Proyectos!$H$3:$H$299,MATCH(D93*100+1,Proyectos!$M$3:$M$299,0)),"") | M94: =IFERROR(INDEX(Proyectos!$H$3:$H$299,MATCH(E93*100+1,Proyectos!$M$3:$M$299,0)),"") | N94: =IFERROR(INDEX(Proyectos!$H$3:$H$299,MATCH(F93*100+1,Proyectos!$M$3:$M$299,0)),"") | O94: =IFERROR(INDEX(Proyectos!$H$3:$H$299,MATCH(G93*100+1,Proyectos!$M$3:$M$299,0)),"")
A95: =IFERROR("#"&INDEX(Proyectos!$A$3:$A$299,MATCH(A93*100+2,Proyectos!$M$3:$M$299,0))&" · "&INDEX(Proyectos!$D$3:$D$299,MATCH(A93*100+2,Proyectos!$M$3:$M$299,0)),"") | B95: =IFERROR("#"&INDEX(Proyectos!$A$3:$A$299,MATCH(B93*100+2,Proyectos!$M$3:$M$299,0))&" · "&INDEX(Proyectos!$D$3:$D$299,MATCH(B93*100+2,Proyectos!$M$3:$M$299,0)),"") | C95: =IFERROR("#"&INDEX(Proyectos!$A$3:$A$299,MATCH(C93*100+2,Proyectos!$M$3:$M$299,0))&" · "&INDEX(Proyectos!$D$3:$D$299,MATCH(C93*100+2,Proyectos!$M$3:$M$299,0)),"") | D95: =IFERROR("#"&INDEX(Proyectos!$A$3:$A$299,MATCH(D93*100+2,Proyectos!$M$3:$M$299,0))&" · "&INDEX(Proyectos!$D$3:$D$299,MATCH(D93*100+2,Proyectos!$M$3:$M$299,0)),"") | E95: =IFERROR("#"&INDEX(Proyectos!$A$3:$A$299,MATCH(E93*100+2,Proyectos!$M$3:$M$299,0))&" · "&INDEX(Proyectos!$D$3:$D$299,MATCH(E93*100+2,Proyectos!$M$3:$M$299,0)),"") | F95: =IFERROR("#"&INDEX(Proyectos!$A$3:$A$299,MATCH(F93*100+2,Proyectos!$M$3:$M$299,0))&" · "&INDEX(Proyectos!$D$3:$D$299,MATCH(F93*100+2,Proyectos!$M$3:$M$299,0)),"") | G95: =IFERROR("#"&INDEX(Proyectos!$A$3:$A$299,MATCH(G93*100+2,Proyectos!$M$3:$M$299,0))&" · "&INDEX(Proyectos!$D$3:$D$299,MATCH(G93*100+2,Proyectos!$M$3:$M$299,0)),"") | I95: =IFERROR(INDEX(Proyectos!$H$3:$H$299,MATCH(A93*100+2,Proyectos!$M$3:$M$299,0)),"") | J95: =IFERROR(INDEX(Proyectos!$H$3:$H$299,MATCH(B93*100+2,Proyectos!$M$3:$M$299,0)),"") | K95: =IFERROR(INDEX(Proyectos!$H$3:$H$299,MATCH(C93*100+2,Proyectos!$M$3:$M$299,0)),"") | L95: =IFERROR(INDEX(Proyectos!$H$3:$H$299,MATCH(D93*100+2,Proyectos!$M$3:$M$299,0)),"") | M95: =IFERROR(INDEX(Proyectos!$H$3:$H$299,MATCH(E93*100+2,Proyectos!$M$3:$M$299,0)),"") | N95: =IFERROR(INDEX(Proyectos!$H$3:$H$299,MATCH(F93*100+2,Proyectos!$M$3:$M$299,0)),"") | O95: =IFERROR(INDEX(Proyectos!$H$3:$H$299,MATCH(G93*100+2,Proyectos!$M$3:$M$299,0)),"")
A96: =IFERROR("#"&INDEX(Proyectos!$A$3:$A$299,MATCH(A93*100+3,Proyectos!$M$3:$M$299,0))&" · "&INDEX(Proyectos!$D$3:$D$299,MATCH(A93*100+3,Proyectos!$M$3:$M$299,0)),"") | B96: =IFERROR("#"&INDEX(Proyectos!$A$3:$A$299,MATCH(B93*100+3,Proyectos!$M$3:$M$299,0))&" · "&INDEX(Proyectos!$D$3:$D$299,MATCH(B93*100+3,Proyectos!$M$3:$M$299,0)),"") | C96: =IFERROR("#"&INDEX(Proyectos!$A$3:$A$299,MATCH(C93*100+3,Proyectos!$M$3:$M$299,0))&" · "&INDEX(Proyectos!$D$3:$D$299,MATCH(C93*100+3,Proyectos!$M$3:$M$299,0)),"") | D96: =IFERROR("#"&INDEX(Proyectos!$A$3:$A$299,MATCH(D93*100+3,Proyectos!$M$3:$M$299,0))&" · "&INDEX(Proyectos!$D$3:$D$299,MATCH(D93*100+3,Proyectos!$M$3:$M$299,0)),"") | E96: =IFERROR("#"&INDEX(Proyectos!$A$3:$A$299,MATCH(E93*100+3,Proyectos!$M$3:$M$299,0))&" · "&INDEX(Proyectos!$D$3:$D$299,MATCH(E93*100+3,Proyectos!$M$3:$M$299,0)),"") | F96: =IFERROR("#"&INDEX(Proyectos!$A$3:$A$299,MATCH(F93*100+3,Proyectos!$M$3:$M$299,0))&" · "&INDEX(Proyectos!$D$3:$D$299,MATCH(F93*100+3,Proyectos!$M$3:$M$299,0)),"") | G96: =IFERROR("#"&INDEX(Proyectos!$A$3:$A$299,MATCH(G93*100+3,Proyectos!$M$3:$M$299,0))&" · "&INDEX(Proyectos!$D$3:$D$299,MATCH(G93*100+3,Proyectos!$M$3:$M$299,0)),"") | I96: =IFERROR(INDEX(Proyectos!$H$3:$H$299,MATCH(A93*100+3,Proyectos!$M$3:$M$299,0)),"") | J96: =IFERROR(INDEX(Proyectos!$H$3:$H$299,MATCH(B93*100+3,Proyectos!$M$3:$M$299,0)),"") | K96: =IFERROR(INDEX(Proyectos!$H$3:$H$299,MATCH(C93*100+3,Proyectos!$M$3:$M$299,0)),"") | L96: =IFERROR(INDEX(Proyectos!$H$3:$H$299,MATCH(D93*100+3,Proyectos!$M$3:$M$299,0)),"") | M96: =IFERROR(INDEX(Proyectos!$H$3:$H$299,MATCH(E93*100+3,Proyectos!$M$3:$M$299,0)),"") | N96: =IFERROR(INDEX(Proyectos!$H$3:$H$299,MATCH(F93*100+3,Proyectos!$M$3:$M$299,0)),"") | O96: =IFERROR(INDEX(Proyectos!$H$3:$H$299,MATCH(G93*100+3,Proyectos!$M$3:$M$299,0)),"")
A97: =IFERROR("#"&INDEX(Proyectos!$A$3:$A$299,MATCH(A93*100+4,Proyectos!$M$3:$M$299,0))&" · "&INDEX(Proyectos!$D$3:$D$299,MATCH(A93*100+4,Proyectos!$M$3:$M$299,0)),"") | B97: =IFERROR("#"&INDEX(Proyectos!$A$3:$A$299,MATCH(B93*100+4,Proyectos!$M$3:$M$299,0))&" · "&INDEX(Proyectos!$D$3:$D$299,MATCH(B93*100+4,Proyectos!$M$3:$M$299,0)),"") | C97: =IFERROR("#"&INDEX(Proyectos!$A$3:$A$299,MATCH(C93*100+4,Proyectos!$M$3:$M$299,0))&" · "&INDEX(Proyectos!$D$3:$D$299,MATCH(C93*100+4,Proyectos!$M$3:$M$299,0)),"") | D97: =IFERROR("#"&INDEX(Proyectos!$A$3:$A$299,MATCH(D93*100+4,Proyectos!$M$3:$M$299,0))&" · "&INDEX(Proyectos!$D$3:$D$299,MATCH(D93*100+4,Proyectos!$M$3:$M$299,0)),"") | E97: =IFERROR("#"&INDEX(Proyectos!$A$3:$A$299,MATCH(E93*100+4,Proyectos!$M$3:$M$299,0))&" · "&INDEX(Proyectos!$D$3:$D$299,MATCH(E93*100+4,Proyectos!$M$3:$M$299,0)),"") | F97: =IFERROR("#"&INDEX(Proyectos!$A$3:$A$299,MATCH(F93*100+4,Proyectos!$M$3:$M$299,0))&" · "&INDEX(Proyectos!$D$3:$D$299,MATCH(F93*100+4,Proyectos!$M$3:$M$299,0)),"") | G97: =IFERROR("#"&INDEX(Proyectos!$A$3:$A$299,MATCH(G93*100+4,Proyectos!$M$3:$M$299,0))&" · "&INDEX(Proyectos!$D$3:$D$299,MATCH(G93*100+4,Proyectos!$M$3:$M$299,0)),"") | I97: =IFERROR(INDEX(Proyectos!$H$3:$H$299,MATCH(A93*100+4,Proyectos!$M$3:$M$299,0)),"") | J97: =IFERROR(INDEX(Proyectos!$H$3:$H$299,MATCH(B93*100+4,Proyectos!$M$3:$M$299,0)),"") | K97: =IFERROR(INDEX(Proyectos!$H$3:$H$299,MATCH(C93*100+4,Proyectos!$M$3:$M$299,0)),"") | L97: =IFERROR(INDEX(Proyectos!$H$3:$H$299,MATCH(D93*100+4,Proyectos!$M$3:$M$299,0)),"") | M97: =IFERROR(INDEX(Proyectos!$H$3:$H$299,MATCH(E93*100+4,Proyectos!$M$3:$M$299,0)),"") | N97: =IFERROR(INDEX(Proyectos!$H$3:$H$299,MATCH(F93*100+4,Proyectos!$M$3:$M$299,0)),"") | O97: =IFERROR(INDEX(Proyectos!$H$3:$H$299,MATCH(G93*100+4,Proyectos!$M$3:$M$299,0)),"")
A98: =IFERROR("#"&INDEX(Proyectos!$A$3:$A$299,MATCH(A93*100+5,Proyectos!$M$3:$M$299,0))&" · "&INDEX(Proyectos!$D$3:$D$299,MATCH(A93*100+5,Proyectos!$M$3:$M$299,0)),"") | B98: =IFERROR("#"&INDEX(Proyectos!$A$3:$A$299,MATCH(B93*100+5,Proyectos!$M$3:$M$299,0))&" · "&INDEX(Proyectos!$D$3:$D$299,MATCH(B93*100+5,Proyectos!$M$3:$M$299,0)),"") | C98: =IFERROR("#"&INDEX(Proyectos!$A$3:$A$299,MATCH(C93*100+5,Proyectos!$M$3:$M$299,0))&" · "&INDEX(Proyectos!$D$3:$D$299,MATCH(C93*100+5,Proyectos!$M$3:$M$299,0)),"") | D98: =IFERROR("#"&INDEX(Proyectos!$A$3:$A$299,MATCH(D93*100+5,Proyectos!$M$3:$M$299,0))&" · "&INDEX(Proyectos!$D$3:$D$299,MATCH(D93*100+5,Proyectos!$M$3:$M$299,0)),"") | E98: =IFERROR("#"&INDEX(Proyectos!$A$3:$A$299,MATCH(E93*100+5,Proyectos!$M$3:$M$299,0))&" · "&INDEX(Proyectos!$D$3:$D$299,MATCH(E93*100+5,Proyectos!$M$3:$M$299,0)),"") | F98: =IFERROR("#"&INDEX(Proyectos!$A$3:$A$299,MATCH(F93*100+5,Proyectos!$M$3:$M$299,0))&" · "&INDEX(Proyectos!$D$3:$D$299,MATCH(F93*100+5,Proyectos!$M$3:$M$299,0)),"") | G98: =IFERROR("#"&INDEX(Proyectos!$A$3:$A$299,MATCH(G93*100+5,Proyectos!$M$3:$M$299,0))&" · "&INDEX(Proyectos!$D$3:$D$299,MATCH(G93*100+5,Proyectos!$M$3:$M$299,0)),"") | I98: =IFERROR(INDEX(Proyectos!$H$3:$H$299,MATCH(A93*100+5,Proyectos!$M$3:$M$299,0)),"") | J98: =IFERROR(INDEX(Proyectos!$H$3:$H$299,MATCH(B93*100+5,Proyectos!$M$3:$M$299,0)),"") | K98: =IFERROR(INDEX(Proyectos!$H$3:$H$299,MATCH(C93*100+5,Proyectos!$M$3:$M$299,0)),"") | L98: =IFERROR(INDEX(Proyectos!$H$3:$H$299,MATCH(D93*100+5,Proyectos!$M$3:$M$299,0)),"") | M98: =IFERROR(INDEX(Proyectos!$H$3:$H$299,MATCH(E93*100+5,Proyectos!$M$3:$M$299,0)),"") | N98: =IFERROR(INDEX(Proyectos!$H$3:$H$299,MATCH(F93*100+5,Proyectos!$M$3:$M$299,0)),"") | O98: =IFERROR(INDEX(Proyectos!$H$3:$H$299,MATCH(G93*100+5,Proyectos!$M$3:$M$299,0)),"")
A99: =IFERROR("#"&INDEX(Proyectos!$A$3:$A$299,MATCH(A93*100+6,Proyectos!$M$3:$M$299,0))&" · "&INDEX(Proyectos!$D$3:$D$299,MATCH(A93*100+6,Proyectos!$M$3:$M$299,0)),"") | B99: =IFERROR("#"&INDEX(Proyectos!$A$3:$A$299,MATCH(B93*100+6,Proyectos!$M$3:$M$299,0))&" · "&INDEX(Proyectos!$D$3:$D$299,MATCH(B93*100+6,Proyectos!$M$3:$M$299,0)),"") | C99: =IFERROR("#"&INDEX(Proyectos!$A$3:$A$299,MATCH(C93*100+6,Proyectos!$M$3:$M$299,0))&" · "&INDEX(Proyectos!$D$3:$D$299,MATCH(C93*100+6,Proyectos!$M$3:$M$299,0)),"") | D99: =IFERROR("#"&INDEX(Proyectos!$A$3:$A$299,MATCH(D93*100+6,Proyectos!$M$3:$M$299,0))&" · "&INDEX(Proyectos!$D$3:$D$299,MATCH(D93*100+6,Proyectos!$M$3:$M$299,0)),"") | E99: =IFERROR("#"&INDEX(Proyectos!$A$3:$A$299,MATCH(E93*100+6,Proyectos!$M$3:$M$299,0))&" · "&INDEX(Proyectos!$D$3:$D$299,MATCH(E93*100+6,Proyectos!$M$3:$M$299,0)),"") | F99: =IFERROR("#"&INDEX(Proyectos!$A$3:$A$299,MATCH(F93*100+6,Proyectos!$M$3:$M$299,0))&" · "&INDEX(Proyectos!$D$3:$D$299,MATCH(F93*100+6,Proyectos!$M$3:$M$299,0)),"") | G99: =IFERROR("#"&INDEX(Proyectos!$A$3:$A$299,MATCH(G93*100+6,Proyectos!$M$3:$M$299,0))&" · "&INDEX(Proyectos!$D$3:$D$299,MATCH(G93*100+6,Proyectos!$M$3:$M$299,0)),"") | I99: =IFERROR(INDEX(Proyectos!$H$3:$H$299,MATCH(A93*100+6,Proyectos!$M$3:$M$299,0)),"") | J99: =IFERROR(INDEX(Proyectos!$H$3:$H$299,MATCH(B93*100+6,Proyectos!$M$3:$M$299,0)),"") | K99: =IFERROR(INDEX(Proyectos!$H$3:$H$299,MATCH(C93*100+6,Proyectos!$M$3:$M$299,0)),"") | L99: =IFERROR(INDEX(Proyectos!$H$3:$H$299,MATCH(D93*100+6,Proyectos!$M$3:$M$299,0)),"") | M99: =IFERROR(INDEX(Proyectos!$H$3:$H$299,MATCH(E93*100+6,Proyectos!$M$3:$M$299,0)),"") | N99: =IFERROR(INDEX(Proyectos!$H$3:$H$299,MATCH(F93*100+6,Proyectos!$M$3:$M$299,0)),"") | O99: =IFERROR(INDEX(Proyectos!$H$3:$H$299,MATCH(G93*100+6,Proyectos!$M$3:$M$299,0)),"")
A100: =IFERROR("#"&INDEX(Proyectos!$A$3:$A$299,MATCH(A93*100+7,Proyectos!$M$3:$M$299,0))&" · "&INDEX(Proyectos!$D$3:$D$299,MATCH(A93*100+7,Proyectos!$M$3:$M$299,0)),"") | B100: =IFERROR("#"&INDEX(Proyectos!$A$3:$A$299,MATCH(B93*100+7,Proyectos!$M$3:$M$299,0))&" · "&INDEX(Proyectos!$D$3:$D$299,MATCH(B93*100+7,Proyectos!$M$3:$M$299,0)),"") | C100: =IFERROR("#"&INDEX(Proyectos!$A$3:$A$299,MATCH(C93*100+7,Proyectos!$M$3:$M$299,0))&" · "&INDEX(Proyectos!$D$3:$D$299,MATCH(C93*100+7,Proyectos!$M$3:$M$299,0)),"") | D100: =IFERROR("#"&INDEX(Proyectos!$A$3:$A$299,MATCH(D93*100+7,Proyectos!$M$3:$M$299,0))&" · "&INDEX(Proyectos!$D$3:$D$299,MATCH(D93*100+7,Proyectos!$M$3:$M$299,0)),"") | E100: =IFERROR("#"&INDEX(Proyectos!$A$3:$A$299,MATCH(E93*100+7,Proyectos!$M$3:$M$299,0))&" · "&INDEX(Proyectos!$D$3:$D$299,MATCH(E93*100+7,Proyectos!$M$3:$M$299,0)),"") | F100: =IFERROR("#"&INDEX(Proyectos!$A$3:$A$299,MATCH(F93*100+7,Proyectos!$M$3:$M$299,0))&" · "&INDEX(Proyectos!$D$3:$D$299,MATCH(F93*100+7,Proyectos!$M$3:$M$299,0)),"") | G100: =IFERROR("#"&INDEX(Proyectos!$A$3:$A$299,MATCH(G93*100+7,Proyectos!$M$3:$M$299,0))&" · "&INDEX(Proyectos!$D$3:$D$299,MATCH(G93*100+7,Proyectos!$M$3:$M$299,0)),"") | I100: =IFERROR(INDEX(Proyectos!$H$3:$H$299,MATCH(A93*100+7,Proyectos!$M$3:$M$299,0)),"") | J100: =IFERROR(INDEX(Proyectos!$H$3:$H$299,MATCH(B93*100+7,Proyectos!$M$3:$M$299,0)),"") | K100: =IFERROR(INDEX(Proyectos!$H$3:$H$299,MATCH(C93*100+7,Proyectos!$M$3:$M$299,0)),"") | L100: =IFERROR(INDEX(Proyectos!$H$3:$H$299,MATCH(D93*100+7,Proyectos!$M$3:$M$299,0)),"") | M100: =IFERROR(INDEX(Proyectos!$H$3:$H$299,MATCH(E93*100+7,Proyectos!$M$3:$M$299,0)),"") | N100: =IFERROR(INDEX(Proyectos!$H$3:$H$299,MATCH(F93*100+7,Proyectos!$M$3:$M$299,0)),"") | O100: =IFERROR(INDEX(Proyectos!$H$3:$H$299,MATCH(G93*100+7,Proyectos!$M$3:$M$299,0)),"")
A101: =IFERROR("#"&INDEX(Proyectos!$A$3:$A$299,MATCH(A93*100+8,Proyectos!$M$3:$M$299,0))&" · "&INDEX(Proyectos!$D$3:$D$299,MATCH(A93*100+8,Proyectos!$M$3:$M$299,0)),"") | B101: =IFERROR("#"&INDEX(Proyectos!$A$3:$A$299,MATCH(B93*100+8,Proyectos!$M$3:$M$299,0))&" · "&INDEX(Proyectos!$D$3:$D$299,MATCH(B93*100+8,Proyectos!$M$3:$M$299,0)),"") | C101: =IFERROR("#"&INDEX(Proyectos!$A$3:$A$299,MATCH(C93*100+8,Proyectos!$M$3:$M$299,0))&" · "&INDEX(Proyectos!$D$3:$D$299,MATCH(C93*100+8,Proyectos!$M$3:$M$299,0)),"") | D101: =IFERROR("#"&INDEX(Proyectos!$A$3:$A$299,MATCH(D93*100+8,Proyectos!$M$3:$M$299,0))&" · "&INDEX(Proyectos!$D$3:$D$299,MATCH(D93*100+8,Proyectos!$M$3:$M$299,0)),"") | E101: =IFERROR("#"&INDEX(Proyectos!$A$3:$A$299,MATCH(E93*100+8,Proyectos!$M$3:$M$299,0))&" · "&INDEX(Proyectos!$D$3:$D$299,MATCH(E93*100+8,Proyectos!$M$3:$M$299,0)),"") | F101: =IFERROR("#"&INDEX(Proyectos!$A$3:$A$299,MATCH(F93*100+8,Proyectos!$M$3:$M$299,0))&" · "&INDEX(Proyectos!$D$3:$D$299,MATCH(F93*100+8,Proyectos!$M$3:$M$299,0)),"") | G101: =IFERROR("#"&INDEX(Proyectos!$A$3:$A$299,MATCH(G93*100+8,Proyectos!$M$3:$M$299,0))&" · "&INDEX(Proyectos!$D$3:$D$299,MATCH(G93*100+8,Proyectos!$M$3:$M$299,0)),"") | I101: =IFERROR(INDEX(Proyectos!$H$3:$H$299,MATCH(A93*100+8,Proyectos!$M$3:$M$299,0)),"") | J101: =IFERROR(INDEX(Proyectos!$H$3:$H$299,MATCH(B93*100+8,Proyectos!$M$3:$M$299,0)),"") | K101: =IFERROR(INDEX(Proyectos!$H$3:$H$299,MATCH(C93*100+8,Proyectos!$M$3:$M$299,0)),"") | L101: =IFERROR(INDEX(Proyectos!$H$3:$H$299,MATCH(D93*100+8,Proyectos!$M$3:$M$299,0)),"") | M101: =IFERROR(INDEX(Proyectos!$H$3:$H$299,MATCH(E93*100+8,Proyectos!$M$3:$M$299,0)),"") | N101: =IFERROR(INDEX(Proyectos!$H$3:$H$299,MATCH(F93*100+8,Proyectos!$M$3:$M$299,0)),"") | O101: =IFERROR(INDEX(Proyectos!$H$3:$H$299,MATCH(G93*100+8,Proyectos!$M$3:$M$299,0)),"")
A102: 46265
A103: =IFERROR("#"&INDEX(Proyectos!$A$3:$A$299,MATCH(A102*100+1,Proyectos!$M$3:$M$299,0))&" · "&INDEX(Proyectos!$D$3:$D$299,MATCH(A102*100+1,Proyectos!$M$3:$M$299,0)),"") | I103: =IFERROR(INDEX(Proyectos!$H$3:$H$299,MATCH(A102*100+1,Proyectos!$M$3:$M$299,0)),"")
...

Sheet Resumen
A1: RESUMEN ECONÓMICO
A2: Totales calculados automáticamente a partir de la hoja 'Proyectos'.
A4: Estado | B4: Nº proyectos | C4: Importe máximo de licitación (€) | D4: Importe ofertado (€)
A5: En elaboración | B5: =COUNTIF(Proyectos!$H$3:$H$299,$A5) -> 1 | C5: =SUMIF(Proyectos!$H$3:$H$299,$A5,Proyectos!$F$3:$F$299) -> 3301529 | D5: =SUMIF(Proyectos!$H$3:$H$299,$A5,Proyectos!$G$3:$G$299) -> 0
A6: Presentado | B6: =COUNTIF(Proyectos!$H$3:$H$299,$A6) -> 6 | C6: =SUMIF(Proyectos!$H$3:$H$299,$A6,Proyectos!$F$3:$F$299) -> 2822587.8 | D6: =SUMIF(Proyectos!$H$3:$H$299,$A6,Proyectos!$G$3:$G$299) -> 2484868.7
A7: Pendiente | B7: =COUNTIF(Proyectos!$H$3:$H$299,$A7) -> 5 | C7: =SUMIF(Proyectos!$H$3:$H$299,$A7,Proyectos!$F$3:$F$299) -> 2047016.6 | D7: =SUMIF(Proyectos!$H$3:$H$299,$A7,Proyectos!$G$3:$G$299) -> 0
A8: Ganada | B8: =COUNTIF(Proyectos!$H$3:$H$299,$A8) -> 2 | C8: =SUMIF(Proyectos!$H$3:$H$299,$A8,Proyectos!$F$3:$F$299) -> 12458216 | D8: =SUMIF(Proyectos!$H$3:$H$299,$A8,Proyectos!$G$3:$G$299) -> 10292131
A9: Perdida | B9: =COUNTIF(Proyectos!$H$3:$H$299,$A9) -> 1 | C9: =SUMIF(Proyectos!$H$3:$H$299,$A9,Proyectos!$F$3:$F$299) -> 13500 | D9: =SUMIF(Proyectos!$H$3:$H$299,$A9,Proyectos!$G$3:$G$299) -> 9760
A10: Desestimado | B10: =COUNTIF(Proyectos!$H$3:$H$299,$A10) -> 61 | C10: =SUMIF(Proyectos!$H$3:$H$299,$A10,Proyectos!$F$3:$F$299) -> 93493290 | D10: =SUMIF(Proyectos!$H$3:$H$299,$A10,Proyectos!$G$3:$G$299) -> 0
A11: TOTAL | B11: =SUM(B5:B10) -> 76 | C11: =SUM(C5:C10) -> 1.1413614e+08 | D11: =SUM(D5:D10) -> 12786760
A14: INDICADORES
A15: % éxito (ganadas / resueltas: ganadas+perdidas) | C15: =IFERROR(B8/(B8+B9),0) -> 0.66666667
A16: Ratio importe ofertado / máx. licitación (ofertas ganadas) | C16: =IFERROR(D8/C8,0) -> 0.82613207
A17: Importe ofertado en cartera (En elaboración + Presentado + Pendiente) | C17: =D5+D6+D7 -> 2484868.7
