Workbook

Sheet Proyectos
A1: SEGUIMIENTO DE PROYECTOS CLUSTER DEFENSA v1.4 | J1: Tras marcar un proyecto como Desestimado: Ctrl+Alt+L (Datos > Volver a aplicar)
A2: Nº | B2: Tipo | C2: Proyecto | D2: Cliente | E2: Fecha Max. | F2: Importe máximo de licitación (€) | G2: Importe ofertado (€) | H2: Estado | I2: Info adicional | J2: SGCOL | K2: FechaDia | L2: Slot | M2: Clave | N2: DesestNº
A3: 64 | B3: Abierto | C3: EXP MNTB26-089 - Lote 2 “Monitores | D3: THYSSEN | E3: 46230.417 | F3: 10000 | G3: 4350 | H3: Ganada | I3: URL Contratación | J3: 26002794 | K3: =IF($E3="","",INT($E3)) -> 46230 | L3: =IF($K3="","",COUNTIF($K$3:$K3,$K3)) -> 1 | M3: =IF($K3="","",$K3*100+$L3) -> 4623001 | N3: =IF($H3="Desestimado",COUNTIF($H$3:$H3,"Desestimado"),"")
A4: 65 | B4: Menor | C4: EXP EXP 2026/00511 | TRIBUNAL CONSTITUCIONAL | COMUN INALAMBRICAS | 07/08/2026 | D4: T. CONSTITUCIONAL | E4: 46241.999 | F4: 13500 | G4: 9760 | H4: Perdida | I4: Perdido… por 127€ se lo lleva ACUNTIA | J4: 26003349 | K4: =IF($E4="","",INT($E4)) -> 46241 | L4: =IF($K4="","",COUNTIF($K$3:$K4,$K4)) -> 1 | M4: =IF($K4="","",$K4*100+$L4) -> 4624101 | N4: =IF($H4="Desestimado",COUNTIF($H$3:$H4,"Desestimado"),"")
A5: 0 | B5: SDA24/22 | C5: EXP 2026/ETSAE0904/00000537E | JCISAT | Adq equipos comunicaciones | D5: JCISAT | E5: 46269.521 | F5: 471.074,37 € | H5: Desestimado | K5: =IF($E5="","",INT($E5)) -> 46269 | L5: =IF($K5="","",COUNTIF($K$3:$K5,$K5)) -> 1 | M5: =IF($K5="","",$K5*100+$L5) -> 4626901 | N5: =IF($H5="Desestimado",COUNTIF($H$3:$H5,"Desestimado"),"") -> 1
A6: 1 | B6: SDA25/22 | C6: EXP 202600000163 | MINECO | Sum. Lic. Software | | D6: MINECO | E6: 46269.999 | F6: 337724.05 | G6: 337343.45 | H6: Presentado | J6: 26003814 | K6: =IF($E6="","",INT($E6)) -> 46269 | L6: =IF($K6="","",COUNTIF($K$3:$K6,$K6)) -> 2 | M6: =IF($K6="","",$K6*100+$L6) -> 4626902 | N6: =IF($H6="Desestimado",COUNTIF($H$3:$H6,"Desestimado"),"")
A7: 2 | B7: SDA24/22 | C7: EXP 2026/SP02002001/00001401E | MDE | Sum equip y licencias CIFAS | D7: CIFAS | E7: 46272.542 | F7: 1190082.6 | H7: Desestimado | K7: =IF($E7="","",INT($E7)) -> 46272 | L7: =IF($K7="","",COUNTIF($K$3:$K7,$K7)) -> 1 | M7: =IF($K7="","",$K7*100+$L7) -> 4627201 | N7: =IF($H7="Desestimado",COUNTIF($H$3:$H7,"Desestimado"),"") -> 2
A8: 3 | B8: SDA24/22 | C8: EXP 2026/SP03032007/00000458E | SG TIC | Sum Disp Opticos y Prot de Tráfico | D8: CESTIC | E8: 46272.999 | F8: 193642.62 | H8: Desestimado | K8: =IF($E8="","",INT($E8)) -> 46272 | L8: =IF($K8="","",COUNTIF($K$3:$K8,$K8)) -> 2 | M8: =IF($K8="","",$K8*100+$L8) -> 4627202 | N8: =IF($H8="Desestimado",COUNTIF($H$3:$H8,"Desestimado"),"") -> 3
A9: 4 | B9: SDA24/22 | C9: EXP 2026/SP03032007/00000460E | SG TIC | Renovación anillo fibra MDE | D9: CESTIC-DINFRATEL | E9: 46272.999 | F9: 76.046,10 € | H9: Desestimado | K9: =IF($E9="","",INT($E9)) -> 46272 | L9: =IF($K9="","",COUNTIF($K$3:$K9,$K9)) -> 3 | M9: =IF($K9="","",$K9*100+$L9) -> 4627203 | N9: =IF($H9="Desestimado",COUNTIF($H$3:$H9,"Desestimado"),"") -> 4
A10: 5 | B10: SDA25/22 | C10: EXP 2026/SP03032007/00000483E | SDGCONTIC - MINDEF | SW Sist. Videoconferencia | D10: CESTIC-SDGCONTIC | E10: 46272.999 | F10: 93211 | G10: 93000 | H10: Presentado | J10: 26003749 | K10: =IF($E10="","",INT($E10)) -> 46272 | L10: =IF($K10="","",COUNTIF($K$3:$K10,$K10)) -> 4 | M10: =IF($K10="","",$K10*100+$L10) -> 4627204 | N10: =IF($H10="Desestimado",COUNTIF($H$3:$H10,"Desestimado"),"")
A11: 6 | B11: SDA24/22 | C11: EXP 2026/SP03032007/00000451E | MDE | Ampliación cabina almacenamiento | D11: CESTIC | E11: 46272.999 | F11: 360000 | H11: Desestimado | K11: =IF($E11="","",INT($E11)) -> 46272 | L11: =IF($K11="","",COUNTIF($K$3:$K11,$K11)) -> 5 | M11: =IF($K11="","",$K11*100+$L11) -> 4627205 | N11: =IF($H11="Desestimado",COUNTIF($H$3:$H11,"Desestimado"),"") -> 5
A12: 7 | B12: SDA24/22 | C12: EXP 2026/SP02002001/00001395E | MDE | Sum equip almacenamiento y transmisión video | D12: CIFAS | E12: 46274.542 | F12: 5286313.2 | H12: Desestimado | K12: =IF($E12="","",INT($E12)) -> 46274 | L12: =IF($K12="","",COUNTIF($K$3:$K12,$K12)) -> 1 | M12: =IF($K12="","",$K12*100+$L12) -> 4627401 | N12: =IF($H12="Desestimado",COUNTIF($H$3:$H12,"Desestimado"),"") -> 6
A13: 8 | B13: SDA24/22 | C13: EXP 2026/SP02002001/00001477E | EMAD | Electrónica de Red | D13: EMAD - MCCE | E13: 46275.542 | F13: 1735319.1 | H13: Desestimado | K13: =IF($E13="","",INT($E13)) -> 46275 | L13: =IF($K13="","",COUNTIF($K$3:$K13,$K13)) -> 1 | M13: =IF($K13="","",$K13*100+$L13) -> 4627501 | N13: =IF($H13="Desestimado",COUNTIF($H$3:$H13,"Desestimado"),"") -> 7
A14: 9 | B14: SDA24/22 | C14: EXP 2026/SP02002001/00001518E | EMAD | Electrónica de Red | D14: EMAD - MCCE | E14: 46275.542 | F14: 1237823.1 | H14: Desestimado | K14: =IF($E14="","",INT($E14)) -> 46275 | L14: =IF($K14="","",COUNTIF($K$3:$K14,$K14)) -> 2 | M14: =IF($K14="","",$K14*100+$L14) -> 4627502 | N14: =IF($H14="Desestimado",COUNTIF($H$3:$H14,"Desestimado"),"") -> 8
A15: 10 | B15: SDA25/22 | C15: EXP 2026/SP02002001/00001530E | EMAD - MINDEF | SW Productividad y colaboración | D15: EMAD | E15: 46275.542 | F15: 164565.79 | H15: Desestimado | K15: =IF($E15="","",INT($E15)) -> 46275 | L15: =IF($K15="","",COUNTIF($K$3:$K15,$K15)) -> 3 | M15: =IF($K15="","",$K15*100+$L15) -> 4627503 | N15: =IF($H15="Desestimado",COUNTIF($H$3:$H15,"Desestimado"),"") -> 9
A16: 11 | B16: SDA24/22 | C16: EXP 2607926F | DGTDAJ | Equipamiento Videoconferencia | D16: JUSTICIA | E16: 46275.999 | F16: 294637.5 | H16: Desestimado | K16: =IF($E16="","",INT($E16)) -> 46275 | L16: =IF($K16="","",COUNTIF($K$3:$K16,$K16)) -> 4 | M16: =IF($K16="","",$K16*100+$L16) -> 4627504 | N16: =IF($H16="Desestimado",COUNTIF($H$3:$H16,"Desestimado"),"") -> 10
A17: 12 | B17: SDA25/22 | C17: EXP 2607728B, 2607728G | DGTDAJ | Solución Videoconferencia | D17: JUSTICIA | E17: 46275.999 | F17: 2005603.9 | H17: Desestimado | K17: =IF($E17="","",INT($E17)) -> 46275 | L17: =IF($K17="","",COUNTIF($K$3:$K17,$K17)) -> 5 | M17: =IF($K17="","",$K17*100+$L17) -> 4627505 | N17: =IF($H17="Desestimado",COUNTIF($H$3:$H17,"Desestimado"),"") -> 11
A18: 13 | B18: SDA24/22 | C18: EXP 2608456H | DGTDAJ | Ampliación discos almacenamiento | D18: JUSTICIA | E18: 46275.999 | F18: 586776.86 | H18: Desestimado | K18: =IF($E18="","",INT($E18)) -> 46275 | L18: =IF($K18="","",COUNTIF($K$3:$K18,$K18)) -> 6 | M18: =IF($K18="","",$K18*100+$L18) -> 4627506 | N18: =IF($H18="Desestimado",COUNTIF($H$3:$H18,"Desestimado"),"") -> 12
A19: 14 | B19: SDA25/22 | C19: EXP 2026/SP03032007/00000399E | SDGCONTIC | Lic. TITUS | D19: SDGCONTIC | E19: 46275.999 | F19: 240000 | H19: Desestimado | K19: =IF($E19="","",INT($E19)) -> 46275 | L19: =IF($K19="","",COUNTIF($K$3:$K19,$K19)) -> 7 | M19: =IF($K19="","",$K19*100+$L19) -> 4627507 | N19: =IF($H19="Desestimado",COUNTIF($H$3:$H19,"Desestimado"),"") -> 13
A20: 15 | B20: SDA24/22 | C20: EXP 2603736C | DGTDAJ | Renovacion Exadata | D20: JUSTICIA | E20: 46275.999 | F20: 8103777.4 | H20: Desestimado | K20: =IF($E20="","",INT($E20)) -> 46275 | L20: =IF($K20="","",COUNTIF($K$3:$K20,$K20)) -> 8 | M20: =IF($K20="","",$K20*100+$L20) -> 4627508 | N20: =IF($H20="Desestimado",COUNTIF($H$3:$H20,"Desestimado"),"") -> 14
A21: 16 | B21: SDA24/22 | C21: 2026/AR40U/00002787 M14078 | MDE | Renov. Electrónica de Red | 13/09/2026 | D21: ARMADA | E21: 46278.999 | F21: 276217.4 | H21: Desestimado | K21: =IF($E21="","",INT($E21)) -> 46278 | L21: =IF($K21="","",COUNTIF($K$3:$K21,$K21)) -> 1 | M21: =IF($K21="","",$K21*100+$L21) -> 4627801 | N21: =IF($H21="Desestimado",COUNTIF($H$3:$H21,"Desestimado"),"") -> 15
A22: 17 | B22: SDA24/22 | C22: 2026/AR40U/00002787 M14078 | MDE | Renov. Electrónica de Red | D22: JAL ARMADA | E22: 46278.999 | F22: 276217.4 | H22: Desestimado | K22: =IF($E22="","",INT($E22)) -> 46278 | L22: =IF($K22="","",COUNTIF($K$3:$K22,$K22)) -> 2 | M22: =IF($K22="","",$K22*100+$L22) -> 4627802 | N22: =IF($H22="Desestimado",COUNTIF($H$3:$H22,"Desestimado"),"") -> 16
... A27: 22 | B27: SDA25/22 | C27: EXP MPR20260170 | MPR | Lic. Autodesk | D27: M. PRESIDENCIA | E27: 46279.999 | F27: 61183.85 | H27: Desestimado | K27: =IF($E27="","",INT($E27)) -> 46279 | L27: =IF($K27="","",COUNTIF($K$3:$K27,$K27)) -> 5 | M27: =IF($K27="","",$K27*100+$L27) -> 4627905 | N27: =IF($H27="Desestimado",COUNTIF($H$3:$H27,"Desestimado"),"") -> 21
A28: 23 | B28: Abierto | C28: Exp. 20260000175I - MITECO - 14-sep-2026 | D28: MITECO | E28: 46279.999 | F28: 40663.99 | G28: 20260.22 | H28: Presentado | I28: URL Contratacion | J28: 26003796 | K28: =IF($E28="","",INT($E28)) -> 46279 | L28: =IF($K28="","",COUNTIF($K$3:$K28,$K28)) -> 6 | M28: =IF($K28="","",$K28*100+$L28) -> 4627906 | N28: =IF($H28="Desestimado",COUNTIF($H$3:$H28,"Desestimado"),"")
A29: 24 | B29: SDA24/22 | C29: EXP 582026014191 | INTA | Cableado y Sist. Red | D29: INTA | E29: 46280.458 | F29: 453800 | H29: Desestimado | K29: =IF($E29="","",INT($E29)) -> 46280 | L29: =IF($K29="","",COUNTIF($K$3:$K29,$K29)) -> 1 | M29: =IF($K29="","",$K29*100+$L29) -> 4628001 | N29: =IF($H29="Desestimado",COUNTIF($H$3:$H29,"Desestimado"),"") -> 22
A30: 25 | B30: SDA25/22 | C30: EXP 2026/SP02002001/00001580E Adquisicion de licencias software de ciberseguridad | D30: EMAD - MCCE | E30: 46280.542 | F30: 21188.9 | H30: Desestimado | K30: =IF($E30="","",INT($E30)) -> 46280 | L30: =IF($K30="","",COUNTIF($K$3:$K30,$K30)) -> 2 | M30: =IF($K30="","",$K30*100+$L30) -> 4628002 | N30: =IF($H30="Desestimado",COUNTIF($H$3:$H30,"Desestimado"),"") -> 23
A31: 26 | B31: SDA24/22 | C31: EXP 582026063991 | INTA | Servidores Ampl. Almacenamiento | D31: INTA | E31: 46281.458 | F31: 6379637.8 | H31: Desestimado | K31: =IF($E31="","",INT($E31)) -> 46281 | L31: =IF($K31="","",COUNTIF($K$3:$K31,$K31)) -> 1 | M31: =IF($K31="","",$K31*100+$L31) -> 4628101 | N31: =IF($H31="Desestimado",COUNTIF($H$3:$H31,"Desestimado"),"") -> 24
A32: 27 | B32: SDA24/22 | C32: EXP 00PG20260113 | MPR | Renov. Plataforma Backup | D32: PRESIDENCIA | E32: 46282.999 | F32: 358729.61 | H32: Desestimado | K32: =IF($E32="","",INT($E32)) -> 46282 | L32: =IF($K32="","",COUNTIF($K$3:$K32,$K32)) -> 1 | M32: =IF($K32="","",$K32*100+$L32) -> 4628201 | N32: =IF($H32="Desestimado",COUNTIF($H$3:$H32,"Desestimado"),"") -> 25
A33: 28 | B33: SDA25/22 | C33: EXP 2607828B, 2607828G | DGTDAJ | Renv. monitorización red | D33: JUSTICIA | E33: 46282.999 | F33: 496115.3 | H33: Desestimado | K33: =IF($E33="","",INT($E33)) -> 46282 | L33: =IF($K33="","",COUNTIF($K$3:$K33,$K33)) -> 2 | M33: =IF($K33="","",$K33*100+$L33) -> 4628202 | N33: =IF($H33="Desestimado",COUNTIF($H$3:$H33,"Desestimado"),"") -> 26
A34: 29 | B34: Abierto | C34: EXP 2026/AR43U/00002195E - Suministro de terminales móviles con fundas y acoples | D34: ARMADA* | E34: 46283.375 | F34: 33057.85 | G34: 26192.26 | H34: Presentado | I34: URL Contratación | J34: 26003928 | K34: =IF($E34="","",INT($E34)) -> 46283 | L34: =IF($K34="","",COUNTIF($K$3:$K34,$K34)) -> 1 | M34: =IF($K34="","",$K34*100+$L34) -> 4628301 | N34: =IF($H34="Desestimado",COUNTIF($H$3:$H34,"Desestimado"),"")
A35: 30 | B35: SDA25/22 | C35: EXP 0MPR20260171 | MPR | Network/Security Devices Subscription Renewal | D35: M. PRESIDENCIA | E35: 46283.999 | F35: 49000 | H35: Desestimado | K35: =IF($E35="","",INT($E35)) -> 46283 | L35: =IF($K35="","",COUNTIF($K$3:$K35,$K35)) -> 2 | M35: =IF($K35="","",$K35*100+$L35) -> 4628302 | N35: =IF($H35="Desestimado",COUNTIF($H$3:$H35,"Desestimado"),"") -> 27
A36: 31 | B36: SDA24/22 | C36: EXP. 2026/ETSAE0906/00002579 | JAEMALE | Equipos Comunicaciones | D36: JAEMALE | E36: 46285.917 | F36: 54635.76 | H36: Desestimado | K36: =IF($E36="","",INT($E36)) -> 46285 | L36: =IF($K36="","",COUNTIF($K$3:$K36,$K36)) -> 1 | M36: =IF($K36="","",$K36*100+$L36) -> 4628501 | N36: =IF($H36="Desestimado",COUNTIF($H$3:$H36,"Desestimado"),"") -> 28
A37: 32 | B37: Abierto | C37: Exp 56/2026 - ENISA - Contratación de servicios de ciberseguridad y SOC de la Empresa Nacional de Innovación, S.M.E., S.A. | D37: ENISA | E37: 46286.333 | F37: 246000 | H37: Desestimado | I37: URL Contratación | K37: =IF($E37="","",INT($E37)) -> 46286 | L37: =IF($K37="","",COUNTIF($K$3:$K37,$K37)) -> 1 | M37: =IF($K37="","",$K37*100+$L37) -> 4628601 | N37: =IF($H37="Desestimado",COUNTIF($H$3:$H37,"Desestimado"),"") -> 29
A38: 33 | B38: SDA25/22 | C38: EXP 2603638B | DGTDAJ | Renv. VMWARE | D38: JUSTICIA | E38: 46286.999 | F38: 11995504 | H38: Desestimado | K38: =IF($E38="","",INT($E38)) -> 46286 | L38: =IF($K38="","",COUNTIF($K$3:$K38,$K38)) -> 2 | M38: =IF($K38="","",$K38*100+$L38) -> 4628602 | N38: =IF($H38="Desestimado",COUNTIF($H$3:$H38,"Desestimado"),"") -> 30
A39: 34 | B39: SDA25/22 | C39: EXP 2026/SP03032007/00000580E | SDGCONTIC - MINDEF | WMS ChartServer Navy | D39: SDGCONTIC | E39: 46286.999 | F39: 38000 | H39: Desestimado | K39: =IF($E39="","",INT($E39)) -> 46286 | L39: =IF($K39="","",COUNTIF($K$3:$K39,$K39)) -> 3 | M39: =IF($K39="","",$K39*100+$L39) -> 4628603 | N39: =IF($H39="Desestimado",COUNTIF($H$3:$H39,"Desestimado"),"") -> 31
A40: 35 | B40: SDA25/22 | C40: EXP 2026/SP03032007/00000572E | SDGCONTIC - MINDEF | isEazy S.L. | D40: SDGCONTIC | E40: 46286.999 | F40: 187227.04 | H40: Desestimado | K40: =IF($E40="","",INT($E40)) -> 46286 | L40: =IF($K40="","",COUNTIF($K$3:$K40,$K40)) -> 4 | M40: =IF($K40="","",$K40*100+$L40) -> 4628604 | N40: =IF($H40="Desestimado",COUNTIF($H$3:$H40,"Desestimado"),"") -> 32
A41: 36 | B41: Abierto | C41: EXP. 2026/ETSAE0904/00000631E - JCISAT - Adquisición de licencias COMMVAULT copias de seguridad | D41: SAECO-JCISAT* | E41: 46287.417 | F41: 14960 | G41: 14660 | H41: Presentado | I41: URL Contratación | J41: 26003907 | K41: =IF($E41="","",INT($E41)) -> 46287 | L41: =IF($K41="","",COUNTIF($K$3:$K41,$K41)) -> 1 | M41: =IF($K41="","",$K41*100+$L41) -> 4628701 | N41: =IF($H41="Desestimado",COUNTIF($H$3:$H41,"Desestimado"),"")
A42: 37 | B42: SDA24/22 | C42: EXP 2026/ETSAE0038/00003779E | MDE | Sist. Videoconferencia | D42: ESPOL - MDE TIERRA | E42: 46287.583 | F42: 293399.43 | H42: Desestimado | K42: =IF($E42="","",INT($E42)) -> 46287 | L42: =IF($K42="","",COUNTIF($K$3:$K42,$K42)) -> 2 | M42: =IF($K42="","",$K42*100+$L42) -> 4628702 | N42: =IF($H42="Desestimado",COUNTIF($H$3:$H42,"Desestimado"),"") -> 33
A43: 38 | B43: SDA24/22 | C43: EXP 2026/SP03038000/00002646E | UME | Ampl. Sist. Hiperconvergencia | D43: UME | E43: 46287.999 | F43: 2302970.9 | G43: 1993412.8 | H43: Presentado | J43: 26001569 | K43: =IF($E43="","",INT($E43)) -> 46287 | L43: =IF($K43="","",COUNTIF($K$3:$K43,$K43)) -> 3 | M43: =IF($K43="","",$K43*100+$L43) -> 4628703 | N43: =IF($H43="Desestimado",COUNTIF($H$3:$H43,"Desestimado"),"")
A44: 39 | B44: SDA24/22 | C44: SDA24 2026/ETSAE0906/00003610E | JAEMALE | Servidores Portátiles | 29/09/2026 | D44: JAEMALE | E44: 46289.396 | F44: 5749340.4 | H44: Desestimado | K44: =IF($E44="","",INT($E44)) -> 46289 | L44: =IF($K44="","",COUNTIF($K$3:$K44,$K44)) -> 1 | M44: =IF($K44="","",$K44*100+$L44) -> 4628901 | N44: =IF($H44="Desestimado",COUNTIF($H$3:$H44,"Desestimado"),"") -> 34
...

Sheet Desestimados
A1: PROYECTOS DESESTIMADOS (AUTOMÁTICO) | L1: Se rellena sola con los proyectos de 'Proyectos' cuyo Estado sea Desestimado. No escribir aquí: editar en 'Proyectos'.
A2: Nº | B2: Tipo | C2: Proyecto | D2: Cliente | E2: Fecha Max. | F2: Importe máximo de licitación (€) | G2: Importe ofertado (€) | H2: Estado | I2: Info adicional | J2: SGCOL
A3: =IFERROR(IF(INDEX(Proyectos!A$3:A$299,MATCH(ROWS($A$3:$A3),Proyectos!$N$3:$N$299,0))="","",INDEX(Proyectos!A$3:A$299,MATCH(ROWS($A$3:$A3),Proyectos!$N$3:$N$299,0))),"") -> 0 | B3: =IFERROR(IF(INDEX(Proyectos!B$3:B$299,MATCH(ROWS($A$3:$A3),Proyectos!$N$3:$N$299,0))="","",INDEX(Proyectos!B$3:B$299,MATCH(ROWS($A$3:$A3),Proyectos!$N$3:$N$299,0))),"") -> SDA24/22 | C3: =IFERROR(IF(INDEX(Proyectos!C$3:C$299,MATCH(ROWS($A$3:$A3),Proyectos!$N$3:$N$299,0))="","",INDEX(Proyectos!C$3:C$299,MATCH(ROWS($A$3:$A3),Proyectos!$N$3:$N$299,0))),"") -> EXP 2026/ETSAE0904/00000537E | JCISAT | Adq equipos comunicaciones | D3: =IFERROR(IF(INDEX(Proyectos!D$3:D$299,MATCH(ROWS($A$3:$A3),Proyectos!$N$3:$N$299,0))="","",INDEX(Proyectos!D$3:D$299,MATCH(ROWS($A$3:$A3),Proyectos!$N$3:$N$299,0))),"") -> JCISAT | E3: =IFERROR(IF(INDEX(Proyectos!E$3:E$299,MATCH(ROWS($A$3:$A3),Proyectos!$N$3:$N$299,0))="","",INDEX(Proyectos!E$3:E$299,MATCH(ROWS($A$3:$A3),Proyectos!$N$3:$N$299,0))),"") -> 46269.521 | F3: =IFERROR(IF(INDEX(Proyectos!F$3:F$299,MATCH(ROWS($A$3:$A3),Proyectos!$N$3:$N$299,0))="","",INDEX(Proyectos!F$3:F$299,MATCH(ROWS($A$3:$A3),Proyectos!$N$3:$N$299,0))),"") -> 471.074,37 € | G3: =IFERROR(IF(INDEX(Proyectos!G$3:G$299,MATCH(ROWS($A$3:$A3),Proyectos!$N$3:$N$299,0))="","",INDEX(Proyectos!G$3:G$299,MATCH(ROWS($A$3:$A3),Proyectos!$N$3:$N$299,0))),"") | H3: =IFERROR(IF(INDEX(Proyectos!H$3:H$299,MATCH(ROWS($A$3:$A3),Proyectos!$N$3:$N$299,0))="","",INDEX(Proyectos!H$3:H$299,MATCH(ROWS($A$3:$A3),Proyectos!$N$3:$N$299,0))),"") -> Desestimado | ... J3: =IFERROR(IF(INDEX(Proyectos!J$3:J$299,MATCH(ROWS($A$3:$A3),Proyectos!$N$3:$N$299,0))="","",INDEX(Proyectos!J$3:J$299,MATCH(ROWS($A$3:$A3),Proyectos!$N$3:$N$299,0))),"")
A4: =IFERROR(IF(INDEX(Proyectos!A$3:A$299,MATCH(ROWS($A$3:$A4),Proyectos!$N$3:$N$299,0))="","",INDEX(Proyectos!A$3:A$299,MATCH(ROWS($A$3:$A4),Proyectos!$N$3:$N$299,0))),"") -> 2 | B4: =IFERROR(IF(INDEX(Proyectos!B$3:B$299,MATCH(ROWS($A$3:$A4),Proyectos!$N$3:$N$299,0))="","",INDEX(Proyectos!B$3:B$299,MATCH(ROWS($A$3:$A4),Proyectos!$N$3:$N$299,0))),"") -> SDA24/22 | C4: =IFERROR(IF(INDEX(Proyectos!C$3:C$299,MATCH(ROWS($A$3:$A4),Proyectos!$N$3:$N$299,0))="","",INDEX(Proyectos!C$3:C$299,MATCH(ROWS($A$3:$A4),Proyectos!$N$3:$N$299,0))),"") -> EXP 2026/SP02002001/00001401E | MDE | Sum equip y licencias CIFAS | D4: =IFERROR(IF(INDEX(Proyectos!D$3:D$299,MATCH(ROWS($A$3:$A4),Proyectos!$N$3:$N$299,0))="","",INDEX(Proyectos!D$3:D$299,MATCH(ROWS($A$3:$A4),Proyectos!$N$3:$N$299,0))),"") -> CIFAS | E4: =IFERROR(IF(INDEX(Proyectos!E$3:E$299,MATCH(ROWS($A$3:$A4),Proyectos!$N$3:$N$299,0))="","",INDEX(Proyectos!E$3:E$299,MATCH(ROWS($A$3:$A4),Proyectos!$N$3:$N$299,0))),"") -> 46272.542 | F4: =IFERROR(IF(INDEX(Proyectos!F$3:F$299,MATCH(ROWS($A$3:$A4),Proyectos!$N$3:$N$299,0))="","",INDEX(Proyectos!F$3:F$299,MATCH(ROWS($A$3:$A4),Proyectos!$N$3:$N$299,0))),"") -> 1190082.6 | G4: =IFERROR(IF(INDEX(Proyectos!G$3:G$299,MATCH(ROWS($A$3:$A4),Proyectos!$N$3:$N$299,0))="","",INDEX(Proyectos!G$3:G$299,MATCH(ROWS($A$3:$A4),Proyectos!$N$3:$N$299,0))),"") | H4: =IFERROR(IF(INDEX(Proyectos!H$3:H$299,MATCH(ROWS($A$3:$A4),Proyectos!$N$3:$N$299,0))="","",INDEX(Proyectos!H$3:H$299,MATCH(ROWS($A$3:$A4),Proyectos!$N$3:$N$299,0))),"") -> Desestimado | ... J4: =IFERROR(IF(INDEX(Proyectos!J$3:J$299,MATCH(ROWS($A$3:$A4),Proyectos!$N$3:$N$299,0))="","",INDEX(Proyectos!J$3:J$299,MATCH(ROWS($A$3:$A4),Proyectos!$N$3:$N$299,0))),"")
A5: =IFERROR(IF(INDEX(Proyectos!A$3:A$299,MATCH(ROWS($A$3:$A5),Proyectos!$N$3:$N$299,0))="","",INDEX(Proyectos!A$3:A$299,MATCH(ROWS($A$3:$A5),Proyectos!$N$3:$N$299,0))),"") -> 3 | B5: =IFERROR(IF(INDEX(Proyectos!B$3:B$299,MATCH(ROWS($A$3:$A5),Proyectos!$N$3:$N$299,0))="","",INDEX(Proyectos!B$3:B$299,MATCH(ROWS($A$3:$A5),Proyectos!$N$3:$N$299,0))),"") -> SDA24/22 | C5: =IFERROR(IF(INDEX(Proyectos!C$3:C$299,MATCH(ROWS($A$3:$A5),Proyectos!$N$3:$N$299,0))="","",INDEX(Proyectos!C$3:C$299,MATCH(ROWS($A$3:$A5),Proyectos!$N$3:$N$299,0))),"") -> EXP 2026/SP03032007/00000458E | SG TIC | Sum Disp Opticos y Prot de Tráfico | D5: =IFERROR(IF(INDEX(Proyectos!D$3:D$299,MATCH(ROWS($A$3:$A5),Proyectos!$N$3:$N$299,0))="","",INDEX(Proyectos!D$3:D$299,MATCH(ROWS($A$3:$A5),Proyectos!$N$3:$N$299,0))),"") -> CESTIC | E5: =IFERROR(IF(INDEX(Proyectos!E$3:E$299,MATCH(ROWS($A$3:$A5),Proyectos!$N$3:$N$299,0))="","",INDEX(Proyectos!E$3:E$299,MATCH(ROWS($A$3:$A5),Proyectos!$N$3:$N$299,0))),"") -> 46272.999 | F5: =IFERROR(IF(INDEX(Proyectos!F$3:F$299,MATCH(ROWS($A$3:$A5),Proyectos!$N$3:$N$299,0))="","",INDEX(Proyectos!F$3:F$299,MATCH(ROWS($A$3:$A5),Proyectos!$N$3:$N$299,0))),"") -> 193642.62 | G5: =IFERROR(IF(INDEX(Proyectos!G$3:G$299,MATCH(ROWS($A$3:$A5),Proyectos!$N$3:$N$299,0))="","",INDEX(Proyectos!G$3:G$299,MATCH(ROWS($A$3:$A5),Proyectos!$N$3:$N$299,0))),"") | H5: =IFERROR(IF(INDEX(Proyectos!H$3:H$299,MATCH(ROWS($A$3:$A5),Proyectos!$N$3:$N$299,0))="","",INDEX(Proyectos!H$3:H$299,MATCH(ROWS($A$3:$A5),Proyectos!$N$3:$N$299,0))),"") -> Desestimado | ... J5: =IFERROR(IF(INDEX(Proyectos!J$3:J$299,MATCH(ROWS($A$3:$A5),Proyectos!$N$3:$N$299,0))="","",INDEX(Proyectos!J$3:J$299,MATCH(ROWS($A$3:$A5),Proyectos!$N$3:$N$299,0))),"")
A6: =IFERROR(IF(INDEX(Proyectos!A$3:A$299,MATCH(ROWS($A$3:$A6),Proyectos!$N$3:$N$299,0))="","",INDEX(Proyectos!A$3:A$299,MATCH(ROWS($A$3:$A6),Proyectos!$N$3:$N$299,0))),"") -> 4 | B6: =IFERROR(IF(INDEX(Proyectos!B$3:B$299,MATCH(ROWS($A$3:$A6),Proyectos!$N$3:$N$299,0))="","",INDEX(Proyectos!B$3:B$299,MATCH(ROWS($A$3:$A6),Proyectos!$N$3:$N$299,0))),"") -> SDA24/22 | C6: =IFERROR(IF(INDEX(Proyectos!C$3:C$299,MATCH(ROWS($A$3:$A6),Proyectos!$N$3:$N$299,0))="","",INDEX(Proyectos!C$3:C$299,MATCH(ROWS($A$3:$A6),Proyectos!$N$3:$N$299,0))),"") -> EXP 2026/SP03032007/00000460E | SG TIC | Renovación anillo fibra MDE | D6: =IFERROR(IF(INDEX(Proyectos!D$3:D$299,MATCH(ROWS($A$3:$A6),Proyectos!$N$3:$N$299,0))="","",INDEX(Proyectos!D$3:D$299,MATCH(ROWS($A$3:$A6),Proyectos!$N$3:$N$299,0))),"") -> CESTIC-DINFRATEL | E6: =IFERROR(IF(INDEX(Proyectos!E$3:E$299,MATCH(ROWS($A$3:$A6),Proyectos!$N$3:$N$299,0))="","",INDEX(Proyectos!E$3:E$299,MATCH(ROWS($A$3:$A6),Proyectos!$N$3:$N$299,0))),"") -> 46272.999 | F6: =IFERROR(IF(INDEX(Proyectos!F$3:F$299,MATCH(ROWS($A$3:$A6),Proyectos!$N$3:$N$299,0))="","",INDEX(Proyectos!F$3:F$299,MATCH(ROWS($A$3:$A6),Proyectos!$N$3:$N$299,0))),"") -> 76.046,10 € | G6: =IFERROR(IF(INDEX(Proyectos!G$3:G$299,MATCH(ROWS($A$3:$A6),Proyectos!$N$3:$N$299,0))="","",INDEX(Proyectos!G$3:G$299,MATCH(ROWS($A$3:$A6),Proyectos!$N$3:$N$299,0))),"") | H6: =IFERROR(IF(INDEX(Proyectos!H$3:H$299,MATCH(ROWS($A$3:$A6),Proyectos!$N$3:$N$299,0))="","",INDEX(Proyectos!H$3:H$299,MATCH(ROWS($A$3:$A6),Proyectos!$N$3:$N$299,0))),"") -> Desestimado | ... J6: =IFERROR(IF(INDEX(Proyectos!J$3:J$299,MATCH(ROWS($A$3:$A6),Proyectos!$N$3:$N$299,0))="","",INDEX(Proyectos!J$3:J$299,MATCH(ROWS($A$3:$A6),Proyectos!$N$3:$N$299,0))),"")
A7: =IFERROR(IF(INDEX(Proyectos!A$3:A$299,MATCH(ROWS($A$3:$A7),Proyectos!$N$3:$N$299,0))="","",INDEX(Proyectos!A$3:A$299,MATCH(ROWS($A$3:$A7),Proyectos!$N$3:$N$299,0))),"") -> 6 | B7: =IFERROR(IF(INDEX(Proyectos!B$3:B$299,MATCH(ROWS($A$3:$A7),Proyectos!$N$3:$N$299,0))="","",INDEX(Proyectos!B$3:B$299,MATCH(ROWS($A$3:$A7),Proyectos!$N$3:$N$299,0))),"") -> SDA24/22 | C7: =IFERROR(IF(INDEX(Proyectos!C$3:C$299,MATCH(ROWS($A$3:$A7),Proyectos!$N$3:$N$299,0))="","",INDEX(Proyectos!C$3:C$299,MATCH(ROWS($A$3:$A7),Proyectos!$N$3:$N$299,0))),"") -> EXP 2026/SP03032007/00000451E | MDE | Ampliación cabina almacenamiento | D7: =IFERROR(IF(INDEX(Proyectos!D$3:D$299,MATCH(ROWS($A$3:$A7),Proyectos!$N$3:$N$299,0))="","",INDEX(Proyectos!D$3:D$299,MATCH(ROWS($A$3:$A7),Proyectos!$N$3:$N$299,0))),"") -> CESTIC | E7: =IFERROR(IF(INDEX(Proyectos!E$3:E$299,MATCH(ROWS($A$3:$A7),Proyectos!$N$3:$N$299,0))="","",INDEX(Proyectos!E$3:E$299,MATCH(ROWS($A$3:$A7),Proyectos!$N$3:$N$299,0))),"") -> 46272.999 | F7: =IFERROR(IF(INDEX(Proyectos!F$3:F$299,MATCH(ROWS($A$3:$A7),Proyectos!$N$3:$N$299,0))="","",INDEX(Proyectos!F$3:F$299,MATCH(ROWS($A$3:$A7),Proyectos!$N$3:$N$299,0))),"") -> 360000 | G7: =IFERROR(IF(INDEX(Proyectos!G$3:G$299,MATCH(ROWS($A$3:$A7),Proyectos!$N$3:$N$299,0))="","",INDEX(Proyectos!G$3:G$299,MATCH(ROWS($A$3:$A7),Proyectos!$N$3:$N$299,0))),"") | H7: =IFERROR(IF(INDEX(Proyectos!H$3:H$299,MATCH(ROWS($A$3:$A7),Proyectos!$N$3:$N$299,0))="","",INDEX(Proyectos!H$3:H$299,MATCH(ROWS($A$3:$A7),Proyectos!$N$3:$N$299,0))),"") -> Desestimado | ... J7: =IFERROR(IF(INDEX(Proyectos!J$3:J$299,MATCH(ROWS($A$3:$A7),Proyectos!$N$3:$N$299,0))="","",INDEX(Proyectos!J$3:J$299,MATCH(ROWS($A$3:$A7),Proyectos!$N$3:$N$299,0))),"")
A8: =IFERROR(IF(INDEX(Proyectos!A$3:A$299,MATCH(ROWS($A$3:$A8),Proyectos!$N$3:$N$299,0))="","",INDEX(Proyectos!A$3:A$299,MATCH(ROWS($A$3:$A8),Proyectos!$N$3:$N$299,0))),"") -> 7 | B8: =IFERROR(IF(INDEX(Proyectos!B$3:B$299,MATCH(ROWS($A$3:$A8),Proyectos!$N$3:$N$299,0))="","",INDEX(Proyectos!B$3:B$299,MATCH(ROWS($A$3:$A8),Proyectos!$N$3:$N$299,0))),"") -> SDA24/22 | C8: =IFERROR(IF(INDEX(Proyectos!C$3:C$299,MATCH(ROWS($A$3:$A8),Proyectos!$N$3:$N$299,0))="","",INDEX(Proyectos!C$3:C$299,MATCH(ROWS($A$3:$A8),Proyectos!$N$3:$N$299,0))),"") -> EXP 2026/SP02002001/00001395E | MDE | Sum equip almacenamiento y transmisión video | D8: =IFERROR(IF(INDEX(Proyectos!D$3:D$299,MATCH(ROWS($A$3:$A8),Proyectos!$N$3:$N$299,0))="","",INDEX(Proyectos!D$3:D$299,MATCH(ROWS($A$3:$A8),Proyectos!$N$3:$N$299,0))),"") -> CIFAS | E8: =IFERROR(IF(INDEX(Proyectos!E$3:E$299,MATCH(ROWS($A$3:$A8),Proyectos!$N$3:$N$299,0))="","",INDEX(Proyectos!E$3:E$299,MATCH(ROWS($A$3:$A8),Proyectos!$N$3:$N$299,0))),"") -> 46274.542 | F8: =IFERROR(IF(INDEX(Proyectos!F$3:F$299,MATCH(ROWS($A$3:$A8),Proyectos!$N$3:$N$299,0))="","",INDEX(Proyectos!F$3:F$299,MATCH(ROWS($A$3:$A8),Proyectos!$N$3:$N$299,0))),"") -> 5286313.2 | G8: =IFERROR(IF(INDEX(Proyectos!G$3:G$299,MATCH(ROWS($A$3:$A8),Proyectos!$N$3:$N$299,0))="","",INDEX(Proyectos!G$3:G$299,MATCH(ROWS($A$3:$A8),Proyectos!$N$3:$N$299,0))),"") | H8: =IFERROR(IF(INDEX(Proyectos!H$3:H$299,MATCH(ROWS($A$3:$A8),Proyectos!$N$3:$N$299,0))="","",INDEX(Proyectos!H$3:H$299,MATCH(ROWS($A$3:$A8),Proyectos!$N$3:$N$299,0))),"") -> Desestimado | ... J8: =IFERROR(IF(INDEX(Proyectos!J$3:J$299,MATCH(ROWS($A$3:$A8),Proyectos!$N$3:$N$299,0))="","",INDEX(Proyectos!J$3:J$299,MATCH(ROWS($A$3:$A8),Proyectos!$N$3:$N$299,0))),"")
A9: =IFERROR(IF(INDEX(Proyectos!A$3:A$299,MATCH(ROWS($A$3:$A9),Proyectos!$N$3:$N$299,0))="","",INDEX(Proyectos!A$3:A$299,MATCH(ROWS($A$3:$A9),Proyectos!$N$3:$N$299,0))),"") -> 8 | B9: =IFERROR(IF(INDEX(Proyectos!B$3:B$299,MATCH(ROWS($A$3:$A9),Proyectos!$N$3:$N$299,0))="","",INDEX(Proyectos!B$3:B$299,MATCH(ROWS($A$3:$A9),Proyectos!$N$3:$N$299,0))),"") -> SDA24/22 | C9: =IFERROR(IF(INDEX(Proyectos!C$3:C$299,MATCH(ROWS($A$3:$A9),Proyectos!$N$3:$N$299,0))="","",INDEX(Proyectos!C$3:C$299,MATCH(ROWS($A$3:$A9),Proyectos!$N$3:$N$299,0))),"") -> EXP 2026/SP02002001/00001477E | EMAD | Electrónica de Red | D9: =IFERROR(IF(INDEX(Proyectos!D$3:D$299,MATCH(ROWS($A$3:$A9),Proyectos!$N$3:$N$299,0))="","",INDEX(Proyectos!D$3:D$299,MATCH(ROWS($A$3:$A9),Proyectos!$N$3:$N$299,0))),"") -> EMAD - MCCE | E9: =IFERROR(IF(INDEX(Proyectos!E$3:E$299,MATCH(ROWS($A$3:$A9),Proyectos!$N$3:$N$299,0))="","",INDEX(Proyectos!E$3:E$299,MATCH(ROWS($A$3:$A9),Proyectos!$N$3:$N$299,0))),"") -> 46275.542 | F9: =IFERROR(IF(INDEX(Proyectos!F$3:F$299,MATCH(ROWS($A$3:$A9),Proyectos!$N$3:$N$299,0))="","",INDEX(Proyectos!F$3:F$299,MATCH(ROWS($A$3:$A9),Proyectos!$N$3:$N$299,0))),"") -> 1735319.1 | G9: =IFERROR(IF(INDEX(Proyectos!G$3:G$299,MATCH(ROWS($A$3:$A9),Proyectos!$N$3:$N$299,0))="","",INDEX(Proyectos!G$3:G$299,MATCH(ROWS($A$3:$A9),Proyectos!$N$3:$N$299,0))),"") | H9: =IFERROR(IF(INDEX(Proyectos!H$3:H$299,MATCH(ROWS($A$3:$A9),Proyectos!$N$3:$N$299,0))="","",INDEX(Proyectos!H$3:H$299,MATCH(ROWS($A$3:$A9),Proyectos!$N$3:$N$299,0))),"") -> Desestimado | ... J9: =IFERROR(IF(INDEX(Proyectos!J$3:J$299,MATCH(ROWS($A$3:$A9),Proyectos!$N$3:$N$299,0))="","",INDEX(Proyectos!J$3:J$299,MATCH(ROWS($A$3:$A9),Proyectos!$N$3:$N$299,0))),"")
A10: =IFERROR(IF(INDEX(Proyectos!A$3:A$299,MATCH(ROWS($A$3:$A10),Proyectos!$N$3:$N$299,0))="","",INDEX(Proyectos!A$3:A$299,MATCH(ROWS($A$3:$A10),Proyectos!$N$3:$N$299,0))),"") -> 9 | B10: =IFERROR(IF(INDEX(Proyectos!B$3:B$299,MATCH(ROWS($A$3:$A10),Proyectos!$N$3:$N$299,0))="","",INDEX(Proyectos!B$3:B$299,MATCH(ROWS($A$3:$A10),Proyectos!$N$3:$N$299,0))),"") -> SDA24/22 | C10: =IFERROR(IF(INDEX(Proyectos!C$3:C$299,MATCH(ROWS($A$3:$A10),Proyectos!$N$3:$N$299,0))="","",INDEX(Proyectos!C$3:C$299,MATCH(ROWS($A$3:$A10),Proyectos!$N$3:$N$299,0))),"") -> EXP 2026/SP02002001/00001518E | EMAD | Electrónica de Red | D10: =IFERROR(IF(INDEX(Proyectos!D$3:D$299,MATCH(ROWS($A$3:$A10),Proyectos!$N$3:$N$299,0))="","",INDEX(Proyectos!D$3:D$299,MATCH(ROWS($A$3:$A10),Proyectos!$N$3:$N$299,0))),"") -> EMAD - MCCE | E10: =IFERROR(IF(INDEX(Proyectos!E$3:E$299,MATCH(ROWS($A$3:$A10),Proyectos!$N$3:$N$299,0))="","",INDEX(Proyectos!E$3:E$299,MATCH(ROWS($A$3:$A10),Proyectos!$N$3:$N$299,0))),"") -> 46275.542 | F10: =IFERROR(IF(INDEX(Proyectos!F$3:F$299,MATCH(ROWS($A$3:$A10),Proyectos!$N$3:$N$299,0))="","",INDEX(Proyectos!F$3:F$299,MATCH(ROWS($A$3:$A10),Proyectos!$N$3:$N$299,0))),"") -> 1237823.1 | G10: =IFERROR(IF(INDEX(Proyectos!G$3:G$299,MATCH(ROWS($A$3:$A10),Proyectos!$N$3:$N$299,0))="","",INDEX(Proyectos!G$3:G$299,MATCH(ROWS($A$3:$A10),Proyectos!$N$3:$N$299,0))),"") | H10: =IFERROR(IF(INDEX(Proyectos!H$3:H$299,MATCH(ROWS($A$3:$A10),Proyectos!$N$3:$N$299,0))="","",INDEX(Proyectos!H$3:H$299,MATCH(ROWS($A$3:$A10),Proyectos!$N$3:$N$299,0))),"") -> Desestimado | ... J10: =IFERROR(IF(INDEX(Proyectos!J$3:J$299,MATCH(ROWS($A$3:$A10),Proyectos!$N$3:$N$299,0))="","",INDEX(Proyectos!J$3:J$299,MATCH(ROWS($A$3:$A10),Proyectos!$N$3:$N$299,0))),"")
A11: =IFERROR(IF(INDEX(Proyectos!A$3:A$299,MATCH(ROWS($A$3:$A11),Proyectos!$N$3:$N$299,0))="","",INDEX(Proyectos!A$3:A$299,MATCH(ROWS($A$3:$A11),Proyectos!$N$3:$N$299,0))),"") -> 10 | B11: =IFERROR(IF(INDEX(Proyectos!B$3:B$299,MATCH(ROWS($A$3:$A11),Proyectos!$N$3:$N$299,0))="","",INDEX(Proyectos!B$3:B$299,MATCH(ROWS($A$3:$A11),Proyectos!$N$3:$N$299,0))),"") -> SDA25/22 | C11: =IFERROR(IF(INDEX(Proyectos!C$3:C$299,MATCH(ROWS($A$3:$A11),Proyectos!$N$3:$N$299,0))="","",INDEX(Proyectos!C$3:C$299,MATCH(ROWS($A$3:$A11),Proyectos!$N$3:$N$299,0))),"") -> EXP 2026/SP02002001/00001530E | EMAD - MINDEF | SW Productividad y colaboración | D11: =IFERROR(IF(INDEX(Proyectos!D$3:D$299,MATCH(ROWS($A$3:$A11),Proyectos!$N$3:$N$299,0))="","",INDEX(Proyectos!D$3:D$299,MATCH(ROWS($A$3:$A11),Proyectos!$N$3:$N$299,0))),"") -> EMAD | E11: =IFERROR(IF(INDEX(Proyectos!E$3:E$299,MATCH(ROWS($A$3:$A11),Proyectos!$N$3:$N$299,0))="","",INDEX(Proyectos!E$3:E$299,MATCH(ROWS($A$3:$A11),Proyectos!$N$3:$N$299,0))),"") -> 46275.542 | F11: =IFERROR(IF(INDEX(Proyectos!F$3:F$299,MATCH(ROWS($A$3:$A11),Proyectos!$N$3:$N$299,0))="","",INDEX(Proyectos!F$3:F$299,MATCH(ROWS($A$3:$A11),Proyectos!$N$3:$N$299,0))),"") -> 164565.79 | G11: =IFERROR(IF(INDEX(Proyectos!G$3:G$299,MATCH(ROWS($A$3:$A11),Proyectos!$N$3:$N$299,0))="","",INDEX(Proyectos!G$3:G$299,MATCH(ROWS($A$3:$A11),Proyectos!$N$3:$N$299,0))),"") | H11: =IFERROR(IF(INDEX(Proyectos!H$3:H$299,MATCH(ROWS($A$3:$A11),Proyectos!$N$3:$N$299,0))="","",INDEX(Proyectos!H$3:H$299,MATCH(ROWS($A$3:$A11),Proyectos!$N$3:$N$299,0))),"") -> Desestimado | ... J11: =IFERROR(IF(INDEX(Proyectos!J$3:J$299,MATCH(ROWS($A$3:$A11),Proyectos!$N$3:$N$299,0))="","",INDEX(Proyectos!J$3:J$299,MATCH(ROWS($A$3:$A11),Proyectos!$N$3:$N$299,0))),"")
A12: =IFERROR(IF(INDEX(Proyectos!A$3:A$299,MATCH(ROWS($A$3:$A12),Proyectos!$N$3:$N$299,0))="","",INDEX(Proyectos!A$3:A$299,MATCH(ROWS($A$3:$A12),Proyectos!$N$3:$N$299,0))),"") -> 11 | B12: =IFERROR(IF(INDEX(Proyectos!B$3:B$299,MATCH(ROWS($A$3:$A12),Proyectos!$N$3:$N$299,0))="","",INDEX(Proyectos!B$3:B$299,MATCH(ROWS($A$3:$A12),Proyectos!$N$3:$N$299,0))),"") -> SDA24/22 | C12: =IFERROR(IF(INDEX(Proyectos!C$3:C$299,MATCH(ROWS($A$3:$A12),Proyectos!$N$3:$N$299,0))="","",INDEX(Proyectos!C$3:C$299,MATCH(ROWS($A$3:$A12),Proyectos!$N$3:$N$299,0))),"") -> EXP 2607926F | DGTDAJ | Equipamiento Videoconferencia | D12: =IFERROR(IF(INDEX(Proyectos!D$3:D$299,MATCH(ROWS($A$3:$A12),Proyectos!$N$3:$N$299,0))="","",INDEX(Proyectos!D$3:D$299,MATCH(ROWS($A$3:$A12),Proyectos!$N$3:$N$299,0))),"") -> JUSTICIA | E12: =IFERROR(IF(INDEX(Proyectos!E$3:E$299,MATCH(ROWS($A$3:$A12),Proyectos!$N$3:$N$299,0))="","",INDEX(Proyectos!E$3:E$299,MATCH(ROWS($A$3:$A12),Proyectos!$N$3:$N$299,0))),"") -> 46275.999 | F12: =IFERROR(IF(INDEX(Proyectos!F$3:F$299,MATCH(ROWS($A$3:$A12),Proyectos!$N$3:$N$299,0))="","",INDEX(Proyectos!F$3:F$299,MATCH(ROWS($A$3:$A12),Proyectos!$N$3:$N$299,0))),"") -> 294637.5 | G12: =IFERROR(IF(INDEX(Proyectos!G$3:G$299,MATCH(ROWS($A$3:$A12),Proyectos!$N$3:$N$299,0))="","",INDEX(Proyectos!G$3:G$299,MATCH(ROWS($A$3:$A12),Proyectos!$N$3:$N$299,0))),"") | H12: =IFERROR(IF(INDEX(Proyectos!H$3:H$299,MATCH(ROWS($A$3:$A12),Proyectos!$N$3:$N$299,0))="","",INDEX(Proyectos!H$3:H$299,MATCH(ROWS($A$3:$A12),Proyectos!$N$3:$N$299,0))),"") -> Desestimado | ... J12: =IFERROR(IF(INDEX(Proyectos!J$3:J$299,MATCH(ROWS($A$3:$A12),Proyectos!$N$3:$N$299,0))="","",INDEX(Proyectos!J$3:J$299,MATCH(ROWS($A$3:$A12),Proyectos!$N$3:$N$299,0))),"")
A13: =IFERROR(IF(INDEX(Proyectos!A$3:A$299,MATCH(ROWS($A$3:$A13),Proyectos!$N$3:$N$299,0))="","",INDEX(Proyectos!A$3:A$299,MATCH(ROWS($A$3:$A13),Proyectos!$N$3:$N$299,0))),"") -> 12 | B13: =IFERROR(IF(INDEX(Proyectos!B$3:B$299,MATCH(ROWS($A$3:$A13),Proyectos!$N$3:$N$299,0))="","",INDEX(Proyectos!B$3:B$299,MATCH(ROWS($A$3:$A13),Proyectos!$N$3:$N$299,0))),"") -> SDA25/22 | C13: =IFERROR(IF(INDEX(Proyectos!C$3:C$299,MATCH(ROWS($A$3:$A13),Proyectos!$N$3:$N$299,0))="","",INDEX(Proyectos!C$3:C$299,MATCH(ROWS($A$3:$A13),Proyectos!$N$3:$N$299,0))),"") -> EXP 2607728B, 2607728G | DGTDAJ | Solución Videoconferencia | D13: =IFERROR(IF(INDEX(Proyectos!D$3:D$299,MATCH(ROWS($A$3:$A13),Proyectos!$N$3:$N$299,0))="","",INDEX(Proyectos!D$3:D$299,MATCH(ROWS($A$3:$A13),Proyectos!$N$3:$N$299,0))),"") -> JUSTICIA | E13: =IFERROR(IF(INDEX(Proyectos!E$3:E$299,MATCH(ROWS($A$3:$A13),Proyectos!$N$3:$N$299,0))="","",INDEX(Proyectos!E$3:E$299,MATCH(ROWS($A$3:$A13),Proyectos!$N$3:$N$299,0))),"") -> 46275.999 | F13: =IFERROR(IF(INDEX(Proyectos!F$3:F$299,MATCH(ROWS($A$3:$A13),Proyectos!$N$3:$N$299,0))="","",INDEX(Proyectos!F$3:F$299,MATCH(ROWS($A$3:$A13),Proyectos!$N$3:$N$299,0))),"") -> 2005603.9 | G13: =IFERROR(IF(INDEX(Proyectos!G$3:G$299,MATCH(ROWS($A$3:$A13),Proyectos!$N$3:$N$299,0))="","",INDEX(Proyectos!G$3:G$299,MATCH(ROWS($A$3:$A13),Proyectos!$N$3:$N$299,0))),"") | H13: =IFERROR(IF(INDEX(Proyectos!H$3:H$299,MATCH(ROWS($A$3:$A13),Proyectos!$N$3:$N$299,0))="","",INDEX(Proyectos!H$3:H$299,MATCH(ROWS($A$3:$A13),Proyectos!$N$3:$N$299,0))),"") -> Desestimado | ... J13: =IFERROR(IF(INDEX(Proyectos!J$3:J$299,MATCH(ROWS($A$3:$A13),Proyectos!$N$3:$N$299,0))="","",INDEX(Proyectos!J$3:J$299,MATCH(ROWS($A$3:$A13),Proyectos!$N$3:$N$299,0))),"")
A14: =IFERROR(IF(INDEX(Proyectos!A$3:A$299,MATCH(ROWS($A$3:$A14),Proyectos!$N$3:$N$299,0))="","",INDEX(Proyectos!A$3:A$299,MATCH(ROWS($A$3:$A14),Proyectos!$N$3:$N$299,0))),"") -> 13 | B14: =IFERROR(IF(INDEX(Proyectos!B$3:B$299,MATCH(ROWS($A$3:$A14),Proyectos!$N$3:$N$299,0))="","",INDEX(Proyectos!B$3:B$299,MATCH(ROWS($A$3:$A14),Proyectos!$N$3:$N$299,0))),"") -> SDA24/22 | C14: =IFERROR(IF(INDEX(Proyectos!C$3:C$299,MATCH(ROWS($A$3:$A14),Proyectos!$N$3:$N$299,0))="","",INDEX(Proyectos!C$3:C$299,MATCH(ROWS($A$3:$A14),Proyectos!$N$3:$N$299,0))),"") -> EXP 2608456H | DGTDAJ | Ampliación discos almacenamiento | D14: =IFERROR(IF(INDEX(Proyectos!D$3:D$299,MATCH(ROWS($A$3:$A14),Proyectos!$N$3:$N$299,0))="","",INDEX(Proyectos!D$3:D$299,MATCH(ROWS($A$3:$A14),Proyectos!$N$3:$N$299,0))),"") -> JUSTICIA | E14: =IFERROR(IF(INDEX(Proyectos!E$3:E$299,MATCH(ROWS($A$3:$A14),Proyectos!$N$3:$N$299,0))="","",INDEX(Proyectos!E$3:E$299,MATCH(ROWS($A$3:$A14),Proyectos!$N$3:$N$299,0))),"") -> 46275.999 | F14: =IFERROR(IF(INDEX(Proyectos!F$3:F$299,MATCH(ROWS($A$3:$A14),Proyectos!$N$3:$N$299,0))="","",INDEX(Proyectos!F$3:F$299,MATCH(ROWS($A$3:$A14),Proyectos!$N$3:$N$299,0))),"") -> 586776.86 | G14: =IFERROR(IF(INDEX(Proyectos!G$3:G$299,MATCH(ROWS($A$3:$A14),Proyectos!$N$3:$N$299,0))="","",INDEX(Proyectos!G$3:G$299,MATCH(ROWS($A$3:$A14),Proyectos!$N$3:$N$299,0))),"") | H14: =IFERROR(IF(INDEX(Proyectos!H$3:H$299,MATCH(ROWS($A$3:$A14),Proyectos!$N$3:$N$299,0))="","",INDEX(Proyectos!H$3:H$299,MATCH(ROWS($A$3:$A14),Proyectos!$N$3:$N$299,0))),"") -> Desestimado | ... J14: =IFERROR(IF(INDEX(Proyectos!J$3:J$299,MATCH(ROWS($A$3:$A14),Proyectos!$N$3:$N$299,0))="","",INDEX(Proyectos!J$3:J$299,MATCH(ROWS($A$3:$A14),Proyectos!$N$3:$N$299,0))),"")
... A299: =IFERROR(IF(INDEX(Proyectos!A$3:A$299,MATCH(ROWS($A$3:$A299),Proyectos!$N$3:$N$299,0))="","",INDEX(Proyectos!A$3:A$299,MATCH(ROWS($A$3:$A299),Proyectos!$N$3:$N$299,0))),"") | B299: =IFERROR(IF(INDEX(Proyectos!B$3:B$299,MATCH(ROWS($A$3:$A299),Proyectos!$N$3:$N$299,0))="","",INDEX(Proyectos!B$3:B$299,MATCH(ROWS($A$3:$A299),Proyectos!$N$3:$N$299,0))),"") | C299: =IFERROR(IF(INDEX(Proyectos!C$3:C$299,MATCH(ROWS($A$3:$A299),Proyectos!$N$3:$N$299,0))="","",INDEX(Proyectos!C$3:C$299,MATCH(ROWS($A$3:$A299),Proyectos!$N$3:$N$299,0))),"") | D299: =IFERROR(IF(INDEX(Proyectos!D$3:D$299,MATCH(ROWS($A$3:$A299),Proyectos!$N$3:$N$299,0))="","",INDEX(Proyectos!D$3:D$299,MATCH(ROWS($A$3:$A299),Proyectos!$N$3:$N$299,0))),"") | E299: =IFERROR(IF(INDEX(Proyectos!E$3:E$299,MATCH(ROWS($A$3:$A299),Proyectos!$N$3:$N$299,0))="","",INDEX(Proyectos!E$3:E$299,MATCH(ROWS($A$3:$A299),Proyectos!$N$3:$N$299,0))),"") | F299: =IFERROR(IF(INDEX(Proyectos!F$3:F$299,MATCH(ROWS($A$3:$A299),Proyectos!$N$3:$N$299,0))="","",INDEX(Proyectos!F$3:F$299,MATCH(ROWS($A$3:$A299),Proyectos!$N$3:$N$299,0))),"") | G299: =IFERROR(IF(INDEX(Proyectos!G$3:G$299,MATCH(ROWS($A$3:$A299),Proyectos!$N$3:$N$299,0))="","",INDEX(Proyectos!G$3:G$299,MATCH(ROWS($A$3:$A299),Proyectos!$N$3:$N$299,0))),"") | H299: =IFERROR(IF(INDEX(Proyectos!H$3:H$299,MATCH(ROWS($A$3:$A299),Proyectos!$N$3:$N$299,0))="","",INDEX(Proyectos!H$3:H$299,MATCH(ROWS($A$3:$A299),Proyectos!$N$3:$N$299,0))),"") | ... J299: =IFERROR(IF(INDEX(Proyectos!J$3:J$299,MATCH(ROWS($A$3:$A299),Proyectos!$N$3:$N$299,0))="","",INDEX(Proyectos!J$3:J$299,MATCH(ROWS($A$3:$A299),Proyectos!$N$3:$N$299,0))),"")

Sheet Calendario
A1: CALENDARIO DE PROYECTOS CLUSTER DEFENSA (AUTOMÁTICO)
A2: Se actualiza solo: en cuanto añadas o edites un proyecto en 'Proyectos', aparecerá aquí en su Fecha Máx. Admite hasta 8 proyectos con la misma Fecha Máx.
A4: Leyenda de estados:
A5: En elaboración | B5: Presentado | C5: Pendiente | D5: Ganada | E5: Perdida | F5: Desestimado
A7: JULIO 2026
A8: LUN | B8: MAR | C8: MIÉ | D8: JUE | E8: VIE | F8: SÁB | G8: DOM
C9: 46204 | D9: 46205 | E9: 46206 | F9: 46207 | G9: 46208
C10: =IFERROR("#"&INDEX(Proyectos!$A$3:$A$299,MATCH(C9*100+1,Proyectos!$M$3:$M$299,0))&" · "&INDEX(Proyectos!$D$3:$D$299,MATCH(C9*100+1,Proyectos!$M$3:$M$299,0)),"") | D10: =IFERROR("#"&INDEX(Proyectos!$A$3:$A$299,MATCH(D9*100+1,Proyectos!$M$3:$M$299,0))&" · "&INDEX(Proyectos!$D$3:$D$299,MATCH(D9*100+1,Proyectos!$M$3:$M$299,0)),"") | E10: =IFERROR("#"&INDEX(Proyectos!$A$3:$A$299,MATCH(E9*100+1,Proyectos!$M$3:$M$299,0))&" · "&INDEX(Proyectos!$D$3:$D$299,MATCH(E9*100+1,Proyectos!$M$3:$M$299,0)),"") | F10: =IFERROR("#"&INDEX(Proyectos!$A$3:$A$299,MATCH(F9*100+1,Proyectos!$M$3:$M$299,0))&" · "&INDEX(Proyectos!$D$3:$D$299,MATCH(F9*100+1,Proyectos!$M$3:$M$299,0)),"") | G10: =IFERROR("#"&INDEX(Proyectos!$A$3:$A$299,MATCH(G9*100+1,Proyectos!$M$3:$M$299,0))&" · "&INDEX(Proyectos!$D$3:$D$299,MATCH(G9*100+1,Proyectos!$M$3:$M$299,0)),"") | K10: =IFERROR(INDEX(Proyectos!$H$3:$H$299,MATCH(C9*100+1,Proyectos!$M$3:$M$299,0)),"") | L10: =IFERROR(INDEX(Proyectos!$H$3:$H$299,MATCH(D9*100+1,Proyectos!$M$3:$M$299,0)),"") | M10: =IFERROR(INDEX(Proyectos!$H$3:$H$299,MATCH(E9*100+1,Proyectos!$M$3:$M$299,0)),"") | N10: =IFERROR(INDEX(Proyectos!$H$3:$H$299,MATCH(F9*100+1,Proyectos!$M$3:$M$299,0)),"") | O10: =IFERROR(INDEX(Proyectos!$H$3:$H$299,MATCH(G9*100+1,Proyectos!$M$3:$M$299,0)),"")
C11: =IFERROR("#"&INDEX(Proyectos!$A$3:$A$299,MATCH(C9*100+2,Proyectos!$M$3:$M$299,0))&" · "&INDEX(Proyectos!$D$3:$D$299,MATCH(C9*100+2,Proyectos!$M$3:$M$299,0)),"") | D11: =IFERROR("#"&INDEX(Proyectos!$A$3:$A$299,MATCH(D9*100+2,Proyectos!$M$3:$M$299,0))&" · "&INDEX(Proyectos!$D$3:$D$299,MATCH(D9*100+2,Proyectos!$M$3:$M$299,0)),"") | E11: =IFERROR("#"&INDEX(Proyectos!$A$3:$A$299,MATCH(E9*100+2,Proyectos!$M$3:$M$299,0))&" · "&INDEX(Proyectos!$D$3:$D$299,MATCH(E9*100+2,Proyectos!$M$3:$M$299,0)),"") | F11: =IFERROR("#"&INDEX(Proyectos!$A$3:$A$299,MATCH(F9*100+2,Proyectos!$M$3:$M$299,0))&" · "&INDEX(Proyectos!$D$3:$D$299,MATCH(F9*100+2,Proyectos!$M$3:$M$299,0)),"") | G11: =IFERROR("#"&INDEX(Proyectos!$A$3:$A$299,MATCH(G9*100+2,Proyectos!$M$3:$M$299,0))&" · "&INDEX(Proyectos!$D$3:$D$299,MATCH(G9*100+2,Proyectos!$M$3:$M$299,0)),"") | K11: =IFERROR(INDEX(Proyectos!$H$3:$H$299,MATCH(C9*100+2,Proyectos!$M$3:$M$299,0)),"") | L11: =IFERROR(INDEX(Proyectos!$H$3:$H$299,MATCH(D9*100+2,Proyectos!$M$3:$M$299,0)),"") | M11: =IFERROR(INDEX(Proyectos!$H$3:$H$299,MATCH(E9*100+2,Proyectos!$M$3:$M$299,0)),"") | N11: =IFERROR(INDEX(Proyectos!$H$3:$H$299,MATCH(F9*100+2,Proyectos!$M$3:$M$299,0)),"") | O11: =IFERROR(INDEX(Proyectos!$H$3:$H$299,MATCH(G9*100+2,Proyectos!$M$3:$M$299,0)),"")
C12: =IFERROR("#"&INDEX(Proyectos!$A$3:$A$299,MATCH(C9*100+3,Proyectos!$M$3:$M$299,0))&" · "&INDEX(Proyectos!$D$3:$D$299,MATCH(C9*100+3,Proyectos!$M$3:$M$299,0)),"") | D12: =IFERROR("#"&INDEX(Proyectos!$A$3:$A$299,MATCH(D9*100+3,Proyectos!$M$3:$M$299,0))&" · "&INDEX(Proyectos!$D$3:$D$299,MATCH(D9*100+3,Proyectos!$M$3:$M$299,0)),"") | E12: =IFERROR("#"&INDEX(Proyectos!$A$3:$A$299,MATCH(E9*100+3,Proyectos!$M$3:$M$299,0))&" · "&INDEX(Proyectos!$D$3:$D$299,MATCH(E9*100+3,Proyectos!$M$3:$M$299,0)),"") | F12: =IFERROR("#"&INDEX(Proyectos!$A$3:$A$299,MATCH(F9*100+3,Proyectos!$M$3:$M$299,0))&" · "&INDEX(Proyectos!$D$3:$D$299,MATCH(F9*100+3,Proyectos!$M$3:$M$299,0)),"") | G12: =IFERROR("#"&INDEX(Proyectos!$A$3:$A$299,MATCH(G9*100+3,Proyectos!$M$3:$M$299,0))&" · "&INDEX(Proyectos!$D$3:$D$299,MATCH(G9*100+3,Proyectos!$M$3:$M$299,0)),"") | K12: =IFERROR(INDEX(Proyectos!$H$3:$H$299,MATCH(C9*100+3,Proyectos!$M$3:$M$299,0)),"") | L12: =IFERROR(INDEX(Proyectos!$H$3:$H$299,MATCH(D9*100+3,Proyectos!$M$3:$M$299,0)),"") | M12: =IFERROR(INDEX(Proyectos!$H$3:$H$299,MATCH(E9*100+3,Proyectos!$M$3:$M$299,0)),"") | N12: =IFERROR(INDEX(Proyectos!$H$3:$H$299,MATCH(F9*100+3,Proyectos!$M$3:$M$299,0)),"") | O12: =IFERROR(INDEX(Proyectos!$H$3:$H$299,MATCH(G9*100+3,Proyectos!$M$3:$M$299,0)),"")
C13: =IFERROR("#"&INDEX(Proyectos!$A$3:$A$299,MATCH(C9*100+4,Proyectos!$M$3:$M$299,0))&" · "&INDEX(Proyectos!$D$3:$D$299,MATCH(C9*100+4,Proyectos!$M$3:$M$299,0)),"") | D13: =IFERROR("#"&INDEX(Proyectos!$A$3:$A$299,MATCH(D9*100+4,Proyectos!$M$3:$M$299,0))&" · "&INDEX(Proyectos!$D$3:$D$299,MATCH(D9*100+4,Proyectos!$M$3:$M$299,0)),"") | E13: =IFERROR("#"&INDEX(Proyectos!$A$3:$A$299,MATCH(E9*100+4,Proyectos!$M$3:$M$299,0))&" · "&INDEX(Proyectos!$D$3:$D$299,MATCH(E9*100+4,Proyectos!$M$3:$M$299,0)),"") | F13: =IFERROR("#"&INDEX(Proyectos!$A$3:$A$299,MATCH(F9*100+4,Proyectos!$M$3:$M$299,0))&" · "&INDEX(Proyectos!$D$3:$D$299,MATCH(F9*100+4,Proyectos!$M$3:$M$299,0)),"") | G13: =IFERROR("#"&INDEX(Proyectos!$A$3:$A$299,MATCH(G9*100+4,Proyectos!$M$3:$M$299,0))&" · "&INDEX(Proyectos!$D$3:$D$299,MATCH(G9*100+4,Proyectos!$M$3:$M$299,0)),"") | K13: =IFERROR(INDEX(Proyectos!$H$3:$H$299,MATCH(C9*100+4,Proyectos!$M$3:$M$299,0)),"") | L13: =IFERROR(INDEX(Proyectos!$H$3:$H$299,MATCH(D9*100+4,Proyectos!$M$3:$M$299,0)),"") | M13: =IFERROR(INDEX(Proyectos!$H$3:$H$299,MATCH(E9*100+4,Proyectos!$M$3:$M$299,0)),"") | N13: =IFERROR(INDEX(Proyectos!$H$3:$H$299,MATCH(F9*100+4,Proyectos!$M$3:$M$299,0)),"") | O13: =IFERROR(INDEX(Proyectos!$H$3:$H$299,MATCH(G9*100+4,Proyectos!$M$3:$M$299,0)),"")
C14: =IFERROR("#"&INDEX(Proyectos!$A$3:$A$299,MATCH(C9*100+5,Proyectos!$M$3:$M$299,0))&" · "&INDEX(Proyectos!$D$3:$D$299,MATCH(C9*100+5,Proyectos!$M$3:$M$299,0)),"") | D14: =IFERROR("#"&INDEX(Proyectos!$A$3:$A$299,MATCH(D9*100+5,Proyectos!$M$3:$M$299,0))&" · "&INDEX(Proyectos!$D$3:$D$299,MATCH(D9*100+5,Proyectos!$M$3:$M$299,0)),"") | E14: =IFERROR("#"&INDEX(Proyectos!$A$3:$A$299,MATCH(E9*100+5,Proyectos!$M$3:$M$299,0))&" · "&INDEX(Proyectos!$D$3:$D$299,MATCH(E9*100+5,Proyectos!$M$3:$M$299,0)),"") | F14: =IFERROR("#"&INDEX(Proyectos!$A$3:$A$299,MATCH(F9*100+5,Proyectos!$M$3:$M$299,0))&" · "&INDEX(Proyectos!$D$3:$D$299,MATCH(F9*100+5,Proyectos!$M$3:$M$299,0)),"") | G14: =IFERROR("#"&INDEX(Proyectos!$A$3:$A$299,MATCH(G9*100+5,Proyectos!$M$3:$M$299,0))&" · "&INDEX(Proyectos!$D$3:$D$299,MATCH(G9*100+5,Proyectos!$M$3:$M$299,0)),"") | K14: =IFERROR(INDEX(Proyectos!$H$3:$H$299,MATCH(C9*100+5,Proyectos!$M$3:$M$299,0)),"") | L14: =IFERROR(INDEX(Proyectos!$H$3:$H$299,MATCH(D9*100+5,Proyectos!$M$3:$M$299,0)),"") | M14: =IFERROR(INDEX(Proyectos!$H$3:$H$299,MATCH(E9*100+5,Proyectos!$M$3:$M$299,0)),"") | N14: =IFERROR(INDEX(Proyectos!$H$3:$H$299,MATCH(F9*100+5,Proyectos!$M$3:$M$299,0)),"") | O14: =IFERROR(INDEX(Proyectos!$H$3:$H$299,MATCH(G9*100+5,Proyectos!$M$3:$M$299,0)),"")
C15: =IFERROR("#"&INDEX(Proyectos!$A$3:$A$299,MATCH(C9*100+6,Proyectos!$M$3:$M$299,0))&" · "&INDEX(Proyectos!$D$3:$D$299,MATCH(C9*100+6,Proyectos!$M$3:$M$299,0)),"") | D15: =IFERROR("#"&INDEX(Proyectos!$A$3:$A$299,MATCH(D9*100+6,Proyectos!$M$3:$M$299,0))&" · "&INDEX(Proyectos!$D$3:$D$299,MATCH(D9*100+6,Proyectos!$M$3:$M$299,0)),"") | E15: =IFERROR("#"&INDEX(Proyectos!$A$3:$A$299,MATCH(E9*100+6,Proyectos!$M$3:$M$299,0))&" · "&INDEX(Proyectos!$D$3:$D$299,MATCH(E9*100+6,Proyectos!$M$3:$M$299,0)),"") | F15: =IFERROR("#"&INDEX(Proyectos!$A$3:$A$299,MATCH(F9*100+6,Proyectos!$M$3:$M$299,0))&" · "&INDEX(Proyectos!$D$3:$D$299,MATCH(F9*100+6,Proyectos!$M$3:$M$299,0)),"") | G15: =IFERROR("#"&INDEX(Proyectos!$A$3:$A$299,MATCH(G9*100+6,Proyectos!$M$3:$M$299,0))&" · "&INDEX(Proyectos!$D$3:$D$299,MATCH(G9*100+6,Proyectos!$M$3:$M$299,0)),"") | K15: =IFERROR(INDEX(Proyectos!$H$3:$H$299,MATCH(C9*100+6,Proyectos!$M$3:$M$299,0)),"") | L15: =IFERROR(INDEX(Proyectos!$H$3:$H$299,MATCH(D9*100+6,Proyectos!$M$3:$M$299,0)),"") | M15: =IFERROR(INDEX(Proyectos!$H$3:$H$299,MATCH(E9*100+6,Proyectos!$M$3:$M$299,0)),"") | N15: =IFERROR(INDEX(Proyectos!$H$3:$H$299,MATCH(F9*100+6,Proyectos!$M$3:$M$299,0)),"") | O15: =IFERROR(INDEX(Proyectos!$H$3:$H$299,MATCH(G9*100+6,Proyectos!$M$3:$M$299,0)),"")
C16: =IFERROR("#"&INDEX(Proyectos!$A$3:$A$299,MATCH(C9*100+7,Proyectos!$M$3:$M$299,0))&" · "&INDEX(Proyectos!$D$3:$D$299,MATCH(C9*100+7,Proyectos!$M$3:$M$299,0)),"") | D16: =IFERROR("#"&INDEX(Proyectos!$A$3:$A$299,MATCH(D9*100+7,Proyectos!$M$3:$M$299,0))&" · "&INDEX(Proyectos!$D$3:$D$299,MATCH(D9*100+7,Proyectos!$M$3:$M$299,0)),"") | E16: =IFERROR("#"&INDEX(Proyectos!$A$3:$A$299,MATCH(E9*100+7,Proyectos!$M$3:$M$299,0))&" · "&INDEX(Proyectos!$D$3:$D$299,MATCH(E9*100+7,Proyectos!$M$3:$M$299,0)),"") | F16: =IFERROR("#"&INDEX(Proyectos!$A$3:$A$299,MATCH(F9*100+7,Proyectos!$M$3:$M$299,0))&" · "&INDEX(Proyectos!$D$3:$D$299,MATCH(F9*100+7,Proyectos!$M$3:$M$299,0)),"") | G16: =IFERROR("#"&INDEX(Proyectos!$A$3:$A$299,MATCH(G9*100+7,Proyectos!$M$3:$M$299,0))&" · "&INDEX(Proyectos!$D$3:$D$299,MATCH(G9*100+7,Proyectos!$M$3:$M$299,0)),"") | K16: =IFERROR(INDEX(Proyectos!$H$3:$H$299,MATCH(C9*100+7,Proyectos!$M$3:$M$299,0)),"") | L16: =IFERROR(INDEX(Proyectos!$H$3:$H$299,MATCH(D9*100+7,Proyectos!$M$3:$M$299,0)),"") | M16: =IFERROR(INDEX(Proyectos!$H$3:$H$299,MATCH(E9*100+7,Proyectos!$M$3:$M$299,0)),"") | N16: =IFERROR(INDEX(Proyectos!$H$3:$H$299,MATCH(F9*100+7,Proyectos!$M$3:$M$299,0)),"") | O16: =IFERROR(INDEX(Proyectos!$H$3:$H$299,MATCH(G9*100+7,Proyectos!$M$3:$M$299,0)),"")
C17: =IFERROR("#"&INDEX(Proyectos!$A$3:$A$299,MATCH(C9*100+8,Proyectos!$M$3:$M$299,0))&" · "&INDEX(Proyectos!$D$3:$D$299,MATCH(C9*100+8,Proyectos!$M$3:$M$299,0)),"") | D17: =IFERROR("#"&INDEX(Proyectos!$A$3:$A$299,MATCH(D9*100+8,Proyectos!$M$3:$M$299,0))&" · "&INDEX(Proyectos!$D$3:$D$299,MATCH(D9*100+8,Proyectos!$M$3:$M$299,0)),"") | E17: =IFERROR("#"&INDEX(Proyectos!$A$3:$A$299,MATCH(E9*100+8,Proyectos!$M$3:$M$299,0))&" · "&INDEX(Proyectos!$D$3:$D$299,MATCH(E9*100+8,Proyectos!$M$3:$M$299,0)),"") | F17: =IFERROR("#"&INDEX(Proyectos!$A$3:$A$299,MATCH(F9*100+8,Proyectos!$M$3:$M$299,0))&" · "&INDEX(Proyectos!$D$3:$D$299,MATCH(F9*100+8,Proyectos!$M$3:$M$299,0)),"") | G17: =IFERROR("#"&INDEX(Proyectos!$A$3:$A$299,MATCH(G9*100+8,Proyectos!$M$3:$M$299,0))&" · "&INDEX(Proyectos!$D$3:$D$299,MATCH(G9*100+8,Proyectos!$M$3:$M$299,0)),"") | K17: =IFERROR(INDEX(Proyectos!$H$3:$H$299,MATCH(C9*100+8,Proyectos!$M$3:$M$299,0)),"") | L17: =IFERROR(INDEX(Proyectos!$H$3:$H$299,MATCH(D9*100+8,Proyectos!$M$3:$M$299,0)),"") | M17: =IFERROR(INDEX(Proyectos!$H$3:$H$299,MATCH(E9*100+8,Proyectos!$M$3:$M$299,0)),"") | N17: =IFERROR(INDEX(Proyectos!$H$3:$H$299,MATCH(F9*100+8,Proyectos!$M$3:$M$299,0)),"") | O17: =IFERROR(INDEX(Proyectos!$H$3:$H$299,MATCH(G9*100+8,Proyectos!$M$3:$M$299,0)),"")
A18: 46209 | B18: 46210 | C18: 46211 | D18: 46212 | E18: 46213 | F18: 46214 | G18: 46215
A19: =IFERROR("#"&INDEX(Proyectos!$A$3:$A$299,MATCH(A18*100+1,Proyectos!$M$3:$M$299,0))&" · "&INDEX(Proyectos!$D$3:$D$299,MATCH(A18*100+1,Proyectos!$M$3:$M$299,0)),"") | B19: =IFERROR("#"&INDEX(Proyectos!$A$3:$A$299,MATCH(B18*100+1,Proyectos!$M$3:$M$299,0))&" · "&INDEX(Proyectos!$D$3:$D$299,MATCH(B18*100+1,Proyectos!$M$3:$M$299,0)),"") | C19: =IFERROR("#"&INDEX(Proyectos!$A$3:$A$299,MATCH(C18*100+1,Proyectos!$M$3:$M$299,0))&" · "&INDEX(Proyectos!$D$3:$D$299,MATCH(C18*100+1,Proyectos!$M$3:$M$299,0)),"") | D19: =IFERROR("#"&INDEX(Proyectos!$A$3:$A$299,MATCH(D18*100+1,Proyectos!$M$3:$M$299,0))&" · "&INDEX(Proyectos!$D$3:$D$299,MATCH(D18*100+1,Proyectos!$M$3:$M$299,0)),"") | E19: =IFERROR("#"&INDEX(Proyectos!$A$3:$A$299,MATCH(E18*100+1,Proyectos!$M$3:$M$299,0))&" · "&INDEX(Proyectos!$D$3:$D$299,MATCH(E18*100+1,Proyectos!$M$3:$M$299,0)),"") | F19: =IFERROR("#"&INDEX(Proyectos!$A$3:$A$299,MATCH(F18*100+1,Proyectos!$M$3:$M$299,0))&" · "&INDEX(Proyectos!$D$3:$D$299,MATCH(F18*100+1,Proyectos!$M$3:$M$299,0)),"") | G19: =IFERROR("#"&INDEX(Proyectos!$A$3:$A$299,MATCH(G18*100+1,Proyectos!$M$3:$M$299,0))&" · "&INDEX(Proyectos!$D$3:$D$299,MATCH(G18*100+1,Proyectos!$M$3:$M$299,0)),"") | I19: =IFERROR(INDEX(Proyectos!$H$3:$H$299,MATCH(A18*100+1,Proyectos!$M$3:$M$299,0)),"") | J19: =IFERROR(INDEX(Proyectos!$H$3:$H$299,MATCH(B18*100+1,Proyectos!$M$3:$M$299,0)),"") | K19: =IFERROR(INDEX(Proyectos!$H$3:$H$299,MATCH(C18*100+1,Proyectos!$M$3:$M$299,0)),"") | L19: =IFERROR(INDEX(Proyectos!$H$3:$H$299,MATCH(D18*100+1,Proyectos!$M$3:$M$299,0)),"") | M19: =IFERROR(INDEX(Proyectos!$H$3:$H$299,MATCH(E18*100+1,Proyectos!$M$3:$M$299,0)),"") | N19: =IFERROR(INDEX(Proyectos!$H$3:$H$299,MATCH(F18*100+1,Proyectos!$M$3:$M$299,0)),"") | O19: =IFERROR(INDEX(Proyectos!$H$3:$H$299,MATCH(G18*100+1,Proyectos!$M$3:$M$299,0)),"")
A20: =IFERROR("#"&INDEX(Proyectos!$A$3:$A$299,MATCH(A18*100+2,Proyectos!$M$3:$M$299,0))&" · "&INDEX(Proyectos!$D$3:$D$299,MATCH(A18*100+2,Proyectos!$M$3:$M$299,0)),"") | B20: =IFERROR("#"&INDEX(Proyectos!$A$3:$A$299,MATCH(B18*100+2,Proyectos!$M$3:$M$299,0))&" · "&INDEX(Proyectos!$D$3:$D$299,MATCH(B18*100+2,Proyectos!$M$3:$M$299,0)),"") | C20: =IFERROR("#"&INDEX(Proyectos!$A$3:$A$299,MATCH(C18*100+2,Proyectos!$M$3:$M$299,0))&" · "&INDEX(Proyectos!$D$3:$D$299,MATCH(C18*100+2,Proyectos!$M$3:$M$299,0)),"") | D20: =IFERROR("#"&INDEX(Proyectos!$A$3:$A$299,MATCH(D18*100+2,Proyectos!$M$3:$M$299,0))&" · "&INDEX(Proyectos!$D$3:$D$299,MATCH(D18*100+2,Proyectos!$M$3:$M$299,0)),"") | E20: =IFERROR("#"&INDEX(Proyectos!$A$3:$A$299,MATCH(E18*100+2,Proyectos!$M$3:$M$299,0))&" · "&INDEX(Proyectos!$D$3:$D$299,MATCH(E18*100+2,Proyectos!$M$3:$M$299,0)),"") | F20: =IFERROR("#"&INDEX(Proyectos!$A$3:$A$299,MATCH(F18*100+2,Proyectos!$M$3:$M$299,0))&" · "&INDEX(Proyectos!$D$3:$D$299,MATCH(F18*100+2,Proyectos!$M$3:$M$299,0)),"") | G20: =IFERROR("#"&INDEX(Proyectos!$A$3:$A$299,MATCH(G18*100+2,Proyectos!$M$3:$M$299,0))&" · "&INDEX(Proyectos!$D$3:$D$299,MATCH(G18*100+2,Proyectos!$M$3:$M$299,0)),"") | I20: =IFERROR(INDEX(Proyectos!$H$3:$H$299,MATCH(A18*100+2,Proyectos!$M$3:$M$299,0)),"") | J20: =IFERROR(INDEX(Proyectos!$H$3:$H$299,MATCH(B18*100+2,Proyectos!$M$3:$M$299,0)),"") | K20: =IFERROR(INDEX(Proyectos!$H$3:$H$299,MATCH(C18*100+2,Proyectos!$M$3:$M$299,0)),"") | L20: =IFERROR(INDEX(Proyectos!$H$3:$H$299,MATCH(D18*100+2,Proyectos!$M$3:$M$299,0)),"") | M20: =IFERROR(INDEX(Proyectos!$H$3:$H$299,MATCH(E18*100+2,Proyectos!$M$3:$M$299,0)),"") | N20: =IFERROR(INDEX(Proyectos!$H$3:$H$299,MATCH(F18*100+2,Proyectos!$M$3:$M$299,0)),"") | O20: =IFERROR(INDEX(Proyectos!$H$3:$H$299,MATCH(G18*100+2,Proyectos!$M$3:$M$299,0)),"")
A21: =IFERROR("#"&INDEX(Proyectos!$A$3:$A$299,MATCH(A18*100+3,Proyectos!$M$3:$M$299,0))&" · "&INDEX(Proyectos!$D$3:$D$299,MATCH(A18*100+3,Proyectos!$M$3:$M$299,0)),"") | B21: =IFERROR("#"&INDEX(Proyectos!$A$3:$A$299,MATCH(B18*100+3,Proyectos!$M$3:$M$299,0))&" · "&INDEX(Proyectos!$D$3:$D$299,MATCH(B18*100+3,Proyectos!$M$3:$M$299,0)),"") | C21: =IFERROR("#"&INDEX(Proyectos!$A$3:$A$299,MATCH(C18*100+3,Proyectos!$M$3:$M$299,0))&" · "&INDEX(Proyectos!$D$3:$D$299,MATCH(C18*100+3,Proyectos!$M$3:$M$299,0)),"") | D21: =IFERROR("#"&INDEX(Proyectos!$A$3:$A$299,MATCH(D18*100+3,Proyectos!$M$3:$M$299,0))&" · "&INDEX(Proyectos!$D$3:$D$299,MATCH(D18*100+3,Proyectos!$M$3:$M$299,0)),"") | E21: =IFERROR("#"&INDEX(Proyectos!$A$3:$A$299,MATCH(E18*100+3,Proyectos!$M$3:$M$299,0))&" · "&INDEX(Proyectos!$D$3:$D$299,MATCH(E18*100+3,Proyectos!$M$3:$M$299,0)),"") | F21: =IFERROR("#"&INDEX(Proyectos!$A$3:$A$299,MATCH(F18*100+3,Proyectos!$M$3:$M$299,0))&" · "&INDEX(Proyectos!$D$3:$D$299,MATCH(F18*100+3,Proyectos!$M$3:$M$299,0)),"") | G21: =IFERROR("#"&INDEX(Proyectos!$A$3:$A$299,MATCH(G18*100+3,Proyectos!$M$3:$M$299,0))&" · "&INDEX(Proyectos!$D$3:$D$299,MATCH(G18*100+3,Proyectos!$M$3:$M$299,0)),"") | I21: =IFERROR(INDEX(Proyectos!$H$3:$H$299,MATCH(A18*100+3,Proyectos!$M$3:$M$299,0)),"") | J21: =IFERROR(INDEX(Proyectos!$H$3:$H$299,MATCH(B18*100+3,Proyectos!$M$3:$M$299,0)),"") | K21: =IFERROR(INDEX(Proyectos!$H$3:$H$299,MATCH(C18*100+3,Proyectos!$M$3:$M$299,0)),"") | L21: =IFERROR(INDEX(Proyectos!$H$3:$H$299,MATCH(D18*100+3,Proyectos!$M$3:$M$299,0)),"") | M21: =IFERROR(INDEX(Proyectos!$H$3:$H$299,MATCH(E18*100+3,Proyectos!$M$3:$M$299,0)),"") | N21: =IFERROR(INDEX(Proyectos!$H$3:$H$299,MATCH(F18*100+3,Proyectos!$M$3:$M$299,0)),"") | O21: =IFERROR(INDEX(Proyectos!$H$3:$H$299,MATCH(G18*100+3,Proyectos!$M$3:$M$299,0)),"")
A22: =IFERROR("#"&INDEX(Proyectos!$A$3:$A$299,MATCH(A18*100+4,Proyectos!$M$3:$M$299,0))&" · "&INDEX(Proyectos!$D$3:$D$299,MATCH(A18*100+4,Proyectos!$M$3:$M$299,0)),"") | B22: =IFERROR("#"&INDEX(Proyectos!$A$3:$A$299,MATCH(B18*100+4,Proyectos!$M$3:$M$299,0))&" · "&INDEX(Proyectos!$D$3:$D$299,MATCH(B18*100+4,Proyectos!$M$3:$M$299,0)),"") | C22: =IFERROR("#"&INDEX(Proyectos!$A$3:$A$299,MATCH(C18*100+4,Proyectos!$M$3:$M$299,0))&" · "&INDEX(Proyectos!$D$3:$D$299,MATCH(C18*100+4,Proyectos!$M$3:$M$299,0)),"") | D22: =IFERROR("#"&INDEX(Proyectos!$A$3:$A$299,MATCH(D18*100+4,Proyectos!$M$3:$M$299,0))&" · "&INDEX(Proyectos!$D$3:$D$299,MATCH(D18*100+4,Proyectos!$M$3:$M$299,0)),"") | E22: =IFERROR("#"&INDEX(Proyectos!$A$3:$A$299,MATCH(E18*100+4,Proyectos!$M$3:$M$299,0))&" · "&INDEX(Proyectos!$D$3:$D$299,MATCH(E18*100+4,Proyectos!$M$3:$M$299,0)),"") | F22: =IFERROR("#"&INDEX(Proyectos!$A$3:$A$299,MATCH(F18*100+4,Proyectos!$M$3:$M$299,0))&" · "&INDEX(Proyectos!$D$3:$D$299,MATCH(F18*100+4,Proyectos!$M$3:$M$299,0)),"") | G22: =IFERROR("#"&INDEX(Proyectos!$A$3:$A$299,MATCH(G18*100+4,Proyectos!$M$3:$M$299,0))&" · "&INDEX(Proyectos!$D$3:$D$299,MATCH(G18*100+4,Proyectos!$M$3:$M$299,0)),"") | I22: =IFERROR(INDEX(Proyectos!$H$3:$H$299,MATCH(A18*100+4,Proyectos!$M$3:$M$299,0)),"") | J22: =IFERROR(INDEX(Proyectos!$H$3:$H$299,MATCH(B18*100+4,Proyectos!$M$3:$M$299,0)),"") | K22: =IFERROR(INDEX(Proyectos!$H$3:$H$299,MATCH(C18*100+4,Proyectos!$M$3:$M$299,0)),"") | L22: =IFERROR(INDEX(Proyectos!$H$3:$H$299,MATCH(D18*100+4,Proyectos!$M$3:$M$299,0)),"") | M22: =IFERROR(INDEX(Proyectos!$H$3:$H$299,MATCH(E18*100+4,Proyectos!$M$3:$M$299,0)),"") | N22: =IFERROR(INDEX(Proyectos!$H$3:$H$299,MATCH(F18*100+4,Proyectos!$M$3:$M$299,0)),"") | O22: =IFERROR(INDEX(Proyectos!$H$3:$H$299,MATCH(G18*100+4,Proyectos!$M$3:$M$299,0)),"")
A23: =IFERROR("#"&INDEX(Proyectos!$A$3:$A$299,MATCH(A18*100+5,Proyectos!$M$3:$M$299,0))&" · "&INDEX(Proyectos!$D$3:$D$299,MATCH(A18*100+5,Proyectos!$M$3:$M$299,0)),"") | B23: =IFERROR("#"&INDEX(Proyectos!$A$3:$A$299,MATCH(B18*100+5,Proyectos!$M$3:$M$299,0))&" · "&INDEX(Proyectos!$D$3:$D$299,MATCH(B18*100+5,Proyectos!$M$3:$M$299,0)),"") | C23: =IFERROR("#"&INDEX(Proyectos!$A$3:$A$299,MATCH(C18*100+5,Proyectos!$M$3:$M$299,0))&" · "&INDEX(Proyectos!$D$3:$D$299,MATCH(C18*100+5,Proyectos!$M$3:$M$299,0)),"") | D23: =IFERROR("#"&INDEX(Proyectos!$A$3:$A$299,MATCH(D18*100+5,Proyectos!$M$3:$M$299,0))&" · "&INDEX(Proyectos!$D$3:$D$299,MATCH(D18*100+5,Proyectos!$M$3:$M$299,0)),"") | E23: =IFERROR("#"&INDEX(Proyectos!$A$3:$A$299,MATCH(E18*100+5,Proyectos!$M$3:$M$299,0))&" · "&INDEX(Proyectos!$D$3:$D$299,MATCH(E18*100+5,Proyectos!$M$3:$M$299,0)),"") | F23: =IFERROR("#"&INDEX(Proyectos!$A$3:$A$299,MATCH(F18*100+5,Proyectos!$M$3:$M$299,0))&" · "&INDEX(Proyectos!$D$3:$D$299,MATCH(F18*100+5,Proyectos!$M$3:$M$299,0)),"") | G23: =IFERROR("#"&INDEX(Proyectos!$A$3:$A$299,MATCH(G18*100+5,Proyectos!$M$3:$M$299,0))&" · "&INDEX(Proyectos!$D$3:$D$299,MATCH(G18*100+5,Proyectos!$M$3:$M$299,0)),"") | I23: =IFERROR(INDEX(Proyectos!$H$3:$H$299,MATCH(A18*100+5,Proyectos!$M$3:$M$299,0)),"") | J23: =IFERROR(INDEX(Proyectos!$H$3:$H$299,MATCH(B18*100+5,Proyectos!$M$3:$M$299,0)),"") | K23: =IFERROR(INDEX(Proyectos!$H$3:$H$299,MATCH(C18*100+5,Proyectos!$M$3:$M$299,0)),"") | L23: =IFERROR(INDEX(Proyectos!$H$3:$H$299,MATCH(D18*100+5,Proyectos!$M$3:$M$299,0)),"") | M23: =IFERROR(INDEX(Proyectos!$H$3:$H$299,MATCH(E18*100+5,Proyectos!$M$3:$M$299,0)),"") | N23: =IFERROR(INDEX(Proyectos!$H$3:$H$299,MATCH(F18*100+5,Proyectos!$M$3:$M$299,0)),"") | O23: =IFERROR(INDEX(Proyectos!$H$3:$H$299,MATCH(G18*100+5,Proyectos!$M$3:$M$299,0)),"")
A24: =IFERROR("#"&INDEX(Proyectos!$A$3:$A$299,MATCH(A18*100+6,Proyectos!$M$3:$M$299,0))&" · "&INDEX(Proyectos!$D$3:$D$299,MATCH(A18*100+6,Proyectos!$M$3:$M$299,0)),"") | B24: =IFERROR("#"&INDEX(Proyectos!$A$3:$A$299,MATCH(B18*100+6,Proyectos!$M$3:$M$299,0))&" · "&INDEX(Proyectos!$D$3:$D$299,MATCH(B18*100+6,Proyectos!$M$3:$M$299,0)),"") | C24: =IFERROR("#"&INDEX(Proyectos!$A$3:$A$299,MATCH(C18*100+6,Proyectos!$M$3:$M$299,0))&" · "&INDEX(Proyectos!$D$3:$D$299,MATCH(C18*100+6,Proyectos!$M$3:$M$299,0)),"") | D24: =IFERROR("#"&INDEX(Proyectos!$A$3:$A$299,MATCH(D18*100+6,Proyectos!$M$3:$M$299,0))&" · "&INDEX(Proyectos!$D$3:$D$299,MATCH(D18*100+6,Proyectos!$M$3:$M$299,0)),"") | E24: =IFERROR("#"&INDEX(Proyectos!$A$3:$A$299,MATCH(E18*100+6,Proyectos!$M$3:$M$299,0))&" · "&INDEX(Proyectos!$D$3:$D$299,MATCH(E18*100+6,Proyectos!$M$3:$M$299,0)),"") | F24: =IFERROR("#"&INDEX(Proyectos!$A$3:$A$299,MATCH(F18*100+6,Proyectos!$M$3:$M$299,0))&" · "&INDEX(Proyectos!$D$3:$D$299,MATCH(F18*100+6,Proyectos!$M$3:$M$299,0)),"") | G24: =IFERROR("#"&INDEX(Proyectos!$A$3:$A$299,MATCH(G18*100+6,Proyectos!$M$3:$M$299,0))&" · "&INDEX(Proyectos!$D$3:$D$299,MATCH(G18*100+6,Proyectos!$M$3:$M$299,0)),"") | I24: =IFERROR(INDEX(Proyectos!$H$3:$H$299,MATCH(A18*100+6,Proyectos!$M$3:$M$299,0)),"") | J24: =IFERROR(INDEX(Proyectos!$H$3:$H$299,MATCH(B18*100+6,Proyectos!$M$3:$M$299,0)),"") | K24: =IFERROR(INDEX(Proyectos!$H$3:$H$299,MATCH(C18*100+6,Proyectos!$M$3:$M$299,0)),"") | L24: =IFERROR(INDEX(Proyectos!$H$3:$H$299,MATCH(D18*100+6,Proyectos!$M$3:$M$299,0)),"") | M24: =IFERROR(INDEX(Proyectos!$H$3:$H$299,MATCH(E18*100+6,Proyectos!$M$3:$M$299,0)),"") | N24: =IFERROR(INDEX(Proyectos!$H$3:$H$299,MATCH(F18*100+6,Proyectos!$M$3:$M$299,0)),"") | O24: =IFERROR(INDEX(Proyectos!$H$3:$H$299,MATCH(G18*100+6,Proyectos!$M$3:$M$299,0)),"")
